| Back to Multiple platform build/check report for BioC 3.13 | 
 | 
This page was generated on 2021-10-15 15:06:09 -0400 (Fri, 15 Oct 2021).
| To the developers/maintainers of the lapmix package: - Please allow up to 24 hours (and sometimes 48 hours) for your latest push to git@git.bioconductor.org:packages/lapmix.git to reflect on this report. See How and When does the builder pull? When will my changes propagate? here for more information. - Make sure to use the following settings in order to reproduce any error or warning you see on this page. | 
| Package 976/2041 | Hostname | OS / Arch | INSTALL | BUILD | CHECK | BUILD BIN | ||||||||
| lapmix 1.58.0  (landing page) Yann Ruffieux 
 | nebbiolo1 | Linux (Ubuntu 20.04.2 LTS) / x86_64 | OK | OK | OK |  | ||||||||
| tokay2 | Windows Server 2012 R2 Standard / x64 | OK | OK | OK | OK |  | ||||||||
| machv2 | macOS 10.14.6 Mojave / x86_64 | OK | OK | OK | OK |  | ||||||||
| Package: lapmix | 
| Version: 1.58.0 | 
| Command: rm -rf lapmix.buildbin-libdir && mkdir lapmix.buildbin-libdir && C:\Users\biocbuild\bbs-3.13-bioc\R\bin\R.exe CMD INSTALL --merge-multiarch --build --library=lapmix.buildbin-libdir lapmix_1.58.0.tar.gz | 
| StartedAt: 2021-10-15 10:03:13 -0400 (Fri, 15 Oct 2021) | 
| EndedAt: 2021-10-15 10:04:37 -0400 (Fri, 15 Oct 2021) | 
| EllapsedTime: 84.9 seconds | 
| RetCode: 0 | 
| Status: OK | 
| PackageFile: lapmix_1.58.0.zip | 
| PackageFileSize: 330.5 KiB | 
##############################################################################
##############################################################################
###
### Running command:
###
###   rm -rf lapmix.buildbin-libdir && mkdir lapmix.buildbin-libdir && C:\Users\biocbuild\bbs-3.13-bioc\R\bin\R.exe CMD INSTALL --merge-multiarch --build --library=lapmix.buildbin-libdir lapmix_1.58.0.tar.gz
###
##############################################################################
##############################################################################
install for i386
* installing *source* package 'lapmix' ...
** using staged installation
** R
** inst
** byte-compile and prepare package for lazy loading
** help
*** installing help indices
  converting help for package 'lapmix'
    finding HTML links ... done
    lap.volcanoplot                         html  
    lapmix-internal                         html  
    lapmix.Fit                              html  
    laptopTable                             html  
** building package indices
** installing vignettes
** testing if installed package can be loaded from temporary location
** testing if installed package can be loaded from final location
** testing if installed package keeps a record of temporary installation path
install for x64
* installing *source* package 'lapmix' ...
** testing if installed package can be loaded
* MD5 sums
packaged installation of 'lapmix' as lapmix_1.58.0.zip
* DONE (lapmix)