| Back to Multiple platform build/check report for BioC 3.13 |
|
This page was generated on 2021-10-15 15:06:09 -0400 (Fri, 15 Oct 2021).
|
To the developers/maintainers of the kebabs package: - Please allow up to 24 hours (and sometimes 48 hours) for your latest push to git@git.bioconductor.org:packages/kebabs.git to reflect on this report. See How and When does the builder pull? When will my changes propagate? here for more information. - Make sure to use the following settings in order to reproduce any error or warning you see on this page. |
| Package 966/2041 | Hostname | OS / Arch | INSTALL | BUILD | CHECK | BUILD BIN | ||||||||
| kebabs 1.26.1 (landing page) Ulrich Bodenhofer
| nebbiolo1 | Linux (Ubuntu 20.04.2 LTS) / x86_64 | OK | OK | OK | |||||||||
| tokay2 | Windows Server 2012 R2 Standard / x64 | OK | OK | OK | OK | |||||||||
| machv2 | macOS 10.14.6 Mojave / x86_64 | OK | OK | OK | OK | |||||||||
| Package: kebabs |
| Version: 1.26.1 |
| Command: C:\Users\biocbuild\bbs-3.13-bioc\R\bin\R.exe CMD check --force-multiarch --install=check:kebabs.install-out.txt --library=C:\Users\biocbuild\bbs-3.13-bioc\R\library --no-vignettes --timings kebabs_1.26.1.tar.gz |
| StartedAt: 2021-10-15 01:01:44 -0400 (Fri, 15 Oct 2021) |
| EndedAt: 2021-10-15 01:06:45 -0400 (Fri, 15 Oct 2021) |
| EllapsedTime: 301.3 seconds |
| RetCode: 0 |
| Status: OK |
| CheckDir: kebabs.Rcheck |
| Warnings: 0 |
##############################################################################
##############################################################################
###
### Running command:
###
### C:\Users\biocbuild\bbs-3.13-bioc\R\bin\R.exe CMD check --force-multiarch --install=check:kebabs.install-out.txt --library=C:\Users\biocbuild\bbs-3.13-bioc\R\library --no-vignettes --timings kebabs_1.26.1.tar.gz
###
##############################################################################
##############################################################################
* using log directory 'C:/Users/biocbuild/bbs-3.13-bioc/meat/kebabs.Rcheck'
* using R version 4.1.1 (2021-08-10)
* using platform: x86_64-w64-mingw32 (64-bit)
* using session charset: ISO8859-1
* using option '--no-vignettes'
* checking for file 'kebabs/DESCRIPTION' ... OK
* checking extension type ... Package
* this is package 'kebabs' version '1.26.1'
* checking package namespace information ... OK
* checking package dependencies ... OK
* checking if this is a source package ... OK
* checking if there is a namespace ... OK
* checking for hidden files and directories ... OK
* checking for portable file names ... OK
* checking whether package 'kebabs' can be installed ... OK
* checking installed package size ... NOTE
installed size is 7.4Mb
sub-directories of 1Mb or more:
R 1.6Mb
data 1.2Mb
libs 3.3Mb
* checking package directory ... OK
* checking 'build' directory ... OK
* checking DESCRIPTION meta-information ... OK
* checking top-level files ... OK
* checking for left-over files ... OK
* checking index information ... OK
* checking package subdirectories ... OK
* checking R files for non-ASCII characters ... OK
* checking R files for syntax errors ... OK
* loading checks for arch 'i386'
** checking whether the package can be loaded ... OK
** checking whether the package can be loaded with stated dependencies ... OK
** checking whether the package can be unloaded cleanly ... OK
** checking whether the namespace can be loaded with stated dependencies ... OK
** checking whether the namespace can be unloaded cleanly ... OK
* loading checks for arch 'x64'
** checking whether the package can be loaded ... OK
** checking whether the package can be loaded with stated dependencies ... OK
** checking whether the package can be unloaded cleanly ... OK
** checking whether the namespace can be loaded with stated dependencies ... OK
** checking whether the namespace can be unloaded cleanly ... OK
* checking dependencies in R code ... OK
* checking S3 generic/method consistency ... OK
* checking replacement functions ... OK
* checking foreign function calls ... OK
* checking R code for possible problems ... OK
* checking Rd files ... OK
* checking Rd metadata ... OK
* checking Rd cross-references ... OK
* checking for missing documentation entries ... OK
* checking for code/documentation mismatches ... OK
* checking Rd \usage sections ... OK
* checking Rd contents ... OK
* checking for unstated dependencies in examples ... OK
* checking contents of 'data' directory ... OK
* checking data for non-ASCII characters ... OK
* checking data for ASCII and uncompressed saves ... OK
* checking line endings in C/C++/Fortran sources/headers ... OK
* checking compiled code ... NOTE
Note: information on .o files for i386 is not available
Note: information on .o files for x64 is not available
File 'C:/Users/biocbuild/bbs-3.13-bioc/R/library/kebabs/libs/i386/kebabs.dll':
Found 'abort', possibly from 'abort' (C), 'runtime' (Fortran)
Found 'exit', possibly from 'exit' (C), 'stop' (Fortran)
Found 'printf', possibly from 'printf' (C)
Found 'rand', possibly from 'rand' (C)
File 'C:/Users/biocbuild/bbs-3.13-bioc/R/library/kebabs/libs/x64/kebabs.dll':
Found 'abort', possibly from 'abort' (C), 'runtime' (Fortran)
Found 'exit', possibly from 'exit' (C), 'stop' (Fortran)
Found 'printf', possibly from 'printf' (C)
Found 'rand', possibly from 'rand' (C)
Compiled code should not call entry points which might terminate R nor
write to stdout/stderr instead of to the console, nor use Fortran I/O
nor system RNGs. The detected symbols are linked into the code but
might come from libraries and not actually be called.
See 'Writing portable packages' in the 'Writing R Extensions' manual.
* checking files in 'vignettes' ... OK
* checking examples ...
** running examples for arch 'i386' ... OK
Examples with CPU (user + system) or elapsed time > 5s
user system elapsed
performModelSelection 9.62 0.58 10.2
** running examples for arch 'x64' ... OK
Examples with CPU (user + system) or elapsed time > 5s
user system elapsed
performModelSelection 10.86 0.23 11.10
performGridSearch 5.45 0.06 5.51
* checking for unstated dependencies in vignettes ... OK
* checking package vignettes in 'inst/doc' ... OK
* checking running R code from vignettes ... SKIPPED
* checking re-building of vignette outputs ... SKIPPED
* checking PDF version of manual ... OK
* DONE
Status: 2 NOTEs
See
'C:/Users/biocbuild/bbs-3.13-bioc/meat/kebabs.Rcheck/00check.log'
for details.
kebabs.Rcheck/00install.out
##############################################################################
##############################################################################
###
### Running command:
###
### C:\cygwin\bin\curl.exe -O http://155.52.207.165/BBS/3.13/bioc/src/contrib/kebabs_1.26.1.tar.gz && rm -rf kebabs.buildbin-libdir && mkdir kebabs.buildbin-libdir && C:\Users\biocbuild\bbs-3.13-bioc\R\bin\R.exe CMD INSTALL --merge-multiarch --build --library=kebabs.buildbin-libdir kebabs_1.26.1.tar.gz && C:\Users\biocbuild\bbs-3.13-bioc\R\bin\R.exe CMD INSTALL kebabs_1.26.1.zip && rm kebabs_1.26.1.tar.gz kebabs_1.26.1.zip
###
##############################################################################
##############################################################################
% Total % Received % Xferd Average Speed Time Time Time Current
Dload Upload Total Spent Left Speed
0 0 0 0 0 0 0 0 --:--:-- --:--:-- --:--:-- 0
47 1776k 47 838k 0 0 1799k 0 --:--:-- --:--:-- --:--:-- 1798k
100 1776k 100 1776k 0 0 2212k 0 --:--:-- --:--:-- --:--:-- 2211k
install for i386
* installing *source* package 'kebabs' ...
** using staged installation
** libs
"C:/rtools40/mingw32/bin/"gcc -I"C:/Users/BIOCBU~1/BBS-3~1.13-/R/include" -DNDEBUG -I'C:/Users/biocbuild/bbs-3.13-bioc/R/library/IRanges/include' -I'C:/Users/biocbuild/bbs-3.13-bioc/R/library/XVector/include' -I'C:/Users/biocbuild/bbs-3.13-bioc/R/library/Biostrings/include' -I'C:/Users/biocbuild/bbs-3.13-bioc/R/library/Rcpp/include' -I'C:/Users/biocbuild/bbs-3.13-bioc/R/library/S4Vectors/include' -I"c:/extsoft/include" -O2 -Wall -std=gnu99 -mfpmath=sse -msse2 -mstackrealign -c Biostrings_stubs.c -o Biostrings_stubs.o
"C:/rtools40/mingw32/bin/"gcc -I"C:/Users/BIOCBU~1/BBS-3~1.13-/R/include" -DNDEBUG -I'C:/Users/biocbuild/bbs-3.13-bioc/R/library/IRanges/include' -I'C:/Users/biocbuild/bbs-3.13-bioc/R/library/XVector/include' -I'C:/Users/biocbuild/bbs-3.13-bioc/R/library/Biostrings/include' -I'C:/Users/biocbuild/bbs-3.13-bioc/R/library/Rcpp/include' -I'C:/Users/biocbuild/bbs-3.13-bioc/R/library/S4Vectors/include' -I"c:/extsoft/include" -O2 -Wall -std=gnu99 -mfpmath=sse -msse2 -mstackrealign -c ByteStringVector.c -o ByteStringVector.o
"C:/rtools40/mingw32/bin/"g++ -std=gnu++11 -I"C:/Users/BIOCBU~1/BBS-3~1.13-/R/include" -DNDEBUG -I'C:/Users/biocbuild/bbs-3.13-bioc/R/library/IRanges/include' -I'C:/Users/biocbuild/bbs-3.13-bioc/R/library/XVector/include' -I'C:/Users/biocbuild/bbs-3.13-bioc/R/library/Biostrings/include' -I'C:/Users/biocbuild/bbs-3.13-bioc/R/library/Rcpp/include' -I'C:/Users/biocbuild/bbs-3.13-bioc/R/library/S4Vectors/include' -I"c:/extsoft/include" -O2 -Wall -mfpmath=sse -msse2 -mstackrealign -c ExplicitRepC.cpp -o ExplicitRepC.o
"C:/rtools40/mingw32/bin/"g++ -std=gnu++11 -I"C:/Users/BIOCBU~1/BBS-3~1.13-/R/include" -DNDEBUG -I'C:/Users/biocbuild/bbs-3.13-bioc/R/library/IRanges/include' -I'C:/Users/biocbuild/bbs-3.13-bioc/R/library/XVector/include' -I'C:/Users/biocbuild/bbs-3.13-bioc/R/library/Biostrings/include' -I'C:/Users/biocbuild/bbs-3.13-bioc/R/library/Rcpp/include' -I'C:/Users/biocbuild/bbs-3.13-bioc/R/library/S4Vectors/include' -I"c:/extsoft/include" -O2 -Wall -mfpmath=sse -msse2 -mstackrealign -c FeatureWeightsPosDepC.cpp -o FeatureWeightsPosDepC.o
"C:/rtools40/mingw32/bin/"g++ -std=gnu++11 -I"C:/Users/BIOCBU~1/BBS-3~1.13-/R/include" -DNDEBUG -I'C:/Users/biocbuild/bbs-3.13-bioc/R/library/IRanges/include' -I'C:/Users/biocbuild/bbs-3.13-bioc/R/library/XVector/include' -I'C:/Users/biocbuild/bbs-3.13-bioc/R/library/Biostrings/include' -I'C:/Users/biocbuild/bbs-3.13-bioc/R/library/Rcpp/include' -I'C:/Users/biocbuild/bbs-3.13-bioc/R/library/S4Vectors/include' -I"c:/extsoft/include" -O2 -Wall -mfpmath=sse -msse2 -mstackrealign -c GappyPairC.cpp -o GappyPairC.o
"C:/rtools40/mingw32/bin/"gcc -I"C:/Users/BIOCBU~1/BBS-3~1.13-/R/include" -DNDEBUG -I'C:/Users/biocbuild/bbs-3.13-bioc/R/library/IRanges/include' -I'C:/Users/biocbuild/bbs-3.13-bioc/R/library/XVector/include' -I'C:/Users/biocbuild/bbs-3.13-bioc/R/library/Biostrings/include' -I'C:/Users/biocbuild/bbs-3.13-bioc/R/library/Rcpp/include' -I'C:/Users/biocbuild/bbs-3.13-bioc/R/library/S4Vectors/include' -I"c:/extsoft/include" -O2 -Wall -std=gnu99 -mfpmath=sse -msse2 -mstackrealign -c IRanges_stubs.c -o IRanges_stubs.o
"C:/rtools40/mingw32/bin/"g++ -std=gnu++11 -I"C:/Users/BIOCBU~1/BBS-3~1.13-/R/include" -DNDEBUG -I'C:/Users/biocbuild/bbs-3.13-bioc/R/library/IRanges/include' -I'C:/Users/biocbuild/bbs-3.13-bioc/R/library/XVector/include' -I'C:/Users/biocbuild/bbs-3.13-bioc/R/library/Biostrings/include' -I'C:/Users/biocbuild/bbs-3.13-bioc/R/library/Rcpp/include' -I'C:/Users/biocbuild/bbs-3.13-bioc/R/library/S4Vectors/include' -I"c:/extsoft/include" -O2 -Wall -mfpmath=sse -msse2 -mstackrealign -c KernelUtils.cpp -o KernelUtils.o
"C:/rtools40/mingw32/bin/"g++ -std=gnu++11 -I"C:/Users/BIOCBU~1/BBS-3~1.13-/R/include" -DNDEBUG -I'C:/Users/biocbuild/bbs-3.13-bioc/R/library/IRanges/include' -I'C:/Users/biocbuild/bbs-3.13-bioc/R/library/XVector/include' -I'C:/Users/biocbuild/bbs-3.13-bioc/R/library/Biostrings/include' -I'C:/Users/biocbuild/bbs-3.13-bioc/R/library/Rcpp/include' -I'C:/Users/biocbuild/bbs-3.13-bioc/R/library/S4Vectors/include' -I"c:/extsoft/include" -O2 -Wall -mfpmath=sse -msse2 -mstackrealign -c MismatchC.cpp -o MismatchC.o
MismatchC.cpp: In function 'SEXPREC* getMismatchKernelMatrix(Rcpp::NumericMatrix, ByteStringVector, ByteStringVector, int, int, Rcpp::IntegerVector, Rcpp::IntegerVector, bool, int, bool, bool, int, int, bool, bool, int, alphaInfo*)':
MismatchC.cpp:432:41: warning: 'currValSqrt' may be used uninitialized in this function [-Wmaybe-uninitialized]
km(i,j) = kernelVal / currValSqrt;
~~~~~~~~~~^~~~~~~~~~~~~
"C:/rtools40/mingw32/bin/"g++ -std=gnu++11 -I"C:/Users/BIOCBU~1/BBS-3~1.13-/R/include" -DNDEBUG -I'C:/Users/biocbuild/bbs-3.13-bioc/R/library/IRanges/include' -I'C:/Users/biocbuild/bbs-3.13-bioc/R/library/XVector/include' -I'C:/Users/biocbuild/bbs-3.13-bioc/R/library/Biostrings/include' -I'C:/Users/biocbuild/bbs-3.13-bioc/R/library/Rcpp/include' -I'C:/Users/biocbuild/bbs-3.13-bioc/R/library/S4Vectors/include' -I"c:/extsoft/include" -O2 -Wall -mfpmath=sse -msse2 -mstackrealign -c MotifC.cpp -o MotifC.o
MotifC.cpp: In function 'void genPredProfileMotif(Rcpp::NumericMatrix, ByteStringVector, Rcpp::IntegerVector, int, ByteStringVector, ByteStringVector, int, bool, int, int, int, int, Rcpp::NumericMatrix, int, ByteStringVector, Rcpp::IntegerVector*, int, int, ByteStringVector, Rcpp::IntegerVector*, int, int, int, bool, bool, bool)':
MotifC.cpp:3677:18: warning: 'keyPool' may be used uninitialized in this function [-Wmaybe-uninitialized]
pKeypool = keyPool;
~~~~~~~~~^~~~~~~~~
"C:/rtools40/mingw32/bin/"g++ -std=gnu++11 -I"C:/Users/BIOCBU~1/BBS-3~1.13-/R/include" -DNDEBUG -I'C:/Users/biocbuild/bbs-3.13-bioc/R/library/IRanges/include' -I'C:/Users/biocbuild/bbs-3.13-bioc/R/library/XVector/include' -I'C:/Users/biocbuild/bbs-3.13-bioc/R/library/Biostrings/include' -I'C:/Users/biocbuild/bbs-3.13-bioc/R/library/Rcpp/include' -I'C:/Users/biocbuild/bbs-3.13-bioc/R/library/S4Vectors/include' -I"c:/extsoft/include" -O2 -Wall -mfpmath=sse -msse2 -mstackrealign -c PredictionC.cpp -o PredictionC.o
"C:/rtools40/mingw32/bin/"g++ -std=gnu++11 -I"C:/Users/BIOCBU~1/BBS-3~1.13-/R/include" -DNDEBUG -I'C:/Users/biocbuild/bbs-3.13-bioc/R/library/IRanges/include' -I'C:/Users/biocbuild/bbs-3.13-bioc/R/library/XVector/include' -I'C:/Users/biocbuild/bbs-3.13-bioc/R/library/Biostrings/include' -I'C:/Users/biocbuild/bbs-3.13-bioc/R/library/Rcpp/include' -I'C:/Users/biocbuild/bbs-3.13-bioc/R/library/S4Vectors/include' -I"c:/extsoft/include" -O2 -Wall -mfpmath=sse -msse2 -mstackrealign -c PredictionProfileC.cpp -o PredictionProfileC.o
"C:/rtools40/mingw32/bin/"g++ -std=gnu++11 -I"C:/Users/BIOCBU~1/BBS-3~1.13-/R/include" -DNDEBUG -I'C:/Users/biocbuild/bbs-3.13-bioc/R/library/IRanges/include' -I'C:/Users/biocbuild/bbs-3.13-bioc/R/library/XVector/include' -I'C:/Users/biocbuild/bbs-3.13-bioc/R/library/Biostrings/include' -I'C:/Users/biocbuild/bbs-3.13-bioc/R/library/Rcpp/include' -I'C:/Users/biocbuild/bbs-3.13-bioc/R/library/S4Vectors/include' -I"c:/extsoft/include" -O2 -Wall -mfpmath=sse -msse2 -mstackrealign -c R_init_kebabs.cpp -o R_init_kebabs.o
"C:/rtools40/mingw32/bin/"gcc -I"C:/Users/BIOCBU~1/BBS-3~1.13-/R/include" -DNDEBUG -I'C:/Users/biocbuild/bbs-3.13-bioc/R/library/IRanges/include' -I'C:/Users/biocbuild/bbs-3.13-bioc/R/library/XVector/include' -I'C:/Users/biocbuild/bbs-3.13-bioc/R/library/Biostrings/include' -I'C:/Users/biocbuild/bbs-3.13-bioc/R/library/Rcpp/include' -I'C:/Users/biocbuild/bbs-3.13-bioc/R/library/S4Vectors/include' -I"c:/extsoft/include" -O2 -Wall -std=gnu99 -mfpmath=sse -msse2 -mstackrealign -c Rsvm.c -o Rsvm.o
"C:/rtools40/mingw32/bin/"g++ -std=gnu++11 -I"C:/Users/BIOCBU~1/BBS-3~1.13-/R/include" -DNDEBUG -I'C:/Users/biocbuild/bbs-3.13-bioc/R/library/IRanges/include' -I'C:/Users/biocbuild/bbs-3.13-bioc/R/library/XVector/include' -I'C:/Users/biocbuild/bbs-3.13-bioc/R/library/Biostrings/include' -I'C:/Users/biocbuild/bbs-3.13-bioc/R/library/Rcpp/include' -I'C:/Users/biocbuild/bbs-3.13-bioc/R/library/S4Vectors/include' -I"c:/extsoft/include" -O2 -Wall -mfpmath=sse -msse2 -mstackrealign -c SparseMatrixHash.cpp -o SparseMatrixHash.o
"C:/rtools40/mingw32/bin/"g++ -std=gnu++11 -I"C:/Users/BIOCBU~1/BBS-3~1.13-/R/include" -DNDEBUG -I'C:/Users/biocbuild/bbs-3.13-bioc/R/library/IRanges/include' -I'C:/Users/biocbuild/bbs-3.13-bioc/R/library/XVector/include' -I'C:/Users/biocbuild/bbs-3.13-bioc/R/library/Biostrings/include' -I'C:/Users/biocbuild/bbs-3.13-bioc/R/library/Rcpp/include' -I'C:/Users/biocbuild/bbs-3.13-bioc/R/library/S4Vectors/include' -I"c:/extsoft/include" -O2 -Wall -mfpmath=sse -msse2 -mstackrealign -c SpectrumC.cpp -o SpectrumC.o
"C:/rtools40/mingw32/bin/"g++ -std=gnu++11 -I"C:/Users/BIOCBU~1/BBS-3~1.13-/R/include" -DNDEBUG -I'C:/Users/biocbuild/bbs-3.13-bioc/R/library/IRanges/include' -I'C:/Users/biocbuild/bbs-3.13-bioc/R/library/XVector/include' -I'C:/Users/biocbuild/bbs-3.13-bioc/R/library/Biostrings/include' -I'C:/Users/biocbuild/bbs-3.13-bioc/R/library/Rcpp/include' -I'C:/Users/biocbuild/bbs-3.13-bioc/R/library/S4Vectors/include' -I"c:/extsoft/include" -O2 -Wall -mfpmath=sse -msse2 -mstackrealign -c SymmetricPairC.cpp -o SymmetricPairC.o
"C:/rtools40/mingw32/bin/"g++ -std=gnu++11 -I"C:/Users/BIOCBU~1/BBS-3~1.13-/R/include" -DNDEBUG -I'C:/Users/biocbuild/bbs-3.13-bioc/R/library/IRanges/include' -I'C:/Users/biocbuild/bbs-3.13-bioc/R/library/XVector/include' -I'C:/Users/biocbuild/bbs-3.13-bioc/R/library/Biostrings/include' -I'C:/Users/biocbuild/bbs-3.13-bioc/R/library/Rcpp/include' -I'C:/Users/biocbuild/bbs-3.13-bioc/R/library/S4Vectors/include' -I"c:/extsoft/include" -O2 -Wall -mfpmath=sse -msse2 -mstackrealign -c Utils.cpp -o Utils.o
"C:/rtools40/mingw32/bin/"gcc -I"C:/Users/BIOCBU~1/BBS-3~1.13-/R/include" -DNDEBUG -I'C:/Users/biocbuild/bbs-3.13-bioc/R/library/IRanges/include' -I'C:/Users/biocbuild/bbs-3.13-bioc/R/library/XVector/include' -I'C:/Users/biocbuild/bbs-3.13-bioc/R/library/Biostrings/include' -I'C:/Users/biocbuild/bbs-3.13-bioc/R/library/Rcpp/include' -I'C:/Users/biocbuild/bbs-3.13-bioc/R/library/S4Vectors/include' -I"c:/extsoft/include" -O2 -Wall -std=gnu99 -mfpmath=sse -msse2 -mstackrealign -c XVector_stubs.c -o XVector_stubs.o
"C:/rtools40/mingw32/bin/"g++ -std=gnu++11 -I"C:/Users/BIOCBU~1/BBS-3~1.13-/R/include" -DNDEBUG -I'C:/Users/biocbuild/bbs-3.13-bioc/R/library/IRanges/include' -I'C:/Users/biocbuild/bbs-3.13-bioc/R/library/XVector/include' -I'C:/Users/biocbuild/bbs-3.13-bioc/R/library/Biostrings/include' -I'C:/Users/biocbuild/bbs-3.13-bioc/R/library/Rcpp/include' -I'C:/Users/biocbuild/bbs-3.13-bioc/R/library/S4Vectors/include' -I"c:/extsoft/include" -O2 -Wall -mfpmath=sse -msse2 -mstackrealign -c svm.cpp -o svm.o
C:/rtools40/mingw32/bin/g++ -std=gnu++11 -shared -s -static-libgcc -o kebabs.dll tmp.def Biostrings_stubs.o ByteStringVector.o ExplicitRepC.o FeatureWeightsPosDepC.o GappyPairC.o IRanges_stubs.o KernelUtils.o MismatchC.o MotifC.o PredictionC.o PredictionProfileC.o R_init_kebabs.o Rsvm.o SparseMatrixHash.o SpectrumC.o SymmetricPairC.o Utils.o XVector_stubs.o svm.o -Lc:/extsoft/lib/i386 -Lc:/extsoft/lib -LC:/Users/BIOCBU~1/BBS-3~1.13-/R/bin/i386 -lR
installing to C:/Users/biocbuild/bbs-3.13-bioc/meat/kebabs.buildbin-libdir/00LOCK-kebabs/00new/kebabs/libs/i386
** R
** data
** inst
** byte-compile and prepare package for lazy loading
** help
*** installing help indices
converting help for package 'kebabs'
finding HTML links ... done
BioVector-class html
finding level-2 HTML links ... done
BioVector html
ControlInformation-class html
CrossValidationResult-class html
CrossValidationResultAccessors html
ExplicitRepresentation-class html
ExplicitRepresentationAccessors html
GappyPairKernel-class html
KBModel-class html
KBModelAccessors html
KernelMatrix-class html
KernelMatrixAccessors html
LinearKernel html
MismatchKernel-class html
ModelSelectionResult-class html
ModelSelectionResultAccessors html
MotifKernel-class html
PredictionProfile-class html
PredictionProfileAccessors html
ROCData-class html
ROCDataAccessors html
SVMAccess html
SVMInformation-class html
SequenceKernel-class html
SpectrumKernel-class html
SymmetricPairKernel-class html
annotationSpecificKernel html
REDIRECT:topic Previous alias or file overwritten by alias: C:/Users/biocbuild/bbs-3.13-bioc/meat/kebabs.buildbin-libdir/00LOCK-kebabs/00new/kebabs/help/annotationSpecificKernel.html
computeROCandAUC html
evaluatePrediction html
explicitRepresentation html
featureWeights html
gappyPairKernel html
REDIRECT:topic Previous alias or file overwritten by alias: C:/Users/biocbuild/bbs-3.13-bioc/meat/kebabs.buildbin-libdir/00LOCK-kebabs/00new/kebabs/help/gappyPairKernel.html
genRandBioSeqs html
getPredProfMixture-methods html
getPredictionProfile-methods html
heatmap-methods html
kbsvm-methods html
kebabsCollectInfo html
kebabsData html
kebabsOverview html
REDIRECT:topic Previous alias or file overwritten by alias: C:/Users/biocbuild/bbs-3.13-bioc/meat/kebabs.buildbin-libdir/00LOCK-kebabs/00new/kebabs/help/KeBABS.html
REDIRECT:topic Previous alias or file overwritten by alias: C:/Users/biocbuild/bbs-3.13-bioc/meat/kebabs.buildbin-libdir/00LOCK-kebabs/00new/kebabs/help/kebabs.html
mismatchKernel html
REDIRECT:topic Previous alias or file overwritten by alias: C:/Users/biocbuild/bbs-3.13-bioc/meat/kebabs.buildbin-libdir/00LOCK-kebabs/00new/kebabs/help/mismatchKernel.html
motifKernel html
REDIRECT:topic Previous alias or file overwritten by alias: C:/Users/biocbuild/bbs-3.13-bioc/meat/kebabs.buildbin-libdir/00LOCK-kebabs/00new/kebabs/help/motifKernel.html
performCrossValidation-methods html
REDIRECT:topic Previous alias or file overwritten by alias: C:/Users/biocbuild/bbs-3.13-bioc/meat/kebabs.buildbin-libdir/00LOCK-kebabs/00new/kebabs/help/crossValidation.html
performGridSearch html
REDIRECT:topic Previous alias or file overwritten by alias: C:/Users/biocbuild/bbs-3.13-bioc/meat/kebabs.buildbin-libdir/00LOCK-kebabs/00new/kebabs/help/gridSearch.html
performModelSelection html
REDIRECT:topic Previous alias or file overwritten by alias: C:/Users/biocbuild/bbs-3.13-bioc/meat/kebabs.buildbin-libdir/00LOCK-kebabs/00new/kebabs/help/modelSelection.html
plot-methods html
positionDependentKernel html
REDIRECT:topic Previous alias or file overwritten by alias: C:/Users/biocbuild/bbs-3.13-bioc/meat/kebabs.buildbin-libdir/00LOCK-kebabs/00new/kebabs/help/distanceWeightedKernel.html
REDIRECT:topic Previous alias or file overwritten by alias: C:/Users/biocbuild/bbs-3.13-bioc/meat/kebabs.buildbin-libdir/00LOCK-kebabs/00new/kebabs/help/positionDependentKernel.html
REDIRECT:topic Previous alias or file overwritten by alias: C:/Users/biocbuild/bbs-3.13-bioc/meat/kebabs.buildbin-libdir/00LOCK-kebabs/00new/kebabs/help/positionSpecificKernel.html
predict-methods html
sequenceKernel html
REDIRECT:topic Previous alias or file overwritten by alias: C:/Users/biocbuild/bbs-3.13-bioc/meat/kebabs.buildbin-libdir/00LOCK-kebabs/00new/kebabs/help/sequenceKernel.html
show-methods html
spectrumKernel html
REDIRECT:topic Previous alias or file overwritten by alias: C:/Users/biocbuild/bbs-3.13-bioc/meat/kebabs.buildbin-libdir/00LOCK-kebabs/00new/kebabs/help/spectrumKernel.html
symmetricPairKernel html
REDIRECT:topic Previous alias or file overwritten by alias: C:/Users/biocbuild/bbs-3.13-bioc/meat/kebabs.buildbin-libdir/00LOCK-kebabs/00new/kebabs/help/symmetricPairKernel.html
** building package indices
** installing vignettes
** testing if installed package can be loaded from temporary location
** testing if installed package can be loaded from final location
** testing if installed package keeps a record of temporary installation path
install for x64
* installing *source* package 'kebabs' ...
** libs
"C:/rtools40/mingw64/bin/"gcc -I"C:/Users/BIOCBU~1/BBS-3~1.13-/R/include" -DNDEBUG -I'C:/Users/biocbuild/bbs-3.13-bioc/R/library/IRanges/include' -I'C:/Users/biocbuild/bbs-3.13-bioc/R/library/XVector/include' -I'C:/Users/biocbuild/bbs-3.13-bioc/R/library/Biostrings/include' -I'C:/Users/biocbuild/bbs-3.13-bioc/R/library/Rcpp/include' -I'C:/Users/biocbuild/bbs-3.13-bioc/R/library/S4Vectors/include' -I"C:/extsoft/include" -O2 -Wall -std=gnu99 -mfpmath=sse -msse2 -mstackrealign -c Biostrings_stubs.c -o Biostrings_stubs.o
"C:/rtools40/mingw64/bin/"gcc -I"C:/Users/BIOCBU~1/BBS-3~1.13-/R/include" -DNDEBUG -I'C:/Users/biocbuild/bbs-3.13-bioc/R/library/IRanges/include' -I'C:/Users/biocbuild/bbs-3.13-bioc/R/library/XVector/include' -I'C:/Users/biocbuild/bbs-3.13-bioc/R/library/Biostrings/include' -I'C:/Users/biocbuild/bbs-3.13-bioc/R/library/Rcpp/include' -I'C:/Users/biocbuild/bbs-3.13-bioc/R/library/S4Vectors/include' -I"C:/extsoft/include" -O2 -Wall -std=gnu99 -mfpmath=sse -msse2 -mstackrealign -c ByteStringVector.c -o ByteStringVector.o
"C:/rtools40/mingw64/bin/"g++ -std=gnu++11 -I"C:/Users/BIOCBU~1/BBS-3~1.13-/R/include" -DNDEBUG -I'C:/Users/biocbuild/bbs-3.13-bioc/R/library/IRanges/include' -I'C:/Users/biocbuild/bbs-3.13-bioc/R/library/XVector/include' -I'C:/Users/biocbuild/bbs-3.13-bioc/R/library/Biostrings/include' -I'C:/Users/biocbuild/bbs-3.13-bioc/R/library/Rcpp/include' -I'C:/Users/biocbuild/bbs-3.13-bioc/R/library/S4Vectors/include' -I"C:/extsoft/include" -O2 -Wall -mfpmath=sse -msse2 -mstackrealign -c ExplicitRepC.cpp -o ExplicitRepC.o
"C:/rtools40/mingw64/bin/"g++ -std=gnu++11 -I"C:/Users/BIOCBU~1/BBS-3~1.13-/R/include" -DNDEBUG -I'C:/Users/biocbuild/bbs-3.13-bioc/R/library/IRanges/include' -I'C:/Users/biocbuild/bbs-3.13-bioc/R/library/XVector/include' -I'C:/Users/biocbuild/bbs-3.13-bioc/R/library/Biostrings/include' -I'C:/Users/biocbuild/bbs-3.13-bioc/R/library/Rcpp/include' -I'C:/Users/biocbuild/bbs-3.13-bioc/R/library/S4Vectors/include' -I"C:/extsoft/include" -O2 -Wall -mfpmath=sse -msse2 -mstackrealign -c FeatureWeightsPosDepC.cpp -o FeatureWeightsPosDepC.o
"C:/rtools40/mingw64/bin/"g++ -std=gnu++11 -I"C:/Users/BIOCBU~1/BBS-3~1.13-/R/include" -DNDEBUG -I'C:/Users/biocbuild/bbs-3.13-bioc/R/library/IRanges/include' -I'C:/Users/biocbuild/bbs-3.13-bioc/R/library/XVector/include' -I'C:/Users/biocbuild/bbs-3.13-bioc/R/library/Biostrings/include' -I'C:/Users/biocbuild/bbs-3.13-bioc/R/library/Rcpp/include' -I'C:/Users/biocbuild/bbs-3.13-bioc/R/library/S4Vectors/include' -I"C:/extsoft/include" -O2 -Wall -mfpmath=sse -msse2 -mstackrealign -c GappyPairC.cpp -o GappyPairC.o
"C:/rtools40/mingw64/bin/"gcc -I"C:/Users/BIOCBU~1/BBS-3~1.13-/R/include" -DNDEBUG -I'C:/Users/biocbuild/bbs-3.13-bioc/R/library/IRanges/include' -I'C:/Users/biocbuild/bbs-3.13-bioc/R/library/XVector/include' -I'C:/Users/biocbuild/bbs-3.13-bioc/R/library/Biostrings/include' -I'C:/Users/biocbuild/bbs-3.13-bioc/R/library/Rcpp/include' -I'C:/Users/biocbuild/bbs-3.13-bioc/R/library/S4Vectors/include' -I"C:/extsoft/include" -O2 -Wall -std=gnu99 -mfpmath=sse -msse2 -mstackrealign -c IRanges_stubs.c -o IRanges_stubs.o
"C:/rtools40/mingw64/bin/"g++ -std=gnu++11 -I"C:/Users/BIOCBU~1/BBS-3~1.13-/R/include" -DNDEBUG -I'C:/Users/biocbuild/bbs-3.13-bioc/R/library/IRanges/include' -I'C:/Users/biocbuild/bbs-3.13-bioc/R/library/XVector/include' -I'C:/Users/biocbuild/bbs-3.13-bioc/R/library/Biostrings/include' -I'C:/Users/biocbuild/bbs-3.13-bioc/R/library/Rcpp/include' -I'C:/Users/biocbuild/bbs-3.13-bioc/R/library/S4Vectors/include' -I"C:/extsoft/include" -O2 -Wall -mfpmath=sse -msse2 -mstackrealign -c KernelUtils.cpp -o KernelUtils.o
"C:/rtools40/mingw64/bin/"g++ -std=gnu++11 -I"C:/Users/BIOCBU~1/BBS-3~1.13-/R/include" -DNDEBUG -I'C:/Users/biocbuild/bbs-3.13-bioc/R/library/IRanges/include' -I'C:/Users/biocbuild/bbs-3.13-bioc/R/library/XVector/include' -I'C:/Users/biocbuild/bbs-3.13-bioc/R/library/Biostrings/include' -I'C:/Users/biocbuild/bbs-3.13-bioc/R/library/Rcpp/include' -I'C:/Users/biocbuild/bbs-3.13-bioc/R/library/S4Vectors/include' -I"C:/extsoft/include" -O2 -Wall -mfpmath=sse -msse2 -mstackrealign -c MismatchC.cpp -o MismatchC.o
MismatchC.cpp: In function 'SEXPREC* getMismatchKernelMatrix(Rcpp::NumericMatrix, ByteStringVector, ByteStringVector, int, int, Rcpp::IntegerVector, Rcpp::IntegerVector, bool, int, bool, bool, int, int, bool, bool, int, alphaInfo*)':
MismatchC.cpp:432:41: warning: 'currValSqrt' may be used uninitialized in this function [-Wmaybe-uninitialized]
km(i,j) = kernelVal / currValSqrt;
~~~~~~~~~~^~~~~~~~~~~~~
"C:/rtools40/mingw64/bin/"g++ -std=gnu++11 -I"C:/Users/BIOCBU~1/BBS-3~1.13-/R/include" -DNDEBUG -I'C:/Users/biocbuild/bbs-3.13-bioc/R/library/IRanges/include' -I'C:/Users/biocbuild/bbs-3.13-bioc/R/library/XVector/include' -I'C:/Users/biocbuild/bbs-3.13-bioc/R/library/Biostrings/include' -I'C:/Users/biocbuild/bbs-3.13-bioc/R/library/Rcpp/include' -I'C:/Users/biocbuild/bbs-3.13-bioc/R/library/S4Vectors/include' -I"C:/extsoft/include" -O2 -Wall -mfpmath=sse -msse2 -mstackrealign -c MotifC.cpp -o MotifC.o
MotifC.cpp: In function 'void genPredProfileMotif(Rcpp::NumericMatrix, ByteStringVector, Rcpp::IntegerVector, int, ByteStringVector, ByteStringVector, int, bool, int, int, int, int, Rcpp::NumericMatrix, int, ByteStringVector, Rcpp::IntegerVector*, int, int, ByteStringVector, Rcpp::IntegerVector*, int, int, int, bool, bool, bool)':
MotifC.cpp:3677:18: warning: 'keyPool' may be used uninitialized in this function [-Wmaybe-uninitialized]
pKeypool = keyPool;
~~~~~~~~~^~~~~~~~~
"C:/rtools40/mingw64/bin/"g++ -std=gnu++11 -I"C:/Users/BIOCBU~1/BBS-3~1.13-/R/include" -DNDEBUG -I'C:/Users/biocbuild/bbs-3.13-bioc/R/library/IRanges/include' -I'C:/Users/biocbuild/bbs-3.13-bioc/R/library/XVector/include' -I'C:/Users/biocbuild/bbs-3.13-bioc/R/library/Biostrings/include' -I'C:/Users/biocbuild/bbs-3.13-bioc/R/library/Rcpp/include' -I'C:/Users/biocbuild/bbs-3.13-bioc/R/library/S4Vectors/include' -I"C:/extsoft/include" -O2 -Wall -mfpmath=sse -msse2 -mstackrealign -c PredictionC.cpp -o PredictionC.o
"C:/rtools40/mingw64/bin/"g++ -std=gnu++11 -I"C:/Users/BIOCBU~1/BBS-3~1.13-/R/include" -DNDEBUG -I'C:/Users/biocbuild/bbs-3.13-bioc/R/library/IRanges/include' -I'C:/Users/biocbuild/bbs-3.13-bioc/R/library/XVector/include' -I'C:/Users/biocbuild/bbs-3.13-bioc/R/library/Biostrings/include' -I'C:/Users/biocbuild/bbs-3.13-bioc/R/library/Rcpp/include' -I'C:/Users/biocbuild/bbs-3.13-bioc/R/library/S4Vectors/include' -I"C:/extsoft/include" -O2 -Wall -mfpmath=sse -msse2 -mstackrealign -c PredictionProfileC.cpp -o PredictionProfileC.o
"C:/rtools40/mingw64/bin/"g++ -std=gnu++11 -I"C:/Users/BIOCBU~1/BBS-3~1.13-/R/include" -DNDEBUG -I'C:/Users/biocbuild/bbs-3.13-bioc/R/library/IRanges/include' -I'C:/Users/biocbuild/bbs-3.13-bioc/R/library/XVector/include' -I'C:/Users/biocbuild/bbs-3.13-bioc/R/library/Biostrings/include' -I'C:/Users/biocbuild/bbs-3.13-bioc/R/library/Rcpp/include' -I'C:/Users/biocbuild/bbs-3.13-bioc/R/library/S4Vectors/include' -I"C:/extsoft/include" -O2 -Wall -mfpmath=sse -msse2 -mstackrealign -c R_init_kebabs.cpp -o R_init_kebabs.o
"C:/rtools40/mingw64/bin/"gcc -I"C:/Users/BIOCBU~1/BBS-3~1.13-/R/include" -DNDEBUG -I'C:/Users/biocbuild/bbs-3.13-bioc/R/library/IRanges/include' -I'C:/Users/biocbuild/bbs-3.13-bioc/R/library/XVector/include' -I'C:/Users/biocbuild/bbs-3.13-bioc/R/library/Biostrings/include' -I'C:/Users/biocbuild/bbs-3.13-bioc/R/library/Rcpp/include' -I'C:/Users/biocbuild/bbs-3.13-bioc/R/library/S4Vectors/include' -I"C:/extsoft/include" -O2 -Wall -std=gnu99 -mfpmath=sse -msse2 -mstackrealign -c Rsvm.c -o Rsvm.o
"C:/rtools40/mingw64/bin/"g++ -std=gnu++11 -I"C:/Users/BIOCBU~1/BBS-3~1.13-/R/include" -DNDEBUG -I'C:/Users/biocbuild/bbs-3.13-bioc/R/library/IRanges/include' -I'C:/Users/biocbuild/bbs-3.13-bioc/R/library/XVector/include' -I'C:/Users/biocbuild/bbs-3.13-bioc/R/library/Biostrings/include' -I'C:/Users/biocbuild/bbs-3.13-bioc/R/library/Rcpp/include' -I'C:/Users/biocbuild/bbs-3.13-bioc/R/library/S4Vectors/include' -I"C:/extsoft/include" -O2 -Wall -mfpmath=sse -msse2 -mstackrealign -c SparseMatrixHash.cpp -o SparseMatrixHash.o
"C:/rtools40/mingw64/bin/"g++ -std=gnu++11 -I"C:/Users/BIOCBU~1/BBS-3~1.13-/R/include" -DNDEBUG -I'C:/Users/biocbuild/bbs-3.13-bioc/R/library/IRanges/include' -I'C:/Users/biocbuild/bbs-3.13-bioc/R/library/XVector/include' -I'C:/Users/biocbuild/bbs-3.13-bioc/R/library/Biostrings/include' -I'C:/Users/biocbuild/bbs-3.13-bioc/R/library/Rcpp/include' -I'C:/Users/biocbuild/bbs-3.13-bioc/R/library/S4Vectors/include' -I"C:/extsoft/include" -O2 -Wall -mfpmath=sse -msse2 -mstackrealign -c SpectrumC.cpp -o SpectrumC.o
"C:/rtools40/mingw64/bin/"g++ -std=gnu++11 -I"C:/Users/BIOCBU~1/BBS-3~1.13-/R/include" -DNDEBUG -I'C:/Users/biocbuild/bbs-3.13-bioc/R/library/IRanges/include' -I'C:/Users/biocbuild/bbs-3.13-bioc/R/library/XVector/include' -I'C:/Users/biocbuild/bbs-3.13-bioc/R/library/Biostrings/include' -I'C:/Users/biocbuild/bbs-3.13-bioc/R/library/Rcpp/include' -I'C:/Users/biocbuild/bbs-3.13-bioc/R/library/S4Vectors/include' -I"C:/extsoft/include" -O2 -Wall -mfpmath=sse -msse2 -mstackrealign -c SymmetricPairC.cpp -o SymmetricPairC.o
"C:/rtools40/mingw64/bin/"g++ -std=gnu++11 -I"C:/Users/BIOCBU~1/BBS-3~1.13-/R/include" -DNDEBUG -I'C:/Users/biocbuild/bbs-3.13-bioc/R/library/IRanges/include' -I'C:/Users/biocbuild/bbs-3.13-bioc/R/library/XVector/include' -I'C:/Users/biocbuild/bbs-3.13-bioc/R/library/Biostrings/include' -I'C:/Users/biocbuild/bbs-3.13-bioc/R/library/Rcpp/include' -I'C:/Users/biocbuild/bbs-3.13-bioc/R/library/S4Vectors/include' -I"C:/extsoft/include" -O2 -Wall -mfpmath=sse -msse2 -mstackrealign -c Utils.cpp -o Utils.o
"C:/rtools40/mingw64/bin/"gcc -I"C:/Users/BIOCBU~1/BBS-3~1.13-/R/include" -DNDEBUG -I'C:/Users/biocbuild/bbs-3.13-bioc/R/library/IRanges/include' -I'C:/Users/biocbuild/bbs-3.13-bioc/R/library/XVector/include' -I'C:/Users/biocbuild/bbs-3.13-bioc/R/library/Biostrings/include' -I'C:/Users/biocbuild/bbs-3.13-bioc/R/library/Rcpp/include' -I'C:/Users/biocbuild/bbs-3.13-bioc/R/library/S4Vectors/include' -I"C:/extsoft/include" -O2 -Wall -std=gnu99 -mfpmath=sse -msse2 -mstackrealign -c XVector_stubs.c -o XVector_stubs.o
"C:/rtools40/mingw64/bin/"g++ -std=gnu++11 -I"C:/Users/BIOCBU~1/BBS-3~1.13-/R/include" -DNDEBUG -I'C:/Users/biocbuild/bbs-3.13-bioc/R/library/IRanges/include' -I'C:/Users/biocbuild/bbs-3.13-bioc/R/library/XVector/include' -I'C:/Users/biocbuild/bbs-3.13-bioc/R/library/Biostrings/include' -I'C:/Users/biocbuild/bbs-3.13-bioc/R/library/Rcpp/include' -I'C:/Users/biocbuild/bbs-3.13-bioc/R/library/S4Vectors/include' -I"C:/extsoft/include" -O2 -Wall -mfpmath=sse -msse2 -mstackrealign -c svm.cpp -o svm.o
C:/rtools40/mingw64/bin/g++ -std=gnu++11 -shared -s -static-libgcc -o kebabs.dll tmp.def Biostrings_stubs.o ByteStringVector.o ExplicitRepC.o FeatureWeightsPosDepC.o GappyPairC.o IRanges_stubs.o KernelUtils.o MismatchC.o MotifC.o PredictionC.o PredictionProfileC.o R_init_kebabs.o Rsvm.o SparseMatrixHash.o SpectrumC.o SymmetricPairC.o Utils.o XVector_stubs.o svm.o -LC:/extsoft/lib/x64 -LC:/extsoft/lib -LC:/Users/BIOCBU~1/BBS-3~1.13-/R/bin/x64 -lR
installing to C:/Users/biocbuild/bbs-3.13-bioc/meat/kebabs.buildbin-libdir/kebabs/libs/x64
** testing if installed package can be loaded
* MD5 sums
packaged installation of 'kebabs' as kebabs_1.26.1.zip
* DONE (kebabs)
* installing to library 'C:/Users/biocbuild/bbs-3.13-bioc/R/library'
package 'kebabs' successfully unpacked and MD5 sums checked
|
kebabs.Rcheck/examples_i386/kebabs-Ex.timings
|
kebabs.Rcheck/examples_x64/kebabs-Ex.timings
|