| Back to Multiple platform build/check report for BioC 3.13 |
|
This page was generated on 2021-10-15 15:06:09 -0400 (Fri, 15 Oct 2021).
|
To the developers/maintainers of the iterativeBMAsurv package: - Please allow up to 24 hours (and sometimes 48 hours) for your latest push to git@git.bioconductor.org:packages/iterativeBMAsurv.git to reflect on this report. See How and When does the builder pull? When will my changes propagate? here for more information. - Make sure to use the following settings in order to reproduce any error or warning you see on this page. |
| Package 957/2041 | Hostname | OS / Arch | INSTALL | BUILD | CHECK | BUILD BIN | ||||||||
| iterativeBMAsurv 1.50.0 (landing page) Ka Yee Yeung
| nebbiolo1 | Linux (Ubuntu 20.04.2 LTS) / x86_64 | OK | OK | OK | |||||||||
| tokay2 | Windows Server 2012 R2 Standard / x64 | OK | OK | OK | OK | |||||||||
| machv2 | macOS 10.14.6 Mojave / x86_64 | OK | OK | OK | OK | |||||||||
| Package: iterativeBMAsurv |
| Version: 1.50.0 |
| Command: rm -rf iterativeBMAsurv.buildbin-libdir && mkdir iterativeBMAsurv.buildbin-libdir && C:\Users\biocbuild\bbs-3.13-bioc\R\bin\R.exe CMD INSTALL --merge-multiarch --build --library=iterativeBMAsurv.buildbin-libdir iterativeBMAsurv_1.50.0.tar.gz |
| StartedAt: 2021-10-15 10:00:40 -0400 (Fri, 15 Oct 2021) |
| EndedAt: 2021-10-15 10:02:12 -0400 (Fri, 15 Oct 2021) |
| EllapsedTime: 91.8 seconds |
| RetCode: 0 |
| Status: OK |
| PackageFile: iterativeBMAsurv_1.50.0.zip |
| PackageFileSize: 352.5 KiB |
##############################################################################
##############################################################################
###
### Running command:
###
### rm -rf iterativeBMAsurv.buildbin-libdir && mkdir iterativeBMAsurv.buildbin-libdir && C:\Users\biocbuild\bbs-3.13-bioc\R\bin\R.exe CMD INSTALL --merge-multiarch --build --library=iterativeBMAsurv.buildbin-libdir iterativeBMAsurv_1.50.0.tar.gz
###
##############################################################################
##############################################################################
install for i386
* installing *source* package 'iterativeBMAsurv' ...
** using staged installation
** R
** data
** inst
** byte-compile and prepare package for lazy loading
** help
*** installing help indices
converting help for package 'iterativeBMAsurv'
finding HTML links ... done
crossVal html
imageplot.iterate.bma.surv html
iterateBMAsurv.train html
iterateBMAsurv.train.predict.assess html
iterateBMAsurv.train.wrapper html
iterativeBMAsurv-internal html
iterativeBMAsurv-package html
predictBicSurv html
predictiveAssessCategory html
printTopGenes html
singleGeneCoxph html
testCens html
testData html
testSurv html
trainCens html
trainData html
trainSurv html
** building package indices
** installing vignettes
** testing if installed package can be loaded from temporary location
** testing if installed package can be loaded from final location
** testing if installed package keeps a record of temporary installation path
install for x64
* installing *source* package 'iterativeBMAsurv' ...
** testing if installed package can be loaded
* MD5 sums
packaged installation of 'iterativeBMAsurv' as iterativeBMAsurv_1.50.0.zip
* DONE (iterativeBMAsurv)