| Back to Multiple platform build/check report for BioC 3.13 |
|
This page was generated on 2021-10-15 15:06:09 -0400 (Fri, 15 Oct 2021).
|
To the developers/maintainers of the iterClust package: - Please allow up to 24 hours (and sometimes 48 hours) for your latest push to git@git.bioconductor.org:packages/iterClust.git to reflect on this report. See How and When does the builder pull? When will my changes propagate? here for more information. - Make sure to use the following settings in order to reproduce any error or warning you see on this page. |
| Package 958/2041 | Hostname | OS / Arch | INSTALL | BUILD | CHECK | BUILD BIN | ||||||||
| iterClust 1.14.0 (landing page) Hongxu Ding
| nebbiolo1 | Linux (Ubuntu 20.04.2 LTS) / x86_64 | OK | OK | OK | |||||||||
| tokay2 | Windows Server 2012 R2 Standard / x64 | OK | OK | OK | OK | |||||||||
| machv2 | macOS 10.14.6 Mojave / x86_64 | OK | OK | OK | OK | |||||||||
| Package: iterClust |
| Version: 1.14.0 |
| Command: C:\cygwin\bin\curl.exe -O http://155.52.207.165/BBS/3.13/bioc/src/contrib/iterClust_1.14.0.tar.gz && rm -rf iterClust.buildbin-libdir && mkdir iterClust.buildbin-libdir && C:\Users\biocbuild\bbs-3.13-bioc\R\bin\R.exe CMD INSTALL --merge-multiarch --build --library=iterClust.buildbin-libdir iterClust_1.14.0.tar.gz && C:\Users\biocbuild\bbs-3.13-bioc\R\bin\R.exe CMD INSTALL iterClust_1.14.0.zip && rm iterClust_1.14.0.tar.gz iterClust_1.14.0.zip |
| StartedAt: 2021-10-14 07:30:27 -0400 (Thu, 14 Oct 2021) |
| EndedAt: 2021-10-14 07:34:02 -0400 (Thu, 14 Oct 2021) |
| EllapsedTime: 214.6 seconds |
| RetCode: 0 |
| Status: OK |
##############################################################################
##############################################################################
###
### Running command:
###
### C:\cygwin\bin\curl.exe -O http://155.52.207.165/BBS/3.13/bioc/src/contrib/iterClust_1.14.0.tar.gz && rm -rf iterClust.buildbin-libdir && mkdir iterClust.buildbin-libdir && C:\Users\biocbuild\bbs-3.13-bioc\R\bin\R.exe CMD INSTALL --merge-multiarch --build --library=iterClust.buildbin-libdir iterClust_1.14.0.tar.gz && C:\Users\biocbuild\bbs-3.13-bioc\R\bin\R.exe CMD INSTALL iterClust_1.14.0.zip && rm iterClust_1.14.0.tar.gz iterClust_1.14.0.zip
###
##############################################################################
##############################################################################
% Total % Received % Xferd Average Speed Time Time Time Current
Dload Upload Total Spent Left Speed
0 0 0 0 0 0 0 0 --:--:-- --:--:-- --:--:-- 0
100 13581 100 13581 0 0 114k 0 --:--:-- --:--:-- --:--:-- 115k
install for i386
* installing *source* package 'iterClust' ...
** using staged installation
** R
** inst
** byte-compile and prepare package for lazy loading
** help
*** installing help indices
converting help for package 'iterClust'
finding HTML links ... done
clustEval html
clustHetero html
coreClust html
featureSelect html
iterClust html
obsEval html
obsOutlier html
** building package indices
** installing vignettes
** testing if installed package can be loaded from temporary location
** testing if installed package can be loaded from final location
** testing if installed package keeps a record of temporary installation path
install for x64
* installing *source* package 'iterClust' ...
** testing if installed package can be loaded
* MD5 sums
packaged installation of 'iterClust' as iterClust_1.14.0.zip
* DONE (iterClust)
* installing to library 'C:/Users/biocbuild/bbs-3.13-bioc/R/library'
package 'iterClust' successfully unpacked and MD5 sums checked