| Back to Multiple platform build/check report for BioC 3.13 |
|
This page was generated on 2021-10-15 15:06:40 -0400 (Fri, 15 Oct 2021).
|
To the developers/maintainers of the isomiRs package: - Please allow up to 24 hours (and sometimes 48 hours) for your latest push to git@git.bioconductor.org:packages/isomiRs.git to reflect on this report. See How and When does the builder pull? When will my changes propagate? here for more information. - Make sure to use the following settings in order to reproduce any error or warning you see on this page. |
| Package 954/2041 | Hostname | OS / Arch | INSTALL | BUILD | CHECK | BUILD BIN | ||||||||
| isomiRs 1.20.0 (landing page) Lorena Pantano
| nebbiolo1 | Linux (Ubuntu 20.04.2 LTS) / x86_64 | OK | OK | OK | |||||||||
| tokay2 | Windows Server 2012 R2 Standard / x64 | OK | OK | OK | OK | |||||||||
| machv2 | macOS 10.14.6 Mojave / x86_64 | OK | OK | OK | OK | |||||||||
| Package: isomiRs |
| Version: 1.20.0 |
| Command: /Library/Frameworks/R.framework/Versions/Current/Resources/bin/R CMD check --install=check:isomiRs.install-out.txt --library=/Library/Frameworks/R.framework/Versions/Current/Resources/library --no-vignettes --timings isomiRs_1.20.0.tar.gz |
| StartedAt: 2021-10-14 20:20:54 -0400 (Thu, 14 Oct 2021) |
| EndedAt: 2021-10-14 20:27:10 -0400 (Thu, 14 Oct 2021) |
| EllapsedTime: 376.5 seconds |
| RetCode: 0 |
| Status: OK |
| CheckDir: isomiRs.Rcheck |
| Warnings: 0 |
##############################################################################
##############################################################################
###
### Running command:
###
### /Library/Frameworks/R.framework/Versions/Current/Resources/bin/R CMD check --install=check:isomiRs.install-out.txt --library=/Library/Frameworks/R.framework/Versions/Current/Resources/library --no-vignettes --timings isomiRs_1.20.0.tar.gz
###
##############################################################################
##############################################################################
* using log directory ‘/Users/biocbuild/bbs-3.13-bioc/meat/isomiRs.Rcheck’
* using R version 4.1.1 (2021-08-10)
* using platform: x86_64-apple-darwin17.0 (64-bit)
* using session charset: UTF-8
* using option ‘--no-vignettes’
* checking for file ‘isomiRs/DESCRIPTION’ ... OK
* checking extension type ... Package
* this is package ‘isomiRs’ version ‘1.20.0’
* package encoding: UTF-8
* checking package namespace information ... OK
* checking package dependencies ... OK
* checking if this is a source package ... OK
* checking if there is a namespace ... OK
* checking for hidden files and directories ... NOTE
Found the following hidden files and directories:
.git_fetch_output.txt
.git_merge_output.txt
.travis.yml
These were most likely included in error. See section ‘Package
structure’ in the ‘Writing R Extensions’ manual.
* checking for portable file names ... OK
* checking for sufficient/correct file permissions ... OK
* checking whether package ‘isomiRs’ can be installed ... OK
* checking installed package size ... OK
* checking package directory ... OK
* checking ‘build’ directory ... OK
* checking DESCRIPTION meta-information ... OK
* checking top-level files ... OK
* checking for left-over files ... OK
* checking index information ... OK
* checking package subdirectories ... OK
* checking R files for non-ASCII characters ... OK
* checking R files for syntax errors ... OK
* checking whether the package can be loaded ... OK
* checking whether the package can be loaded with stated dependencies ... OK
* checking whether the package can be unloaded cleanly ... OK
* checking whether the namespace can be loaded with stated dependencies ... OK
* checking whether the namespace can be unloaded cleanly ... OK
* checking dependencies in R code ... OK
* checking S3 generic/method consistency ... OK
* checking replacement functions ... OK
* checking foreign function calls ... OK
* checking R code for possible problems ... NOTE
.clean_noise: no visible binding for global variable ‘total’
.clean_noise: no visible binding for global variable ‘hits’
.remove_gt_n_changes: no visible binding for global variable ‘changes’
isoAnnotate: no visible binding for global variable ‘pct’
isoCounts: no visible global function definition for ‘as.tibble’
isoPlot: no visible binding for global variable ‘iso_sample’
isoPlotPosition: no visible binding for global variable ‘iso_sample’
mirna2targetscan: no visible binding for global variable
‘targetscan.Hs.egMIRNA’
mirna2targetscan: no visible binding for global variable
‘targetscan.Hs.egMIRBASE2FAMILY’
mirna2targetscan: no visible binding for global variable
‘targetscan.Hs.egTARGETS’
mirna2targetscan: no visible binding for global variable
‘targetscan.Hs.egTARGETSFULL’
mirna2targetscan: no visible binding for global variable
‘targetscan.Mm.egMIRNA’
mirna2targetscan: no visible binding for global variable
‘targetscan.Mm.egMIRBASE2FAMILY’
mirna2targetscan: no visible binding for global variable
‘targetscan.Mm.egTARGETS’
mirna2targetscan: no visible binding for global variable
‘targetscan.Mm.egTARGETSFULL’
Undefined global functions or variables:
as.tibble changes hits iso_sample pct targetscan.Hs.egMIRBASE2FAMILY
targetscan.Hs.egMIRNA targetscan.Hs.egTARGETS
targetscan.Hs.egTARGETSFULL targetscan.Mm.egMIRBASE2FAMILY
targetscan.Mm.egMIRNA targetscan.Mm.egTARGETS
targetscan.Mm.egTARGETSFULL total
* checking Rd files ... OK
* checking Rd metadata ... OK
* checking Rd cross-references ... OK
* checking for missing documentation entries ... OK
* checking for code/documentation mismatches ... OK
* checking Rd \usage sections ... OK
* checking Rd contents ... OK
* checking for unstated dependencies in examples ... OK
* checking contents of ‘data’ directory ... OK
* checking data for non-ASCII characters ... OK
* checking LazyData ... OK
* checking data for ASCII and uncompressed saves ... OK
* checking files in ‘vignettes’ ... OK
* checking examples ... OK
Examples with CPU (user + system) or elapsed time > 5s
user system elapsed
isoDE 12.924 0.058 12.990
isoNetwork 8.163 0.081 8.248
isoAnnotate 7.442 0.193 7.638
isoPLSDAplot 5.118 0.104 5.227
* checking for unstated dependencies in ‘tests’ ... OK
* checking tests ...
Running ‘testthat.R’
OK
* checking for unstated dependencies in vignettes ... OK
* checking package vignettes in ‘inst/doc’ ... OK
* checking running R code from vignettes ... SKIPPED
* checking re-building of vignette outputs ... SKIPPED
* checking PDF version of manual ... OK
* DONE
Status: 2 NOTEs
See
‘/Users/biocbuild/bbs-3.13-bioc/meat/isomiRs.Rcheck/00check.log’
for details.
isomiRs.Rcheck/00install.out
############################################################################## ############################################################################## ### ### Running command: ### ### /Library/Frameworks/R.framework/Versions/Current/Resources/bin/R CMD INSTALL isomiRs ### ############################################################################## ############################################################################## * installing to library ‘/Library/Frameworks/R.framework/Versions/4.1/Resources/library’ * installing *source* package ‘isomiRs’ ... ** using staged installation ** R ** data *** moving datasets to lazyload DB Registered S3 method overwritten by 'GGally': method from +.gg ggplot2 ** inst ** byte-compile and prepare package for lazy loading ** help *** installing help indices ** building package indices ** installing vignettes ** testing if installed package can be loaded from temporary location ** testing if installed package can be loaded from final location ** testing if installed package keeps a record of temporary installation path * DONE (isomiRs)
isomiRs.Rcheck/tests/testthat.Rout
R version 4.1.1 (2021-08-10) -- "Kick Things"
Copyright (C) 2021 The R Foundation for Statistical Computing
Platform: x86_64-apple-darwin17.0 (64-bit)
R is free software and comes with ABSOLUTELY NO WARRANTY.
You are welcome to redistribute it under certain conditions.
Type 'license()' or 'licence()' for distribution details.
R is a collaborative project with many contributors.
Type 'contributors()' for more information and
'citation()' on how to cite R or R packages in publications.
Type 'demo()' for some demos, 'help()' for on-line help, or
'help.start()' for an HTML browser interface to help.
Type 'q()' to quit R.
> library(testthat)
> library(isomiRs)
Loading required package: DiscriMiner
Loading required package: SummarizedExperiment
Loading required package: MatrixGenerics
Loading required package: matrixStats
Attaching package: 'MatrixGenerics'
The following objects are masked from 'package:matrixStats':
colAlls, colAnyNAs, colAnys, colAvgsPerRowSet, colCollapse,
colCounts, colCummaxs, colCummins, colCumprods, colCumsums,
colDiffs, colIQRDiffs, colIQRs, colLogSumExps, colMadDiffs,
colMads, colMaxs, colMeans2, colMedians, colMins, colOrderStats,
colProds, colQuantiles, colRanges, colRanks, colSdDiffs, colSds,
colSums2, colTabulates, colVarDiffs, colVars, colWeightedMads,
colWeightedMeans, colWeightedMedians, colWeightedSds,
colWeightedVars, rowAlls, rowAnyNAs, rowAnys, rowAvgsPerColSet,
rowCollapse, rowCounts, rowCummaxs, rowCummins, rowCumprods,
rowCumsums, rowDiffs, rowIQRDiffs, rowIQRs, rowLogSumExps,
rowMadDiffs, rowMads, rowMaxs, rowMeans2, rowMedians, rowMins,
rowOrderStats, rowProds, rowQuantiles, rowRanges, rowRanks,
rowSdDiffs, rowSds, rowSums2, rowTabulates, rowVarDiffs, rowVars,
rowWeightedMads, rowWeightedMeans, rowWeightedMedians,
rowWeightedSds, rowWeightedVars
Loading required package: GenomicRanges
Loading required package: stats4
Loading required package: BiocGenerics
Loading required package: parallel
Attaching package: 'BiocGenerics'
The following objects are masked from 'package:parallel':
clusterApply, clusterApplyLB, clusterCall, clusterEvalQ,
clusterExport, clusterMap, parApply, parCapply, parLapply,
parLapplyLB, parRapply, parSapply, parSapplyLB
The following objects are masked from 'package:stats':
IQR, mad, sd, var, xtabs
The following objects are masked from 'package:base':
Filter, Find, Map, Position, Reduce, anyDuplicated, append,
as.data.frame, basename, cbind, colnames, dirname, do.call,
duplicated, eval, evalq, get, grep, grepl, intersect, is.unsorted,
lapply, mapply, match, mget, order, paste, pmax, pmax.int, pmin,
pmin.int, rank, rbind, rownames, sapply, setdiff, sort, table,
tapply, union, unique, unsplit, which.max, which.min
Loading required package: S4Vectors
Attaching package: 'S4Vectors'
The following objects are masked from 'package:base':
I, expand.grid, unname
Loading required package: IRanges
Loading required package: GenomeInfoDb
Loading required package: Biobase
Welcome to Bioconductor
Vignettes contain introductory material; view with
'browseVignettes()'. To cite Bioconductor, see
'citation("Biobase")', and for packages 'citation("pkgname")'.
Attaching package: 'Biobase'
The following object is masked from 'package:MatrixGenerics':
rowMedians
The following objects are masked from 'package:matrixStats':
anyMissing, rowMedians
>
> test_check("isomiRs")
Dimmension of cor matrix: 20 20
Dimmension of cor matrix: 3 2
Dimmension of cor matrix: 3 2
Dimmension of cor matrix: 0 0
[ FAIL 0 | WARN 6 | SKIP 0 | PASS 28 ]
>
> proc.time()
user system elapsed
28.684 1.176 29.906
isomiRs.Rcheck/isomiRs-Ex.timings
| name | user | system | elapsed | |
| IsomirDataSeq | 1.809 | 0.109 | 1.916 | |
| IsomirDataSeqFromFiles | 1.924 | 0.045 | 1.963 | |
| IsomirDataSeqFromMirtop | 0.949 | 0.031 | 0.979 | |
| IsomirDataSeqFromRawData | 2.220 | 0.030 | 2.242 | |
| counts | 0.136 | 0.013 | 0.149 | |
| design | 0.302 | 0.016 | 0.319 | |
| findTargets | 0.203 | 0.003 | 0.207 | |
| isoAnnotate | 7.442 | 0.193 | 7.638 | |
| isoCounts | 1.676 | 0.021 | 1.697 | |
| isoDE | 12.924 | 0.058 | 12.990 | |
| isoNetwork | 8.163 | 0.081 | 8.248 | |
| isoNorm | 3.796 | 0.020 | 3.819 | |
| isoPLSDA | 4.190 | 0.067 | 4.262 | |
| isoPLSDAplot | 5.118 | 0.104 | 5.227 | |
| isoPlot | 0.779 | 0.007 | 0.787 | |
| isoPlotPosition | 0.551 | 0.019 | 0.571 | |
| isoSelect | 0.263 | 0.013 | 0.277 | |
| isoTop | 0.292 | 0.014 | 0.307 | |
| mirna2targetscan | 3.031 | 0.119 | 3.172 | |