Back to Multiple platform build/check report for BioC 3.13 |
|
This page was generated on 2021-10-15 15:06:39 -0400 (Fri, 15 Oct 2021).
To the developers/maintainers of the inveRsion package: - Please allow up to 24 hours (and sometimes 48 hours) for your latest push to git@git.bioconductor.org:packages/inveRsion.git to reflect on this report. See How and When does the builder pull? When will my changes propagate? here for more information. - Make sure to use the following settings in order to reproduce any error or warning you see on this page. |
Package 937/2041 | Hostname | OS / Arch | INSTALL | BUILD | CHECK | BUILD BIN | ||||||||
inveRsion 1.40.0 (landing page) Alejandro Caceres
| nebbiolo1 | Linux (Ubuntu 20.04.2 LTS) / x86_64 | OK | OK | WARNINGS | ![]() | ||||||||
tokay2 | Windows Server 2012 R2 Standard / x64 | OK | OK | WARNINGS | OK | ![]() | ||||||||
machv2 | macOS 10.14.6 Mojave / x86_64 | OK | OK | OK | OK | ![]() | ||||||||
Package: inveRsion |
Version: 1.40.0 |
Command: rm -rf inveRsion.buildbin-libdir && mkdir inveRsion.buildbin-libdir && /Users/biocbuild/BBS/utils/build-universal.sh inveRsion_1.40.0.tar.gz /Library/Frameworks/R.framework/Versions/Current/Resources/bin/R inveRsion.buildbin-libdir |
StartedAt: 2021-10-15 02:49:30 -0400 (Fri, 15 Oct 2021) |
EndedAt: 2021-10-15 02:50:35 -0400 (Fri, 15 Oct 2021) |
EllapsedTime: 64.6 seconds |
RetCode: 0 |
Status: OK |
PackageFile: inveRsion_1.40.0.tgz |
PackageFileSize: 641 KiB |
############################################################################## ############################################################################## ### ### Running command: ### ### rm -rf inveRsion.buildbin-libdir && mkdir inveRsion.buildbin-libdir && /Users/biocbuild/BBS/utils/build-universal.sh inveRsion_1.40.0.tar.gz /Library/Frameworks/R.framework/Versions/Current/Resources/bin/R inveRsion.buildbin-libdir ### ############################################################################## ############################################################################## >>>>>>> >>>>>>> INSTALLATION WITH 'R CMD INSTALL --preclean --no-multiarch --library=inveRsion.buildbin-libdir inveRsion_1.40.0.tar.gz' >>>>>>> * installing *source* package ‘inveRsion’ ... ** using staged installation ** libs clang -mmacosx-version-min=10.13 -I"/Library/Frameworks/R.framework/Resources/include" -DNDEBUG -I/usr/local/include -fPIC -Wall -g -O2 -c init_inveRsion.c -o init_inveRsion.o clang -mmacosx-version-min=10.13 -I"/Library/Frameworks/R.framework/Resources/include" -DNDEBUG -I/usr/local/include -fPIC -Wall -g -O2 -c inversionModel.c -o inversionModel.o clang -mmacosx-version-min=10.13 -I"/Library/Frameworks/R.framework/Resources/include" -DNDEBUG -I/usr/local/include -fPIC -Wall -g -O2 -c writeGenoDat.c -o writeGenoDat.o clang -mmacosx-version-min=10.13 -dynamiclib -Wl,-headerpad_max_install_names -undefined dynamic_lookup -single_module -multiply_defined suppress -L/Library/Frameworks/R.framework/Resources/lib -L/usr/local/lib -o inveRsion.so init_inveRsion.o inversionModel.o writeGenoDat.o -L/Library/Frameworks/R.framework/Resources/lib -lRlapack -L/Library/Frameworks/R.framework/Resources/lib -lRblas -L/usr/local/gfortran/lib/gcc/x86_64-apple-darwin18/8.2.0 -L/usr/local/gfortran/lib -lgfortran -lquadmath -lm -F/Library/Frameworks/R.framework/.. -framework R -Wl,-framework -Wl,CoreFoundation installing to /Users/biocbuild/bbs-3.13-bioc/meat/inveRsion.buildbin-libdir/00LOCK-inveRsion/00new/inveRsion/libs ** R ** data ** inst ** byte-compile and prepare package for lazy loading ** help *** installing help indices ** building package indices ** installing vignettes ** testing if installed package can be loaded from temporary location ** checking absolute paths in shared objects and dynamic libraries ** testing if installed package can be loaded from final location ** testing if installed package keeps a record of temporary installation path * DONE (inveRsion) >>>>>>> >>>>>>> FIXING LINKS FOR inveRsion.buildbin-libdir/inveRsion/libs/inveRsion.so >>>>>>> install_name_tool -change "/usr/local/lib/libgcc_s.1.dylib" "/Library/Frameworks/R.framework/Versions/4.1/Resources/lib/libgcc_s.1.dylib" "inveRsion.buildbin-libdir/inveRsion/libs/inveRsion.so" install_name_tool -change "/usr/local/lib/libgfortran.5.dylib" "/Library/Frameworks/R.framework/Versions/4.1/Resources/lib/libgfortran.5.dylib" "inveRsion.buildbin-libdir/inveRsion/libs/inveRsion.so" install_name_tool -change "/usr/local/lib/libquadmath.0.dylib" "/Library/Frameworks/R.framework/Versions/4.1/Resources/lib/libquadmath.0.dylib" "inveRsion.buildbin-libdir/inveRsion/libs/inveRsion.so" install_name_tool -change "/usr/local/gfortran/lib/libgfortran.5.dylib" "/Library/Frameworks/R.framework/Versions/4.1/Resources/lib/libgfortran.5.dylib" "inveRsion.buildbin-libdir/inveRsion/libs/inveRsion.so" install_name_tool -change "/usr/local/gfortran/lib/libquadmath.0.dylib" "/Library/Frameworks/R.framework/Versions/4.1/Resources/lib/libquadmath.0.dylib" "inveRsion.buildbin-libdir/inveRsion/libs/inveRsion.so"