| Back to Multiple platform build/check report for BioC 3.13 |
|
This page was generated on 2021-10-15 15:06:08 -0400 (Fri, 15 Oct 2021).
|
To the developers/maintainers of the interacCircos package: - Please allow up to 24 hours (and sometimes 48 hours) for your latest push to git@git.bioconductor.org:packages/interacCircos.git to reflect on this report. See How and When does the builder pull? When will my changes propagate? here for more information. - Make sure to use the following settings in order to reproduce any error or warning you see on this page. |
| Package 928/2041 | Hostname | OS / Arch | INSTALL | BUILD | CHECK | BUILD BIN | ||||||||
| interacCircos 1.2.0 (landing page) Zhe Cui
| nebbiolo1 | Linux (Ubuntu 20.04.2 LTS) / x86_64 | OK | OK | OK | |||||||||
| tokay2 | Windows Server 2012 R2 Standard / x64 | OK | OK | OK | OK | |||||||||
| machv2 | macOS 10.14.6 Mojave / x86_64 | OK | OK | OK | OK | |||||||||
| Package: interacCircos |
| Version: 1.2.0 |
| Command: C:\cygwin\bin\curl.exe -O http://155.52.207.165/BBS/3.13/bioc/src/contrib/interacCircos_1.2.0.tar.gz && rm -rf interacCircos.buildbin-libdir && mkdir interacCircos.buildbin-libdir && C:\Users\biocbuild\bbs-3.13-bioc\R\bin\R.exe CMD INSTALL --merge-multiarch --build --library=interacCircos.buildbin-libdir interacCircos_1.2.0.tar.gz && C:\Users\biocbuild\bbs-3.13-bioc\R\bin\R.exe CMD INSTALL interacCircos_1.2.0.zip && rm interacCircos_1.2.0.tar.gz interacCircos_1.2.0.zip |
| StartedAt: 2021-10-14 07:03:16 -0400 (Thu, 14 Oct 2021) |
| EndedAt: 2021-10-14 07:04:43 -0400 (Thu, 14 Oct 2021) |
| EllapsedTime: 86.7 seconds |
| RetCode: 0 |
| Status: OK |
##############################################################################
##############################################################################
###
### Running command:
###
### C:\cygwin\bin\curl.exe -O http://155.52.207.165/BBS/3.13/bioc/src/contrib/interacCircos_1.2.0.tar.gz && rm -rf interacCircos.buildbin-libdir && mkdir interacCircos.buildbin-libdir && C:\Users\biocbuild\bbs-3.13-bioc\R\bin\R.exe CMD INSTALL --merge-multiarch --build --library=interacCircos.buildbin-libdir interacCircos_1.2.0.tar.gz && C:\Users\biocbuild\bbs-3.13-bioc\R\bin\R.exe CMD INSTALL interacCircos_1.2.0.zip && rm interacCircos_1.2.0.tar.gz interacCircos_1.2.0.zip
###
##############################################################################
##############################################################################
% Total % Received % Xferd Average Speed Time Time Time Current
Dload Upload Total Spent Left Speed
0 0 0 0 0 0 0 0 --:--:-- --:--:-- --:--:-- 0
17 394k 17 68637 0 0 130k 0 0:00:03 --:--:-- 0:00:03 130k
100 394k 100 394k 0 0 713k 0 --:--:-- --:--:-- --:--:-- 714k
install for i386
* installing *source* package 'interacCircos' ...
** using staged installation
** R
** data
*** moving datasets to lazyload DB
** inst
** byte-compile and prepare package for lazy loading
** help
*** installing help indices
converting help for package 'interacCircos'
finding HTML links ... done
Circos html
CircosArc html
CircosAuxLine html
CircosBackground html
CircosBubble html
CircosChord html
CircosChord.p html
CircosCnv html
CircosGene html
CircosHeatmap html
CircosHistogram html
CircosLegend html
CircosLine html
CircosLink html
CircosLollipop html
CircosModuleList html
CircosScatter html
CircosSnp html
CircosText html
CircosWig html
arcExample html
bubbleExample html
chord.pExample html
chordExample html
cnvExample html
geneExample html
heatmapExample html
hg19_ideogram html
histogramExample html
lineExample html
linkExample html
lollipopExample html
scatterExample html
snpExample html
wigExample html
** building package indices
** installing vignettes
** testing if installed package can be loaded from temporary location
** testing if installed package can be loaded from final location
** testing if installed package keeps a record of temporary installation path
install for x64
* installing *source* package 'interacCircos' ...
** testing if installed package can be loaded
* MD5 sums
packaged installation of 'interacCircos' as interacCircos_1.2.0.zip
* DONE (interacCircos)
* installing to library 'C:/Users/biocbuild/bbs-3.13-bioc/R/library'
package 'interacCircos' successfully unpacked and MD5 sums checked