| Back to Multiple platform build/check report for BioC 3.13 | 
  | 
This page was generated on 2021-10-15 15:06:08 -0400 (Fri, 15 Oct 2021).
| 
To the developers/maintainers of the intansv package: - Please allow up to 24 hours (and sometimes 48 hours) for your latest push to git@git.bioconductor.org:packages/intansv.git to reflect on this report. See How and When does the builder pull? When will my changes propagate? here for more information. - Make sure to use the following settings in order to reproduce any error or warning you see on this page.  | 
| Package 927/2041 | Hostname | OS / Arch | INSTALL | BUILD | CHECK | BUILD BIN | ||||||||
| intansv 1.32.0  (landing page) Wen Yao 
  | nebbiolo1 | Linux (Ubuntu 20.04.2 LTS) / x86_64 | OK | OK | OK | |||||||||
| tokay2 | Windows Server 2012 R2 Standard / x64 | OK | OK | OK | OK | |||||||||
| machv2 | macOS 10.14.6 Mojave / x86_64 | OK | OK | OK | OK | |||||||||
| Package: intansv | 
| Version: 1.32.0 | 
| Command: rm -rf intansv.buildbin-libdir && mkdir intansv.buildbin-libdir && C:\Users\biocbuild\bbs-3.13-bioc\R\bin\R.exe CMD INSTALL --merge-multiarch --build --library=intansv.buildbin-libdir intansv_1.32.0.tar.gz | 
| StartedAt: 2021-10-15 09:56:26 -0400 (Fri, 15 Oct 2021) | 
| EndedAt: 2021-10-15 09:57:59 -0400 (Fri, 15 Oct 2021) | 
| EllapsedTime: 92.2 seconds | 
| RetCode: 0 | 
| Status: OK | 
| PackageFile: intansv_1.32.0.zip | 
| PackageFileSize: 778.2 KiB | 
##############################################################################
##############################################################################
###
### Running command:
###
###   rm -rf intansv.buildbin-libdir && mkdir intansv.buildbin-libdir && C:\Users\biocbuild\bbs-3.13-bioc\R\bin\R.exe CMD INSTALL --merge-multiarch --build --library=intansv.buildbin-libdir intansv_1.32.0.tar.gz
###
##############################################################################
##############################################################################
install for i386
* installing *source* package 'intansv' ...
** using staged installation
** R
** inst
** byte-compile and prepare package for lazy loading
** help
*** installing help indices
  converting help for package 'intansv'
    finding HTML links ... done
    methodsMerge                            html  
    plotChromosome                          html  
    plotRegion                              html  
    readBreakDancer                         html  
    readCnvnator                            html  
    readDelly                               html  
    readLumpy                               html  
    readPindel                              html  
    readSoftSearch                          html  
    readSvseq                               html  
    svAnnotation                            html  
** building package indices
** installing vignettes
** testing if installed package can be loaded from temporary location
** testing if installed package can be loaded from final location
** testing if installed package keeps a record of temporary installation path
install for x64
* installing *source* package 'intansv' ...
** testing if installed package can be loaded
* MD5 sums
packaged installation of 'intansv' as intansv_1.32.0.zip
* DONE (intansv)