| Back to Multiple platform build/check report for BioC 3.13 |
|
This page was generated on 2021-10-15 15:06:08 -0400 (Fri, 15 Oct 2021).
|
To the developers/maintainers of the infinityFlow package: - Please allow up to 24 hours (and sometimes 48 hours) for your latest push to git@git.bioconductor.org:packages/infinityFlow.git to reflect on this report. See How and When does the builder pull? When will my changes propagate? here for more information. - Make sure to use the following settings in order to reproduce any error or warning you see on this page. |
| Package 921/2041 | Hostname | OS / Arch | INSTALL | BUILD | CHECK | BUILD BIN | ||||||||
| infinityFlow 1.2.0 (landing page) Etienne Becht
| nebbiolo1 | Linux (Ubuntu 20.04.2 LTS) / x86_64 | OK | ERROR | skipped | |||||||||
| tokay2 | Windows Server 2012 R2 Standard / x64 | OK | ERROR | skipped | skipped | |||||||||
| machv2 | macOS 10.14.6 Mojave / x86_64 | OK | ERROR | skipped | skipped | |||||||||
| Package: infinityFlow |
| Version: 1.2.0 |
| Command: C:\cygwin\bin\curl.exe -O http://155.52.207.165/BBS/3.13/bioc/src/contrib/infinityFlow_1.2.0.tar.gz && rm -rf infinityFlow.buildbin-libdir && mkdir infinityFlow.buildbin-libdir && C:\Users\biocbuild\bbs-3.13-bioc\R\bin\R.exe CMD INSTALL --merge-multiarch --build --library=infinityFlow.buildbin-libdir infinityFlow_1.2.0.tar.gz && C:\Users\biocbuild\bbs-3.13-bioc\R\bin\R.exe CMD INSTALL infinityFlow_1.2.0.zip && rm infinityFlow_1.2.0.tar.gz infinityFlow_1.2.0.zip |
| StartedAt: 2021-10-14 08:33:29 -0400 (Thu, 14 Oct 2021) |
| EndedAt: 2021-10-14 08:35:21 -0400 (Thu, 14 Oct 2021) |
| EllapsedTime: 112.7 seconds |
| RetCode: 0 |
| Status: OK |
##############################################################################
##############################################################################
###
### Running command:
###
### C:\cygwin\bin\curl.exe -O http://155.52.207.165/BBS/3.13/bioc/src/contrib/infinityFlow_1.2.0.tar.gz && rm -rf infinityFlow.buildbin-libdir && mkdir infinityFlow.buildbin-libdir && C:\Users\biocbuild\bbs-3.13-bioc\R\bin\R.exe CMD INSTALL --merge-multiarch --build --library=infinityFlow.buildbin-libdir infinityFlow_1.2.0.tar.gz && C:\Users\biocbuild\bbs-3.13-bioc\R\bin\R.exe CMD INSTALL infinityFlow_1.2.0.zip && rm infinityFlow_1.2.0.tar.gz infinityFlow_1.2.0.zip
###
##############################################################################
##############################################################################
% Total % Received % Xferd Average Speed Time Time Time Current
Dload Upload Total Spent Left Speed
0 0 0 0 0 0 0 0 --:--:-- --:--:-- --:--:-- 0
100 1718k 100 1718k 0 0 2095k 0 --:--:-- --:--:-- --:--:-- 2097k
install for i386
* installing *source* package 'infinityFlow' ...
** using staged installation
** R
** data
** inst
** byte-compile and prepare package for lazy loading
** help
*** installing help indices
converting help for package 'infinityFlow'
finding HTML links ... done
fitter_glmnet html
fitter_linear html
fitter_nn html
fitter_svm html
fitter_xgboost html
infinity_flow html
select_backbone_and_exploratory_markers
html
steady_state_lung html
steady_state_lung_annotation html
steady_state_lung_backbone_specification
html
** building package indices
** installing vignettes
** testing if installed package can be loaded from temporary location
** testing if installed package can be loaded from final location
** testing if installed package keeps a record of temporary installation path
install for x64
* installing *source* package 'infinityFlow' ...
** testing if installed package can be loaded
* MD5 sums
packaged installation of 'infinityFlow' as infinityFlow_1.2.0.zip
* DONE (infinityFlow)
* installing to library 'C:/Users/biocbuild/bbs-3.13-bioc/R/library'
package 'infinityFlow' successfully unpacked and MD5 sums checked