| Back to Multiple platform build/check report for BioC 3.13 |
|
This page was generated on 2021-10-15 15:06:39 -0400 (Fri, 15 Oct 2021).
|
To the developers/maintainers of the immunoClust package: - Please allow up to 24 hours (and sometimes 48 hours) for your latest push to git@git.bioconductor.org:packages/immunoClust.git to reflect on this report. See How and When does the builder pull? When will my changes propagate? here for more information. - Make sure to use the following settings in order to reproduce any error or warning you see on this page. |
| Package 915/2041 | Hostname | OS / Arch | INSTALL | BUILD | CHECK | BUILD BIN | ||||||||
| immunoClust 1.24.0 (landing page) Till Soerensen
| nebbiolo1 | Linux (Ubuntu 20.04.2 LTS) / x86_64 | OK | OK | OK | |||||||||
| tokay2 | Windows Server 2012 R2 Standard / x64 | OK | OK | OK | OK | |||||||||
| machv2 | macOS 10.14.6 Mojave / x86_64 | OK | OK | OK | OK | |||||||||
| Package: immunoClust |
| Version: 1.24.0 |
| Command: /Library/Frameworks/R.framework/Versions/Current/Resources/bin/R CMD check --install=check:immunoClust.install-out.txt --library=/Library/Frameworks/R.framework/Versions/Current/Resources/library --no-vignettes --timings immunoClust_1.24.0.tar.gz |
| StartedAt: 2021-10-14 20:09:45 -0400 (Thu, 14 Oct 2021) |
| EndedAt: 2021-10-14 20:14:56 -0400 (Thu, 14 Oct 2021) |
| EllapsedTime: 311.4 seconds |
| RetCode: 0 |
| Status: OK |
| CheckDir: immunoClust.Rcheck |
| Warnings: 0 |
##############################################################################
##############################################################################
###
### Running command:
###
### /Library/Frameworks/R.framework/Versions/Current/Resources/bin/R CMD check --install=check:immunoClust.install-out.txt --library=/Library/Frameworks/R.framework/Versions/Current/Resources/library --no-vignettes --timings immunoClust_1.24.0.tar.gz
###
##############################################################################
##############################################################################
* using log directory ‘/Users/biocbuild/bbs-3.13-bioc/meat/immunoClust.Rcheck’
* using R version 4.1.1 (2021-08-10)
* using platform: x86_64-apple-darwin17.0 (64-bit)
* using session charset: UTF-8
* using option ‘--no-vignettes’
* checking for file ‘immunoClust/DESCRIPTION’ ... OK
* checking extension type ... Package
* this is package ‘immunoClust’ version ‘1.24.0’
* checking package namespace information ... OK
* checking package dependencies ... OK
* checking if this is a source package ... OK
* checking if there is a namespace ... OK
* checking for hidden files and directories ... NOTE
Found the following hidden files and directories:
.git_fetch_output.txt
.git_merge_output.txt
These were most likely included in error. See section ‘Package
structure’ in the ‘Writing R Extensions’ manual.
* checking for portable file names ... OK
* checking for sufficient/correct file permissions ... OK
* checking whether package ‘immunoClust’ can be installed ... OK
* checking installed package size ... OK
* checking package directory ... OK
* checking ‘build’ directory ... OK
* checking DESCRIPTION meta-information ... OK
* checking top-level files ... OK
* checking for left-over files ... OK
* checking index information ... OK
* checking package subdirectories ... OK
* checking R files for non-ASCII characters ... OK
* checking R files for syntax errors ... OK
* checking whether the package can be loaded ... OK
* checking whether the package can be loaded with stated dependencies ... OK
* checking whether the package can be unloaded cleanly ... OK
* checking whether the namespace can be loaded with stated dependencies ... OK
* checking whether the namespace can be unloaded cleanly ... OK
* checking dependencies in R code ... OK
* checking S3 generic/method consistency ... OK
* checking replacement functions ... OK
* checking foreign function calls ... OK
* checking R code for possible problems ... OK
* checking Rd files ... OK
* checking Rd metadata ... OK
* checking Rd cross-references ... OK
* checking for missing documentation entries ... OK
* checking for code/documentation mismatches ... OK
* checking Rd \usage sections ... OK
* checking Rd contents ... OK
* checking for unstated dependencies in examples ... OK
* checking contents of ‘data’ directory ... OK
* checking data for non-ASCII characters ... OK
* checking data for ASCII and uncompressed saves ... OK
* checking line endings in shell scripts ... OK
* checking line endings in C/C++/Fortran sources/headers ... OK
* checking line endings in Makefiles ... OK
* checking compilation flags in Makevars ... OK
* checking for GNU extensions in Makefiles ... OK
* checking for portable use of $(BLAS_LIBS) and $(LAPACK_LIBS) ... OK
* checking use of PKG_*FLAGS in Makefiles ... OK
* checking compiled code ... NOTE
Note: information on .o files is not available
File ‘/Library/Frameworks/R.framework/Versions/4.1/Resources/library/immunoClust/libs/immunoClust.so’:
Found ‘___stderrp’, possibly from ‘stderr’ (C)
Found ‘___stdoutp’, possibly from ‘stdout’ (C)
Found ‘_abort’, possibly from ‘abort’ (C)
Compiled code should not call entry points which might terminate R nor
write to stdout/stderr instead of to the console, nor use Fortran I/O
nor system RNGs. The detected symbols are linked into the code but
might come from libraries and not actually be called.
See ‘Writing portable packages’ in the ‘Writing R Extensions’ manual.
* checking sizes of PDF files under ‘inst/doc’ ... OK
* checking files in ‘vignettes’ ... OK
* checking examples ... OK
Examples with CPU (user + system) or elapsed time > 5s
user system elapsed
dat.fcs 93.401 0.410 93.896
cell.process 88.025 0.457 88.642
cell.SubClustering 14.227 0.094 14.342
* checking for unstated dependencies in ‘tests’ ... OK
* checking tests ...
Running ‘testthat.R’
OK
* checking for unstated dependencies in vignettes ... OK
* checking package vignettes in ‘inst/doc’ ... OK
* checking running R code from vignettes ... SKIPPED
* checking re-building of vignette outputs ... SKIPPED
* checking PDF version of manual ... OK
* DONE
Status: 2 NOTEs
See
‘/Users/biocbuild/bbs-3.13-bioc/meat/immunoClust.Rcheck/00check.log’
for details.
immunoClust.Rcheck/00install.out
##############################################################################
##############################################################################
###
### Running command:
###
### /Library/Frameworks/R.framework/Versions/Current/Resources/bin/R CMD INSTALL immunoClust
###
##############################################################################
##############################################################################
* installing to library ‘/Library/Frameworks/R.framework/Versions/4.1/Resources/library’
* installing *source* package ‘immunoClust’ ...
** using staged installation
checking for pkg-config... /usr/local/bin/pkg-config
checking pkg-config is at least version 0.9.0... yes
checking for GSL... yes
configure: creating ./config.status
config.status: creating src/Makevars
** libs
clang++ -mmacosx-version-min=10.13 -std=gnu++14 -I"/Library/Frameworks/R.framework/Resources/include" -DNDEBUG -I/usr/local/include -fPIC -Wall -g -O2 -c R_meta.cpp -o R_meta.o
clang++ -mmacosx-version-min=10.13 -std=gnu++14 -I"/Library/Frameworks/R.framework/Resources/include" -DNDEBUG -I/usr/local/include -fPIC -Wall -g -O2 -c R_model.cpp -o R_model.o
clang++ -mmacosx-version-min=10.13 -std=gnu++14 -I"/Library/Frameworks/R.framework/Resources/include" -DNDEBUG -I/usr/local/include -fPIC -Wall -g -O2 -c dist_mvn.cpp -o dist_mvn.o
clang++ -mmacosx-version-min=10.13 -std=gnu++14 -I"/Library/Frameworks/R.framework/Resources/include" -DNDEBUG -I/usr/local/include -fPIC -Wall -g -O2 -c em_meta.cpp -o em_meta.o
clang++ -mmacosx-version-min=10.13 -std=gnu++14 -I"/Library/Frameworks/R.framework/Resources/include" -DNDEBUG -I/usr/local/include -fPIC -Wall -g -O2 -c em_meta_bc.cpp -o em_meta_bc.o
clang++ -mmacosx-version-min=10.13 -std=gnu++14 -I"/Library/Frameworks/R.framework/Resources/include" -DNDEBUG -I/usr/local/include -fPIC -Wall -g -O2 -c em_meta_kl.cpp -o em_meta_kl.o
clang++ -mmacosx-version-min=10.13 -std=gnu++14 -I"/Library/Frameworks/R.framework/Resources/include" -DNDEBUG -I/usr/local/include -fPIC -Wall -g -O2 -c em_mvn.cpp -o em_mvn.o
clang++ -mmacosx-version-min=10.13 -std=gnu++14 -I"/Library/Frameworks/R.framework/Resources/include" -DNDEBUG -I/usr/local/include -fPIC -Wall -g -O2 -c em_mvt.cpp -o em_mvt.o
clang++ -mmacosx-version-min=10.13 -std=gnu++14 -I"/Library/Frameworks/R.framework/Resources/include" -DNDEBUG -I/usr/local/include -fPIC -Wall -g -O2 -c em_mvt2.cpp -o em_mvt2.o
clang++ -mmacosx-version-min=10.13 -std=gnu++14 -I"/Library/Frameworks/R.framework/Resources/include" -DNDEBUG -I/usr/local/include -fPIC -Wall -g -O2 -c hc_meta.cpp -o hc_meta.o
clang++ -mmacosx-version-min=10.13 -std=gnu++14 -I"/Library/Frameworks/R.framework/Resources/include" -DNDEBUG -I/usr/local/include -fPIC -Wall -g -O2 -c hc_mvn.cpp -o hc_mvn.o
clang -mmacosx-version-min=10.13 -I"/Library/Frameworks/R.framework/Resources/include" -DNDEBUG -I/usr/local/include -fPIC -Wall -g -O2 -c immunoClust.c -o immunoClust.o
clang++ -mmacosx-version-min=10.13 -std=gnu++14 -I"/Library/Frameworks/R.framework/Resources/include" -DNDEBUG -I/usr/local/include -fPIC -Wall -g -O2 -c meta_norm.cpp -o meta_norm.o
clang++ -mmacosx-version-min=10.13 -std=gnu++14 -I"/Library/Frameworks/R.framework/Resources/include" -DNDEBUG -I/usr/local/include -fPIC -Wall -g -O2 -c meta_scale.cpp -o meta_scale.o
clang++ -mmacosx-version-min=10.13 -std=gnu++14 -I"/Library/Frameworks/R.framework/Resources/include" -DNDEBUG -I/usr/local/include -fPIC -Wall -g -O2 -c normalize.cpp -o normalize.o
clang++ -mmacosx-version-min=10.13 -std=gnu++14 -I"/Library/Frameworks/R.framework/Resources/include" -DNDEBUG -I/usr/local/include -fPIC -Wall -g -O2 -c sub_mvn.cpp -o sub_mvn.o
In file included from sub_mvn.cpp:10:
./sub_mvn.h:21:16: warning: private field 'W' is not used [-Wunused-private-field]
const double* W;
^
1 warning generated.
clang++ -mmacosx-version-min=10.13 -std=gnu++14 -I"/Library/Frameworks/R.framework/Resources/include" -DNDEBUG -I/usr/local/include -fPIC -Wall -g -O2 -c util.cpp -o util.o
clang++ -mmacosx-version-min=10.13 -std=gnu++14 -I"/Library/Frameworks/R.framework/Resources/include" -DNDEBUG -I/usr/local/include -fPIC -Wall -g -O2 -c vs_htrans.cpp -o vs_htrans.o
clang++ -mmacosx-version-min=10.13 -std=gnu++14 -dynamiclib -Wl,-headerpad_max_install_names -undefined dynamic_lookup -single_module -multiply_defined suppress -L/Library/Frameworks/R.framework/Resources/lib -L/usr/local/lib -o immunoClust.so R_meta.o R_model.o dist_mvn.o em_meta.o em_meta_bc.o em_meta_kl.o em_mvn.o em_mvt.o em_mvt2.o hc_meta.o hc_mvn.o immunoClust.o meta_norm.o meta_scale.o normalize.o sub_mvn.o util.o vs_htrans.o -L/usr/local/lib -lgsl -lgslcblas -lm -F/Library/Frameworks/R.framework/.. -framework R -Wl,-framework -Wl,CoreFoundation
installing to /Library/Frameworks/R.framework/Versions/4.1/Resources/library/00LOCK-immunoClust/00new/immunoClust/libs
** R
** data
** byte-compile and prepare package for lazy loading
** help
*** installing help indices
** building package indices
** installing vignettes
** testing if installed package can be loaded from temporary location
** checking absolute paths in shared objects and dynamic libraries
** testing if installed package can be loaded from final location
** testing if installed package keeps a record of temporary installation path
* DONE (immunoClust)
immunoClust.Rcheck/tests/testthat.Rout
R version 4.1.1 (2021-08-10) -- "Kick Things"
Copyright (C) 2021 The R Foundation for Statistical Computing
Platform: x86_64-apple-darwin17.0 (64-bit)
R is free software and comes with ABSOLUTELY NO WARRANTY.
You are welcome to redistribute it under certain conditions.
Type 'license()' or 'licence()' for distribution details.
R is a collaborative project with many contributors.
Type 'contributors()' for more information and
'citation()' on how to cite R or R packages in publications.
Type 'demo()' for some demos, 'help()' for on-line help, or
'help.start()' for an HTML browser interface to help.
Type 'q()' to quit R.
> library(testthat)
> library(immunoClust)
Loading required package: flowCore
>
> test_check("immunoClust")
[ FAIL 0 | WARN 0 | SKIP 0 | PASS 10 ]
>
> proc.time()
user system elapsed
7.197 0.285 7.473
immunoClust.Rcheck/immunoClust-Ex.timings
| name | user | system | elapsed | |
| bhattacharyya | 0.034 | 0.006 | 0.039 | |
| cell.ClustData | 1.368 | 0.015 | 1.385 | |
| cell.EM | 0.999 | 0.010 | 1.010 | |
| cell.FitModel | 0.945 | 0.015 | 0.963 | |
| cell.ME | 0.632 | 0.009 | 0.642 | |
| cell.SubClustering | 14.227 | 0.094 | 14.342 | |
| cell.hclust | 0.007 | 0.002 | 0.009 | |
| cell.process | 88.025 | 0.457 | 88.642 | |
| cell.removed | 0.014 | 0.005 | 0.019 | |
| dat.exp | 1.269 | 0.013 | 1.284 | |
| dat.fcs | 93.401 | 0.410 | 93.896 | |
| dat.meta | 0.006 | 0.001 | 0.007 | |
| immunoClust.methods | 0.002 | 0.001 | 0.004 | |
| immunoClust.object | 0.005 | 0.003 | 0.008 | |
| immunoMeta.methods | 0.004 | 0.002 | 0.006 | |
| immunoMeta.object | 0.014 | 0.004 | 0.017 | |
| meta.ME | 0.018 | 0.006 | 0.023 | |
| meta.SubClustering | 0.117 | 0.003 | 0.120 | |
| meta.clustering | 1.291 | 0.012 | 1.304 | |
| meta.export | 1.250 | 0.015 | 1.297 | |
| meta.exprs | 0.010 | 0.001 | 0.011 | |
| meta.hclust | 0.007 | 0.003 | 0.009 | |
| meta.normalize | 0.004 | 0.001 | 0.006 | |
| meta.process | 1.493 | 0.014 | 1.508 | |
| meta.regnorm | 0.009 | 0.003 | 0.012 | |
| plot.immunoClust | 0.735 | 0.027 | 0.763 | |
| plot.immunoMeta | 2.224 | 0.050 | 2.276 | |
| splom.immunoClust | 1.489 | 0.031 | 1.527 | |
| trans.ApplyToData | 0.079 | 0.005 | 0.086 | |
| trans.FitToData | 0.226 | 0.004 | 0.231 | |