| Back to Multiple platform build/check report for BioC 3.13 |
|
This page was generated on 2021-10-15 15:06:08 -0400 (Fri, 15 Oct 2021).
|
To the developers/maintainers of the idpr package: - Please allow up to 24 hours (and sometimes 48 hours) for your latest push to git@git.bioconductor.org:packages/idpr.git to reflect on this report. See How and When does the builder pull? When will my changes propagate? here for more information. - Make sure to use the following settings in order to reproduce any error or warning you see on this page. |
| Package 902/2041 | Hostname | OS / Arch | INSTALL | BUILD | CHECK | BUILD BIN | ||||||||
| idpr 1.2.0 (landing page) William M. McFadden
| nebbiolo1 | Linux (Ubuntu 20.04.2 LTS) / x86_64 | OK | OK | OK | |||||||||
| tokay2 | Windows Server 2012 R2 Standard / x64 | OK | ERROR | skipped | skipped | |||||||||
| machv2 | macOS 10.14.6 Mojave / x86_64 | OK | OK | OK | OK | |||||||||
| Package: idpr |
| Version: 1.2.0 |
| Command: C:\cygwin\bin\curl.exe -O http://155.52.207.165/BBS/3.13/bioc/src/contrib/idpr_1.2.0.tar.gz && rm -rf idpr.buildbin-libdir && mkdir idpr.buildbin-libdir && C:\Users\biocbuild\bbs-3.13-bioc\R\bin\R.exe CMD INSTALL --merge-multiarch --build --library=idpr.buildbin-libdir idpr_1.2.0.tar.gz && C:\Users\biocbuild\bbs-3.13-bioc\R\bin\R.exe CMD INSTALL idpr_1.2.0.zip && rm idpr_1.2.0.tar.gz idpr_1.2.0.zip |
| StartedAt: 2021-10-14 08:24:53 -0400 (Thu, 14 Oct 2021) |
| EndedAt: 2021-10-14 08:26:02 -0400 (Thu, 14 Oct 2021) |
| EllapsedTime: 69.0 seconds |
| RetCode: 0 |
| Status: OK |
##############################################################################
##############################################################################
###
### Running command:
###
### C:\cygwin\bin\curl.exe -O http://155.52.207.165/BBS/3.13/bioc/src/contrib/idpr_1.2.0.tar.gz && rm -rf idpr.buildbin-libdir && mkdir idpr.buildbin-libdir && C:\Users\biocbuild\bbs-3.13-bioc\R\bin\R.exe CMD INSTALL --merge-multiarch --build --library=idpr.buildbin-libdir idpr_1.2.0.tar.gz && C:\Users\biocbuild\bbs-3.13-bioc\R\bin\R.exe CMD INSTALL idpr_1.2.0.zip && rm idpr_1.2.0.tar.gz idpr_1.2.0.zip
###
##############################################################################
##############################################################################
% Total % Received % Xferd Average Speed Time Time Time Current
Dload Upload Total Spent Left Speed
0 0 0 0 0 0 0 0 --:--:-- --:--:-- --:--:-- 0
2 332k 2 7889 0 0 95897 0 0:00:03 --:--:-- 0:00:03 96207
100 332k 100 332k 0 0 739k 0 --:--:-- --:--:-- --:--:-- 739k
install for i386
* installing *source* package 'idpr' ...
** using staged installation
** R
** data
*** moving datasets to lazyload DB
** byte-compile and prepare package for lazy loading
** help
*** installing help indices
converting help for package 'idpr'
finding HTML links ... done
DUNMat html
DisorderMat html
EDSSMat html
KDNorm html
TP53Sequences html
chargeCalculationGlobal html
chargeCalculationLocal html
chargeHydropathyPlot html
hendersonHasselbalch html
idprofile html
iupred html
meanScaledHydropathy html
netCharge html
pKaData html
scaledHydropathyGlobal html
scaledHydropathyLocal html
sequenceCheck html
sequenceMap html
sequenceMapCoordinates html
sequencePlot html
structuralTendency html
structuralTendencyPlot html
*** copying figures
** building package indices
** installing vignettes
** testing if installed package can be loaded from temporary location
** testing if installed package can be loaded from final location
** testing if installed package keeps a record of temporary installation path
install for x64
* installing *source* package 'idpr' ...
** testing if installed package can be loaded
* MD5 sums
packaged installation of 'idpr' as idpr_1.2.0.zip
* DONE (idpr)
* installing to library 'C:/Users/biocbuild/bbs-3.13-bioc/R/library'
package 'idpr' successfully unpacked and MD5 sums checked