| Back to Multiple platform build/check report for BioC 3.13 |
|
This page was generated on 2021-10-15 15:06:08 -0400 (Fri, 15 Oct 2021).
|
To the developers/maintainers of the idiogram package: - Please allow up to 24 hours (and sometimes 48 hours) for your latest push to git@git.bioconductor.org:packages/idiogram.git to reflect on this report. See How and When does the builder pull? When will my changes propagate? here for more information. - Make sure to use the following settings in order to reproduce any error or warning you see on this page. |
| Package 901/2041 | Hostname | OS / Arch | INSTALL | BUILD | CHECK | BUILD BIN | ||||||||
| idiogram 1.68.0 (landing page) Karl J. Dykema
| nebbiolo1 | Linux (Ubuntu 20.04.2 LTS) / x86_64 | OK | OK | OK | |||||||||
| tokay2 | Windows Server 2012 R2 Standard / x64 | OK | OK | OK | OK | |||||||||
| machv2 | macOS 10.14.6 Mojave / x86_64 | OK | OK | OK | OK | |||||||||
| Package: idiogram |
| Version: 1.68.0 |
| Command: C:\cygwin\bin\curl.exe -O http://155.52.207.165/BBS/3.13/bioc/src/contrib/idiogram_1.68.0.tar.gz && rm -rf idiogram.buildbin-libdir && mkdir idiogram.buildbin-libdir && C:\Users\biocbuild\bbs-3.13-bioc\R\bin\R.exe CMD INSTALL --merge-multiarch --build --library=idiogram.buildbin-libdir idiogram_1.68.0.tar.gz && C:\Users\biocbuild\bbs-3.13-bioc\R\bin\R.exe CMD INSTALL idiogram_1.68.0.zip && rm idiogram_1.68.0.tar.gz idiogram_1.68.0.zip |
| StartedAt: 2021-10-14 09:10:25 -0400 (Thu, 14 Oct 2021) |
| EndedAt: 2021-10-14 09:11:22 -0400 (Thu, 14 Oct 2021) |
| EllapsedTime: 57.3 seconds |
| RetCode: 0 |
| Status: OK |
##############################################################################
##############################################################################
###
### Running command:
###
### C:\cygwin\bin\curl.exe -O http://155.52.207.165/BBS/3.13/bioc/src/contrib/idiogram_1.68.0.tar.gz && rm -rf idiogram.buildbin-libdir && mkdir idiogram.buildbin-libdir && C:\Users\biocbuild\bbs-3.13-bioc\R\bin\R.exe CMD INSTALL --merge-multiarch --build --library=idiogram.buildbin-libdir idiogram_1.68.0.tar.gz && C:\Users\biocbuild\bbs-3.13-bioc\R\bin\R.exe CMD INSTALL idiogram_1.68.0.zip && rm idiogram_1.68.0.tar.gz idiogram_1.68.0.zip
###
##############################################################################
##############################################################################
% Total % Received % Xferd Average Speed Time Time Time Current
Dload Upload Total Spent Left Speed
0 0 0 0 0 0 0 0 --:--:-- --:--:-- --:--:-- 0
9 1671k 9 155k 0 0 752k 0 0:00:02 --:--:-- 0:00:02 754k
100 1671k 100 1671k 0 0 2593k 0 --:--:-- --:--:-- --:--:-- 2595k
install for i386
* installing *source* package 'idiogram' ...
** using staged installation
** R
** data
*** moving datasets to lazyload DB
** byte-compile and prepare package for lazy loading
** help
*** installing help indices
converting help for package 'idiogram'
finding HTML links ... done
Hs.cytoband html
buildChromLocation.2 html
cytoband html
idiograb html
idiogram html
idiogramExample html
** building package indices
** installing vignettes
** testing if installed package can be loaded from temporary location
** testing if installed package can be loaded from final location
** testing if installed package keeps a record of temporary installation path
install for x64
* installing *source* package 'idiogram' ...
** testing if installed package can be loaded
* MD5 sums
packaged installation of 'idiogram' as idiogram_1.68.0.zip
* DONE (idiogram)
* installing to library 'C:/Users/biocbuild/bbs-3.13-bioc/R/library'
package 'idiogram' successfully unpacked and MD5 sums checked