| Back to Multiple platform build/check report for BioC 3.13 | 
 | 
This page was generated on 2021-10-15 15:06:40 -0400 (Fri, 15 Oct 2021).
| To the developers/maintainers of the iSEE package: - Please allow up to 24 hours (and sometimes 48 hours) for your latest push to git@git.bioconductor.org:packages/iSEE.git to reflect on this report. See How and When does the builder pull? When will my changes propagate? here for more information. - Make sure to use the following settings in order to reproduce any error or warning you see on this page. | 
| Package 945/2041 | Hostname | OS / Arch | INSTALL | BUILD | CHECK | BUILD BIN | ||||||||
| iSEE 2.4.0  (landing page) Kevin Rue-Albrecht 
 | nebbiolo1 | Linux (Ubuntu 20.04.2 LTS) / x86_64 | OK | OK | OK |  | ||||||||
| tokay2 | Windows Server 2012 R2 Standard / x64 | OK | OK | OK | OK |  | ||||||||
| machv2 | macOS 10.14.6 Mojave / x86_64 | OK | OK | OK | OK |  | ||||||||
| Package: iSEE | 
| Version: 2.4.0 | 
| Command: /Library/Frameworks/R.framework/Versions/Current/Resources/bin/R CMD check --install=check:iSEE.install-out.txt --library=/Library/Frameworks/R.framework/Versions/Current/Resources/library --no-vignettes --timings iSEE_2.4.0.tar.gz | 
| StartedAt: 2021-10-14 20:19:21 -0400 (Thu, 14 Oct 2021) | 
| EndedAt: 2021-10-14 20:27:42 -0400 (Thu, 14 Oct 2021) | 
| EllapsedTime: 500.7 seconds | 
| RetCode: 0 | 
| Status: OK | 
| CheckDir: iSEE.Rcheck | 
| Warnings: 0 | 
##############################################################################
##############################################################################
###
### Running command:
###
###   /Library/Frameworks/R.framework/Versions/Current/Resources/bin/R CMD check --install=check:iSEE.install-out.txt --library=/Library/Frameworks/R.framework/Versions/Current/Resources/library --no-vignettes --timings iSEE_2.4.0.tar.gz
###
##############################################################################
##############################################################################
* using log directory ‘/Users/biocbuild/bbs-3.13-bioc/meat/iSEE.Rcheck’
* using R version 4.1.1 (2021-08-10)
* using platform: x86_64-apple-darwin17.0 (64-bit)
* using session charset: UTF-8
* using option ‘--no-vignettes’
* checking for file ‘iSEE/DESCRIPTION’ ... OK
* this is package ‘iSEE’ version ‘2.4.0’
* package encoding: UTF-8
* checking package namespace information ... OK
* checking package dependencies ... OK
* checking if this is a source package ... OK
* checking if there is a namespace ... OK
* checking for hidden files and directories ... NOTE
Found the following hidden files and directories:
  .git_fetch_output.txt
  .git_merge_output.txt
These were most likely included in error. See section ‘Package
structure’ in the ‘Writing R Extensions’ manual.
* checking for portable file names ... OK
* checking for sufficient/correct file permissions ... OK
* checking whether package ‘iSEE’ can be installed ... OK
* checking installed package size ... OK
* checking package directory ... OK
* checking ‘build’ directory ... OK
* checking DESCRIPTION meta-information ... OK
* checking top-level files ... OK
* checking for left-over files ... OK
* checking index information ... OK
* checking package subdirectories ... OK
* checking R files for non-ASCII characters ... OK
* checking R files for syntax errors ... OK
* checking whether the package can be loaded ... OK
* checking whether the package can be loaded with stated dependencies ... OK
* checking whether the package can be unloaded cleanly ... OK
* checking whether the namespace can be loaded with stated dependencies ... OK
* checking whether the namespace can be unloaded cleanly ... OK
* checking dependencies in R code ... NOTE
Unexported object imported by a ':::' call: ‘S4Vectors:::selectSome’
  See the note in ?`:::` about the use of this operator.
* checking S3 generic/method consistency ... OK
* checking replacement functions ... OK
* checking foreign function calls ... OK
* checking R code for possible problems ... OK
* checking Rd files ... OK
* checking Rd metadata ... OK
* checking Rd cross-references ... OK
* checking for missing documentation entries ... OK
* checking for code/documentation mismatches ... OK
* checking Rd \usage sections ... OK
* checking Rd contents ... OK
* checking for unstated dependencies in examples ... OK
* checking files in ‘vignettes’ ... OK
* checking examples ... OK
Examples with CPU (user + system) or elapsed time > 5s
                             user system elapsed
checkColormapCompatibility 21.327  1.179  24.034
iSEE                       16.741  0.302  17.999
synchronizeAssays          14.682  0.241  15.996
* checking for unstated dependencies in ‘tests’ ... OK
* checking tests ...
  Running ‘testthat.R’
 OK
* checking for unstated dependencies in vignettes ... OK
* checking package vignettes in ‘inst/doc’ ... OK
* checking running R code from vignettes ... SKIPPED
* checking re-building of vignette outputs ... SKIPPED
* checking PDF version of manual ... OK
* DONE
Status: 2 NOTEs
See
  ‘/Users/biocbuild/bbs-3.13-bioc/meat/iSEE.Rcheck/00check.log’
for details.
iSEE.Rcheck/00install.out
############################################################################## ############################################################################## ### ### Running command: ### ### /Library/Frameworks/R.framework/Versions/Current/Resources/bin/R CMD INSTALL iSEE ### ############################################################################## ############################################################################## * installing to library ‘/Library/Frameworks/R.framework/Versions/4.1/Resources/library’ * installing *source* package ‘iSEE’ ... ** using staged installation ** R ** inst ** byte-compile and prepare package for lazy loading ** help *** installing help indices ** building package indices ** installing vignettes ** testing if installed package can be loaded from temporary location ** testing if installed package can be loaded from final location ** testing if installed package keeps a record of temporary installation path * DONE (iSEE)
iSEE.Rcheck/tests/testthat.Rout
R version 4.1.1 (2021-08-10) -- "Kick Things"
Copyright (C) 2021 The R Foundation for Statistical Computing
Platform: x86_64-apple-darwin17.0 (64-bit)
R is free software and comes with ABSOLUTELY NO WARRANTY.
You are welcome to redistribute it under certain conditions.
Type 'license()' or 'licence()' for distribution details.
R is a collaborative project with many contributors.
Type 'contributors()' for more information and
'citation()' on how to cite R or R packages in publications.
Type 'demo()' for some demos, 'help()' for on-line help, or
'help.start()' for an HTML browser interface to help.
Type 'q()' to quit R.
> library(testthat)
> library(iSEE)
Loading required package: SummarizedExperiment
Loading required package: MatrixGenerics
Loading required package: matrixStats
Attaching package: 'MatrixGenerics'
The following objects are masked from 'package:matrixStats':
    colAlls, colAnyNAs, colAnys, colAvgsPerRowSet, colCollapse,
    colCounts, colCummaxs, colCummins, colCumprods, colCumsums,
    colDiffs, colIQRDiffs, colIQRs, colLogSumExps, colMadDiffs,
    colMads, colMaxs, colMeans2, colMedians, colMins, colOrderStats,
    colProds, colQuantiles, colRanges, colRanks, colSdDiffs, colSds,
    colSums2, colTabulates, colVarDiffs, colVars, colWeightedMads,
    colWeightedMeans, colWeightedMedians, colWeightedSds,
    colWeightedVars, rowAlls, rowAnyNAs, rowAnys, rowAvgsPerColSet,
    rowCollapse, rowCounts, rowCummaxs, rowCummins, rowCumprods,
    rowCumsums, rowDiffs, rowIQRDiffs, rowIQRs, rowLogSumExps,
    rowMadDiffs, rowMads, rowMaxs, rowMeans2, rowMedians, rowMins,
    rowOrderStats, rowProds, rowQuantiles, rowRanges, rowRanks,
    rowSdDiffs, rowSds, rowSums2, rowTabulates, rowVarDiffs, rowVars,
    rowWeightedMads, rowWeightedMeans, rowWeightedMedians,
    rowWeightedSds, rowWeightedVars
Loading required package: GenomicRanges
Loading required package: stats4
Loading required package: BiocGenerics
Loading required package: parallel
Attaching package: 'BiocGenerics'
The following objects are masked from 'package:parallel':
    clusterApply, clusterApplyLB, clusterCall, clusterEvalQ,
    clusterExport, clusterMap, parApply, parCapply, parLapply,
    parLapplyLB, parRapply, parSapply, parSapplyLB
The following objects are masked from 'package:stats':
    IQR, mad, sd, var, xtabs
The following objects are masked from 'package:base':
    Filter, Find, Map, Position, Reduce, anyDuplicated, append,
    as.data.frame, basename, cbind, colnames, dirname, do.call,
    duplicated, eval, evalq, get, grep, grepl, intersect, is.unsorted,
    lapply, mapply, match, mget, order, paste, pmax, pmax.int, pmin,
    pmin.int, rank, rbind, rownames, sapply, setdiff, sort, table,
    tapply, union, unique, unsplit, which.max, which.min
Loading required package: S4Vectors
Attaching package: 'S4Vectors'
The following objects are masked from 'package:base':
    I, expand.grid, unname
Loading required package: IRanges
Loading required package: GenomeInfoDb
Loading required package: Biobase
Welcome to Bioconductor
    Vignettes contain introductory material; view with
    'browseVignettes()'. To cite Bioconductor, see
    'citation("Biobase")', and for packages 'citation("pkgname")'.
Attaching package: 'Biobase'
The following object is masked from 'package:MatrixGenerics':
    rowMedians
The following objects are masked from 'package:matrixStats':
    anyMissing, rowMedians
Loading required package: SingleCellExperiment
> 
> test_check("iSEE")
Loading required package: scRNAseq
Loading required package: scater
Loading required package: scuttle
Loading required package: ggplot2
snapshotDate(): 2021-05-18
see ?scRNAseq and browseVignettes('scRNAseq') for documentation
loading from cache
see ?scRNAseq and browseVignettes('scRNAseq') for documentation
loading from cache
see ?scRNAseq and browseVignettes('scRNAseq') for documentation
loading from cache
Class: ExperimentColorMap
assays(5): counts tophat_counts cufflinks_fpkm cufflinks_fpkm rsem_tpm
colData(1): passes_qc_checks_s
rowData(0):
all_discrete(0):
all_continuous(0):
global_discrete(1)
global_continuous(1)
══ Skipped tests ═══════════════════════════════════════════════════════════════
• empty test (1)
• waiting for a fix to the SCE itself (1)
[ FAIL 0 | WARN 4 | SKIP 2 | PASS 1453 ]
> 
> proc.time()
   user  system elapsed 
155.862   2.658 160.028 
iSEE.Rcheck/iSEE-Ex.timings
| name | user | system | elapsed | |
| ColumnDataPlot-class | 3.324 | 0.115 | 3.444 | |
| ColumnDataTable-class | 1.756 | 0.012 | 1.769 | |
| ComplexHeatmapPlot-class | 1.766 | 0.025 | 1.792 | |
| ExperimentColorMap-class | 0.024 | 0.004 | 0.028 | |
| FeatureAssayPlot-class | 1.697 | 0.022 | 1.722 | |
| ReducedDimensionPlot-class | 1.764 | 0.018 | 1.782 | |
| RowDataPlot-class | 1.623 | 0.010 | 1.635 | |
| RowDataTable-class | 0.964 | 0.009 | 0.974 | |
| SampleAssayPlot-class | 1.680 | 0.022 | 1.703 | |
| aes-utils | 0 | 0 | 0 | |
| cache-utils | 0.061 | 0.001 | 0.061 | |
| checkColormapCompatibility | 21.327 | 1.179 | 24.034 | |
| class-utils | 0.003 | 0.000 | 0.003 | |
| cleanDataset | 0.187 | 0.002 | 0.188 | |
| collapseBox | 0.042 | 0.001 | 0.043 | |
| createCustomPanels | 0.101 | 0.003 | 0.104 | |
| createLandingPage | 0.211 | 0.008 | 0.220 | |
| defaultTour | 0.013 | 0.002 | 0.015 | |
| filterDTColumn | 0.003 | 0.001 | 0.004 | |
| getPanelColor | 0.496 | 0.002 | 0.497 | |
| iSEE | 16.741 | 0.302 | 17.999 | |
| iSEEOptions | 0 | 0 | 0 | |
| jitterPoints | 0.090 | 0.012 | 0.103 | |
| labs-utils | 0.001 | 0.000 | 0.001 | |
| lassoPoints | 0.007 | 0.001 | 0.007 | |
| manage_commands | 0.000 | 0.001 | 0.001 | |
| multiSelectionToFactor | 0.001 | 0.000 | 0.001 | |
| panelDefaults | 0.000 | 0.000 | 0.001 | |
| plot-utils | 0.017 | 0.001 | 0.017 | |
| registerAppOptions | 0.015 | 0.001 | 0.016 | |
| selectionColorMap | 0.002 | 0.001 | 0.002 | |
| setCachedCommonInfo | 0.013 | 0.001 | 0.014 | |
| subsetPointsByGrid | 0.706 | 0.011 | 0.716 | |
| synchronizeAssays | 14.682 | 0.241 | 15.996 | |