| Back to Multiple platform build/check report for BioC 3.13 |
|
This page was generated on 2021-10-15 15:06:09 -0400 (Fri, 15 Oct 2021).
|
To the developers/maintainers of the iPAC package: - Please allow up to 24 hours (and sometimes 48 hours) for your latest push to git@git.bioconductor.org:packages/iPAC.git to reflect on this report. See How and When does the builder pull? When will my changes propagate? here for more information. - Make sure to use the following settings in order to reproduce any error or warning you see on this page. |
| Package 939/2041 | Hostname | OS / Arch | INSTALL | BUILD | CHECK | BUILD BIN | ||||||||
| iPAC 1.36.0 (landing page) Gregory Ryslik
| nebbiolo1 | Linux (Ubuntu 20.04.2 LTS) / x86_64 | OK | OK | OK | |||||||||
| tokay2 | Windows Server 2012 R2 Standard / x64 | OK | OK | OK | OK | |||||||||
| machv2 | macOS 10.14.6 Mojave / x86_64 | OK | OK | OK | OK | |||||||||
| Package: iPAC |
| Version: 1.36.0 |
| Command: rm -rf iPAC.buildbin-libdir && mkdir iPAC.buildbin-libdir && C:\Users\biocbuild\bbs-3.13-bioc\R\bin\R.exe CMD INSTALL --merge-multiarch --build --library=iPAC.buildbin-libdir iPAC_1.36.0.tar.gz |
| StartedAt: 2021-10-15 09:58:07 -0400 (Fri, 15 Oct 2021) |
| EndedAt: 2021-10-15 09:59:38 -0400 (Fri, 15 Oct 2021) |
| EllapsedTime: 91.6 seconds |
| RetCode: 0 |
| Status: OK |
| PackageFile: iPAC_1.36.0.zip |
| PackageFileSize: 476.8 KiB |
##############################################################################
##############################################################################
###
### Running command:
###
### rm -rf iPAC.buildbin-libdir && mkdir iPAC.buildbin-libdir && C:\Users\biocbuild\bbs-3.13-bioc\R\bin\R.exe CMD INSTALL --merge-multiarch --build --library=iPAC.buildbin-libdir iPAC_1.36.0.tar.gz
###
##############################################################################
##############################################################################
install for i386
* installing *source* package 'iPAC' ...
** using staged installation
** R
** data
** inst
** byte-compile and prepare package for lazy loading
** help
*** installing help indices
converting help for package 'iPAC'
finding HTML links ... done
ClusterFind html
KRAS.Mutations html
PIK3CA.Mutations html
Plot.Protein.Linear html
get.AASeq html
get.AlignedPositions html
get.Positions html
get.Remapped.Order html
get.SingleLetterCode html
iPAC-package html
nmc html
** building package indices
** installing vignettes
** testing if installed package can be loaded from temporary location
** testing if installed package can be loaded from final location
** testing if installed package keeps a record of temporary installation path
install for x64
* installing *source* package 'iPAC' ...
** testing if installed package can be loaded
* MD5 sums
packaged installation of 'iPAC' as iPAC_1.36.0.zip
* DONE (iPAC)