| Back to Multiple platform build/check report for BioC 3.13 |
|
This page was generated on 2021-10-15 15:06:08 -0400 (Fri, 15 Oct 2021).
|
To the developers/maintainers of the iCARE package: - Please allow up to 24 hours (and sometimes 48 hours) for your latest push to git@git.bioconductor.org:packages/iCARE.git to reflect on this report. See How and When does the builder pull? When will my changes propagate? here for more information. - Make sure to use the following settings in order to reproduce any error or warning you see on this page. |
| Package 891/2041 | Hostname | OS / Arch | INSTALL | BUILD | CHECK | BUILD BIN | ||||||||
| iCARE 1.20.0 (landing page) Bill Wheeler
| nebbiolo1 | Linux (Ubuntu 20.04.2 LTS) / x86_64 | OK | OK | WARNINGS | |||||||||
| tokay2 | Windows Server 2012 R2 Standard / x64 | OK | OK | WARNINGS | OK | |||||||||
| machv2 | macOS 10.14.6 Mojave / x86_64 | OK | OK | WARNINGS | OK | |||||||||
| Package: iCARE |
| Version: 1.20.0 |
| Command: rm -rf iCARE.buildbin-libdir && mkdir iCARE.buildbin-libdir && C:\Users\biocbuild\bbs-3.13-bioc\R\bin\R.exe CMD INSTALL --merge-multiarch --build --library=iCARE.buildbin-libdir iCARE_1.20.0.tar.gz |
| StartedAt: 2021-10-15 09:52:01 -0400 (Fri, 15 Oct 2021) |
| EndedAt: 2021-10-15 09:53:30 -0400 (Fri, 15 Oct 2021) |
| EllapsedTime: 89.2 seconds |
| RetCode: 0 |
| Status: OK |
| PackageFile: iCARE_1.20.0.zip |
| PackageFileSize: 1.464 MiB |
##############################################################################
##############################################################################
###
### Running command:
###
### rm -rf iCARE.buildbin-libdir && mkdir iCARE.buildbin-libdir && C:\Users\biocbuild\bbs-3.13-bioc\R\bin\R.exe CMD INSTALL --merge-multiarch --build --library=iCARE.buildbin-libdir iCARE_1.20.0.tar.gz
###
##############################################################################
##############################################################################
install for i386
* installing *source* package 'iCARE' ...
** using staged installation
** libs
"C:/rtools40/mingw32/bin/"gcc -I"C:/Users/BIOCBU~1/BBS-3~1.13-/R/include" -DNDEBUG -I"c:/extsoft/include" -O2 -Wall -std=gnu99 -mfpmath=sse -msse2 -mstackrealign -c source.c -o source.o
C:/rtools40/mingw32/bin/gcc -shared -s -static-libgcc -o iCARE.dll tmp.def source.o -Lc:/extsoft/lib/i386 -Lc:/extsoft/lib -LC:/Users/BIOCBU~1/BBS-3~1.13-/R/bin/i386 -lR
installing to C:/Users/biocbuild/bbs-3.13-bioc/meat/iCARE.buildbin-libdir/00LOCK-iCARE/00new/iCARE/libs/i386
** R
** data
*** moving datasets to lazyload DB
** inst
** byte-compile and prepare package for lazy loading
** help
*** installing help indices
converting help for package 'iCARE'
finding HTML links ... done
bc_data html
compute.absolute.risk html
compute.absolute.risk.split.interval html
iCARE html
model_validation html
plotModelValidation html
** building package indices
** installing vignettes
** testing if installed package can be loaded from temporary location
** testing if installed package can be loaded from final location
** testing if installed package keeps a record of temporary installation path
install for x64
* installing *source* package 'iCARE' ...
** libs
"C:/rtools40/mingw64/bin/"gcc -I"C:/Users/BIOCBU~1/BBS-3~1.13-/R/include" -DNDEBUG -I"C:/extsoft/include" -O2 -Wall -std=gnu99 -mfpmath=sse -msse2 -mstackrealign -c source.c -o source.o
C:/rtools40/mingw64/bin/gcc -shared -s -static-libgcc -o iCARE.dll tmp.def source.o -LC:/extsoft/lib/x64 -LC:/extsoft/lib -LC:/Users/BIOCBU~1/BBS-3~1.13-/R/bin/x64 -lR
installing to C:/Users/biocbuild/bbs-3.13-bioc/meat/iCARE.buildbin-libdir/iCARE/libs/x64
** testing if installed package can be loaded
* MD5 sums
packaged installation of 'iCARE' as iCARE_1.20.0.zip
* DONE (iCARE)