| Back to Multiple platform build/check report for BioC 3.13 |
|
This page was generated on 2021-10-15 15:06:07 -0400 (Fri, 15 Oct 2021).
|
To the developers/maintainers of the hiAnnotator package: - Please allow up to 24 hours (and sometimes 48 hours) for your latest push to git@git.bioconductor.org:packages/hiAnnotator.git to reflect on this report. See How and When does the builder pull? When will my changes propagate? here for more information. - Make sure to use the following settings in order to reproduce any error or warning you see on this page. |
| Package 854/2041 | Hostname | OS / Arch | INSTALL | BUILD | CHECK | BUILD BIN | ||||||||
| hiAnnotator 1.26.0 (landing page) Nirav V Malani
| nebbiolo1 | Linux (Ubuntu 20.04.2 LTS) / x86_64 | OK | OK | OK | |||||||||
| tokay2 | Windows Server 2012 R2 Standard / x64 | OK | OK | OK | OK | |||||||||
| machv2 | macOS 10.14.6 Mojave / x86_64 | OK | OK | OK | OK | |||||||||
| Package: hiAnnotator |
| Version: 1.26.0 |
| Command: rm -rf hiAnnotator.buildbin-libdir && mkdir hiAnnotator.buildbin-libdir && C:\Users\biocbuild\bbs-3.13-bioc\R\bin\R.exe CMD INSTALL --merge-multiarch --build --library=hiAnnotator.buildbin-libdir hiAnnotator_1.26.0.tar.gz |
| StartedAt: 2021-10-15 09:47:17 -0400 (Fri, 15 Oct 2021) |
| EndedAt: 2021-10-15 09:48:49 -0400 (Fri, 15 Oct 2021) |
| EllapsedTime: 92.7 seconds |
| RetCode: 0 |
| Status: OK |
| PackageFile: hiAnnotator_1.26.0.zip |
| PackageFileSize: 800.3 KiB |
##############################################################################
##############################################################################
###
### Running command:
###
### rm -rf hiAnnotator.buildbin-libdir && mkdir hiAnnotator.buildbin-libdir && C:\Users\biocbuild\bbs-3.13-bioc\R\bin\R.exe CMD INSTALL --merge-multiarch --build --library=hiAnnotator.buildbin-libdir hiAnnotator_1.26.0.tar.gz
###
##############################################################################
##############################################################################
install for i386
* installing *source* package 'hiAnnotator' ...
** using staged installation
** R
** data
** inst
** byte-compile and prepare package for lazy loading
** help
*** installing help indices
converting help for package 'hiAnnotator'
finding HTML links ... done
cleanColname html
doAnnotation html
dot-checkArgsSetDefaults html
dot-mergeAndReturn html
genes html
get2NearestFeature html
getFeatureCounts html
getFeatureCountsBig html
getLowestDists html
getNearestFeature html
getRelevantCol html
getSitesInFeature html
getUCSCtable html
finding level-2 HTML links ... done
getWindowLabel html
hiAnnotator html
makeChunks html
makeGRanges html
makeUCSCsession html
plotdisFeature html
sites html
sites.ctrl html
** building package indices
** installing vignettes
** testing if installed package can be loaded from temporary location
** testing if installed package can be loaded from final location
** testing if installed package keeps a record of temporary installation path
install for x64
* installing *source* package 'hiAnnotator' ...
** testing if installed package can be loaded
* MD5 sums
packaged installation of 'hiAnnotator' as hiAnnotator_1.26.0.zip
* DONE (hiAnnotator)