| Back to Multiple platform build/check report for BioC 3.13 |
|
This page was generated on 2021-10-15 15:06:38 -0400 (Fri, 15 Oct 2021).
|
To the developers/maintainers of the heatmaps package: - Please allow up to 24 hours (and sometimes 48 hours) for your latest push to git@git.bioconductor.org:packages/heatmaps.git to reflect on this report. See How and When does the builder pull? When will my changes propagate? here for more information. - Make sure to use the following settings in order to reproduce any error or warning you see on this page. |
| Package 847/2041 | Hostname | OS / Arch | INSTALL | BUILD | CHECK | BUILD BIN | ||||||||
| heatmaps 1.16.0 (landing page) Malcolm Perry
| nebbiolo1 | Linux (Ubuntu 20.04.2 LTS) / x86_64 | OK | OK | OK | |||||||||
| tokay2 | Windows Server 2012 R2 Standard / x64 | OK | OK | OK | OK | |||||||||
| machv2 | macOS 10.14.6 Mojave / x86_64 | OK | OK | OK | OK | |||||||||
| Package: heatmaps |
| Version: 1.16.0 |
| Command: rm -rf heatmaps.buildbin-libdir && mkdir heatmaps.buildbin-libdir && /Users/biocbuild/BBS/utils/build-universal.sh heatmaps_1.16.0.tar.gz /Library/Frameworks/R.framework/Versions/Current/Resources/bin/R heatmaps.buildbin-libdir |
| StartedAt: 2021-10-15 02:42:07 -0400 (Fri, 15 Oct 2021) |
| EndedAt: 2021-10-15 02:43:19 -0400 (Fri, 15 Oct 2021) |
| EllapsedTime: 72.0 seconds |
| RetCode: 0 |
| Status: OK |
| PackageFile: heatmaps_1.16.0.tgz |
| PackageFileSize: 8.567 MiB |
############################################################################## ############################################################################## ### ### Running command: ### ### rm -rf heatmaps.buildbin-libdir && mkdir heatmaps.buildbin-libdir && /Users/biocbuild/BBS/utils/build-universal.sh heatmaps_1.16.0.tar.gz /Library/Frameworks/R.framework/Versions/Current/Resources/bin/R heatmaps.buildbin-libdir ### ############################################################################## ############################################################################## >>>>>>> >>>>>>> INSTALLATION WITH 'R CMD INSTALL --preclean --no-multiarch --library=heatmaps.buildbin-libdir heatmaps_1.16.0.tar.gz' >>>>>>> * installing *source* package ‘heatmaps’ ... ** using staged installation ** R ** data ** inst ** byte-compile and prepare package for lazy loading Creating a new generic function for ‘scale’ in package ‘heatmaps’ ** help *** installing help indices ** building package indices ** installing vignettes ** testing if installed package can be loaded from temporary location ** testing if installed package can be loaded from final location ** testing if installed package keeps a record of temporary installation path * DONE (heatmaps)