| Back to Multiple platform build/check report for BioC 3.13 |
|
This page was generated on 2021-10-15 15:06:07 -0400 (Fri, 15 Oct 2021).
|
To the developers/maintainers of the gscreend package: - Please allow up to 24 hours (and sometimes 48 hours) for your latest push to git@git.bioconductor.org:packages/gscreend.git to reflect on this report. See How and When does the builder pull? When will my changes propagate? here for more information. - Make sure to use the following settings in order to reproduce any error or warning you see on this page. |
| Package 818/2041 | Hostname | OS / Arch | INSTALL | BUILD | CHECK | BUILD BIN | ||||||||
| gscreend 1.6.0 (landing page) Katharina Imkeller
| nebbiolo1 | Linux (Ubuntu 20.04.2 LTS) / x86_64 | OK | OK | OK | |||||||||
| tokay2 | Windows Server 2012 R2 Standard / x64 | OK | OK | OK | OK | |||||||||
| machv2 | macOS 10.14.6 Mojave / x86_64 | OK | OK | OK | OK | |||||||||
| Package: gscreend |
| Version: 1.6.0 |
| Command: rm -rf gscreend.buildbin-libdir && mkdir gscreend.buildbin-libdir && C:\Users\biocbuild\bbs-3.13-bioc\R\bin\R.exe CMD INSTALL --merge-multiarch --build --library=gscreend.buildbin-libdir gscreend_1.6.0.tar.gz |
| StartedAt: 2021-10-15 09:42:43 -0400 (Fri, 15 Oct 2021) |
| EndedAt: 2021-10-15 09:43:59 -0400 (Fri, 15 Oct 2021) |
| EllapsedTime: 75.5 seconds |
| RetCode: 0 |
| Status: OK |
| PackageFile: gscreend_1.6.0.zip |
| PackageFileSize: 3.154 MiB |
##############################################################################
##############################################################################
###
### Running command:
###
### rm -rf gscreend.buildbin-libdir && mkdir gscreend.buildbin-libdir && C:\Users\biocbuild\bbs-3.13-bioc\R\bin\R.exe CMD INSTALL --merge-multiarch --build --library=gscreend.buildbin-libdir gscreend_1.6.0.tar.gz
###
##############################################################################
##############################################################################
install for i386
* installing *source* package 'gscreend' ...
** using staged installation
** R
** inst
** byte-compile and prepare package for lazy loading
** help
*** installing help indices
converting help for package 'gscreend'
finding HTML links ... done
GeneData-PoolScreenExp-method html
GeneData html
PoolScreenExp-class html
ResultsTable html
RunGscreend html
assignGeneData html
calculateIntervalFits html
calculateLFC html
calculatePValues html
createPoolScreenExp html
createPoolScreenExpFromSE html
defineFittingIntervals html
fit_least_quantile html
normalizePoolScreenExp html
plotModelParameters html
plotReplicateCorrelation html
sgRNAData-PoolScreenExp-method html
sgRNAData html
** building package indices
** installing vignettes
** testing if installed package can be loaded from temporary location
** testing if installed package can be loaded from final location
** testing if installed package keeps a record of temporary installation path
install for x64
* installing *source* package 'gscreend' ...
** testing if installed package can be loaded
* MD5 sums
packaged installation of 'gscreend' as gscreend_1.6.0.zip
* DONE (gscreend)