| Back to Multiple platform build/check report for BioC 3.13 |
|
This page was generated on 2021-10-15 15:05:42 -0400 (Fri, 15 Oct 2021).
|
To the developers/maintainers of the gramm4R package: - Please allow up to 24 hours (and sometimes 48 hours) for your latest push to git@git.bioconductor.org:packages/gramm4R.git to reflect on this report. See How and When does the builder pull? When will my changes propagate? here for more information. - Make sure to use the following settings in order to reproduce any error or warning you see on this page. |
| Package 802/2041 | Hostname | OS / Arch | INSTALL | BUILD | CHECK | BUILD BIN | ||||||||
| gramm4R 1.6.0 (landing page) Tianlu Chen
| nebbiolo1 | Linux (Ubuntu 20.04.2 LTS) / x86_64 | ERROR | ERROR | skipped | |||||||||
| tokay2 | Windows Server 2012 R2 Standard / x64 | ERROR | ERROR | skipped | skipped | |||||||||
| machv2 | macOS 10.14.6 Mojave / x86_64 | ERROR | ERROR | skipped | skipped | |||||||||
| Package: gramm4R |
| Version: 1.6.0 |
| Command: /home/biocbuild/bbs-3.13-bioc/R/bin/R CMD build --keep-empty-dirs --no-resave-data gramm4R |
| StartedAt: 2021-10-14 07:24:02 -0400 (Thu, 14 Oct 2021) |
| EndedAt: 2021-10-14 07:24:03 -0400 (Thu, 14 Oct 2021) |
| EllapsedTime: 0.6 seconds |
| RetCode: 1 |
| Status: ERROR |
| PackageFile: None |
| PackageFileSize: NA |
##############################################################################
##############################################################################
###
### Running command:
###
### /home/biocbuild/bbs-3.13-bioc/R/bin/R CMD build --keep-empty-dirs --no-resave-data gramm4R
###
##############################################################################
##############################################################################
* checking for file ‘gramm4R/DESCRIPTION’ ... OK
* preparing ‘gramm4R’:
* checking DESCRIPTION meta-information ... OK
* installing the package to build vignettes
-----------------------------------
ERROR: dependency ‘DMwR’ is not available for package ‘gramm4R’
* removing ‘/tmp/RtmpXeI6HZ/Rinst208b9624124ff6/gramm4R’
-----------------------------------
ERROR: package installation failed