| Back to Multiple platform build/check report for BioC 3.13 |
|
This page was generated on 2021-10-15 15:06:06 -0400 (Fri, 15 Oct 2021).
|
To the developers/maintainers of the goSTAG package: - Please allow up to 24 hours (and sometimes 48 hours) for your latest push to git@git.bioconductor.org:packages/goSTAG.git to reflect on this report. See How and When does the builder pull? When will my changes propagate? here for more information. - Make sure to use the following settings in order to reproduce any error or warning you see on this page. |
| Package 792/2041 | Hostname | OS / Arch | INSTALL | BUILD | CHECK | BUILD BIN | ||||||||
| goSTAG 1.16.0 (landing page) Brian D. Bennett
| nebbiolo1 | Linux (Ubuntu 20.04.2 LTS) / x86_64 | OK | OK | OK | |||||||||
| tokay2 | Windows Server 2012 R2 Standard / x64 | OK | OK | OK | OK | |||||||||
| machv2 | macOS 10.14.6 Mojave / x86_64 | OK | OK | OK | OK | |||||||||
| Package: goSTAG |
| Version: 1.16.0 |
| Command: C:\cygwin\bin\curl.exe -O http://155.52.207.165/BBS/3.13/bioc/src/contrib/goSTAG_1.16.0.tar.gz && rm -rf goSTAG.buildbin-libdir && mkdir goSTAG.buildbin-libdir && C:\Users\biocbuild\bbs-3.13-bioc\R\bin\R.exe CMD INSTALL --merge-multiarch --build --library=goSTAG.buildbin-libdir goSTAG_1.16.0.tar.gz && C:\Users\biocbuild\bbs-3.13-bioc\R\bin\R.exe CMD INSTALL goSTAG_1.16.0.zip && rm goSTAG_1.16.0.tar.gz goSTAG_1.16.0.zip |
| StartedAt: 2021-10-14 08:11:05 -0400 (Thu, 14 Oct 2021) |
| EndedAt: 2021-10-14 08:14:35 -0400 (Thu, 14 Oct 2021) |
| EllapsedTime: 210.0 seconds |
| RetCode: 0 |
| Status: OK |
##############################################################################
##############################################################################
###
### Running command:
###
### C:\cygwin\bin\curl.exe -O http://155.52.207.165/BBS/3.13/bioc/src/contrib/goSTAG_1.16.0.tar.gz && rm -rf goSTAG.buildbin-libdir && mkdir goSTAG.buildbin-libdir && C:\Users\biocbuild\bbs-3.13-bioc\R\bin\R.exe CMD INSTALL --merge-multiarch --build --library=goSTAG.buildbin-libdir goSTAG_1.16.0.tar.gz && C:\Users\biocbuild\bbs-3.13-bioc\R\bin\R.exe CMD INSTALL goSTAG_1.16.0.zip && rm goSTAG_1.16.0.tar.gz goSTAG_1.16.0.zip
###
##############################################################################
##############################################################################
% Total % Received % Xferd Average Speed Time Time Time Current
Dload Upload Total Spent Left Speed
0 0 0 0 0 0 0 0 --:--:-- --:--:-- --:--:-- 0
20 1576k 20 325k 0 0 956k 0 0:00:01 --:--:-- 0:00:01 957k
100 1576k 100 1576k 0 0 1620k 0 --:--:-- --:--:-- --:--:-- 1620k
install for i386
* installing *source* package 'goSTAG' ...
** using staged installation
** R
** data
*** moving datasets to lazyload DB
** inst
** byte-compile and prepare package for lazy loading
** help
*** installing help indices
converting help for package 'goSTAG'
finding HTML links ... done
annotateClusters html
goSTAG-package html
goSTAG_example_gene_lists html
goSTAG_go_genes_human html
goSTAG_go_genes_mouse html
goSTAG_go_genes_rat html
groupClusters html
loadGOTerms html
loadGeneLists html
performGOEnrichment html
performHierarchicalClustering html
plotHeatmap html
rat_cancer_therapeutics_gene_lists html
** building package indices
** installing vignettes
** testing if installed package can be loaded from temporary location
** testing if installed package can be loaded from final location
** testing if installed package keeps a record of temporary installation path
install for x64
* installing *source* package 'goSTAG' ...
** testing if installed package can be loaded
* MD5 sums
packaged installation of 'goSTAG' as goSTAG_1.16.0.zip
* DONE (goSTAG)
* installing to library 'C:/Users/biocbuild/bbs-3.13-bioc/R/library'
package 'goSTAG' successfully unpacked and MD5 sums checked