| Back to Multiple platform build/check report for BioC 3.13 |
|
This page was generated on 2021-10-15 15:05:41 -0400 (Fri, 15 Oct 2021).
|
To the developers/maintainers of the girafe package: - Please allow up to 24 hours (and sometimes 48 hours) for your latest push to git@git.bioconductor.org:packages/girafe.git to reflect on this report. See How and When does the builder pull? When will my changes propagate? here for more information. - Make sure to use the following settings in order to reproduce any error or warning you see on this page. |
| Package 770/2041 | Hostname | OS / Arch | INSTALL | BUILD | CHECK | BUILD BIN | ||||||||
| girafe 1.44.0 (landing page) J. Toedling
| nebbiolo1 | Linux (Ubuntu 20.04.2 LTS) / x86_64 | OK | OK | OK | |||||||||
| tokay2 | Windows Server 2012 R2 Standard / x64 | OK | OK | OK | OK | |||||||||
| machv2 | macOS 10.14.6 Mojave / x86_64 | OK | OK | OK | OK | |||||||||
| Package: girafe |
| Version: 1.44.0 |
| Command: /home/biocbuild/bbs-3.13-bioc/R/bin/R CMD check --install=check:girafe.install-out.txt --library=/home/biocbuild/bbs-3.13-bioc/R/library --no-vignettes --timings girafe_1.44.0.tar.gz |
| StartedAt: 2021-10-14 10:01:47 -0400 (Thu, 14 Oct 2021) |
| EndedAt: 2021-10-14 10:04:59 -0400 (Thu, 14 Oct 2021) |
| EllapsedTime: 192.6 seconds |
| RetCode: 0 |
| Status: OK |
| CheckDir: girafe.Rcheck |
| Warnings: 0 |
##############################################################################
##############################################################################
###
### Running command:
###
### /home/biocbuild/bbs-3.13-bioc/R/bin/R CMD check --install=check:girafe.install-out.txt --library=/home/biocbuild/bbs-3.13-bioc/R/library --no-vignettes --timings girafe_1.44.0.tar.gz
###
##############################################################################
##############################################################################
* using log directory ‘/home/biocbuild/bbs-3.13-bioc/meat/girafe.Rcheck’
* using R version 4.1.1 (2021-08-10)
* using platform: x86_64-pc-linux-gnu (64-bit)
* using session charset: UTF-8
* using option ‘--no-vignettes’
* checking for file ‘girafe/DESCRIPTION’ ... OK
* checking extension type ... Package
* this is package ‘girafe’ version ‘1.44.0’
* checking package namespace information ... OK
* checking package dependencies ... NOTE
Depends: includes the non-default packages:
'BiocGenerics', 'S4Vectors', 'Rsamtools', 'intervals', 'ShortRead',
'genomeIntervals', 'grid'
Adding so many packages to the search path is excessive and importing
selectively is preferable.
* checking if this is a source package ... OK
* checking if there is a namespace ... OK
* checking for hidden files and directories ... OK
* checking for portable file names ... OK
* checking for sufficient/correct file permissions ... OK
* checking whether package ‘girafe’ can be installed ... OK
* checking installed package size ... OK
* checking package directory ... OK
* checking ‘build’ directory ... OK
* checking DESCRIPTION meta-information ... NOTE
Packages listed in more than one of Depends, Imports, Suggests, Enhances:
‘methods’ ‘genomeIntervals’
A package should be listed in only one of these fields.
* checking top-level files ... OK
* checking for left-over files ... OK
* checking index information ... OK
* checking package subdirectories ... OK
* checking R files for non-ASCII characters ... OK
* checking R files for syntax errors ... OK
* checking whether the package can be loaded ... OK
* checking whether the package can be loaded with stated dependencies ... OK
* checking whether the package can be unloaded cleanly ... OK
* checking whether the namespace can be loaded with stated dependencies ... OK
* checking whether the namespace can be unloaded cleanly ... OK
* checking dependencies in R code ... NOTE
'library' or 'require' call to ‘MASS’ in package code.
Please use :: or requireNamespace() instead.
See section 'Suggested packages' in the 'Writing R Extensions' manual.
Package in Depends field not imported from: ‘Rsamtools’
These packages need to be imported from (in the NAMESPACE file)
for when this namespace is loaded but not attached.
Unexported object imported by a ':::' call: ‘genomeIntervals:::intervalsForOverlap’
See the note in ?`:::` about the use of this operator.
* checking S3 generic/method consistency ... OK
* checking replacement functions ... OK
* checking foreign function calls ... OK
* checking R code for possible problems ... NOTE
agiFromBam: no visible binding for global variable ‘mclapply’
agiFromBam: no visible global function definition for ‘scanBamHeader’
agiFromBam: no visible global function definition for ‘ScanBamParam’
agiFromBam : <anonymous>: no visible global function definition for
‘IRangesList’
agiFromBam : <anonymous>: no visible global function definition for
‘scanBamFlag’
agiFromBam : <anonymous>: no visible global function definition for
‘scanBam’
countReadsAnnotated: no visible binding for global variable ‘mclapply’
countReadsAnnotated: no visible binding for global variable ‘fraction1’
fracOverlap: no visible binding for global variable ‘fraction1’
fracOverlap: no visible binding for global variable ‘fraction2’
getFeatureCounts: no visible binding for global variable ‘fraction1’
getFeatureCounts: no visible binding for global variable ‘Index1’
intPhred: no visible binding for global variable ‘mclapply’
oldAGIoverlap: no visible binding for global variable ‘mclapply’
plotReads: no visible binding for global variable ‘x.start’
plotReads: no visible binding for global variable ‘x.end’
plotReads: no visible binding for global variable ‘y’
reduceOne: no visible binding for global variable ‘fraction1’
reduceOne: no visible binding for global variable ‘fraction2’
trimAdapter: no visible global function definition for ‘DNAString’
trimAdapter: no visible global function definition for ‘narrow’
windowCountAndGC: no visible binding for global variable ‘n.reads’
windowCountAndGC: no visible global function definition for ‘Views’
windowCountAndGC: no visible global function definition for ‘unmasked’
windowCountAndGC: no visible global function definition for
‘alphabetFrequency’
clusters,AlignedGenomeIntervals: no visible binding for global variable
‘mclapply’
clusters,Genome_intervals: no visible binding for global variable
‘mclapply’
coverage,AlignedGenomeIntervals: no visible binding for global variable
‘mclapply’
coverage,AlignedGenomeIntervals : <anonymous>: no visible binding for
global variable ‘on.minus’
interval_included,AlignedGenomeIntervals-AlignedGenomeIntervals: no
visible binding for global variable ‘mclapply’
reduce,AlignedGenomeIntervals: no visible binding for global variable
‘mclapply’
reduce,Genome_intervals: no visible binding for global variable
‘mclapply’
reduce,Genome_intervals: no visible binding for global variable
‘fraction1’
reduce,Genome_intervals: no visible binding for global variable
‘fraction2’
Undefined global functions or variables:
DNAString IRangesList Index1 ScanBamParam Views alphabetFrequency
fraction1 fraction2 mclapply n.reads narrow on.minus scanBam
scanBamFlag scanBamHeader unmasked x.end x.start y
* checking Rd files ... OK
* checking Rd metadata ... OK
* checking Rd cross-references ... OK
* checking for missing documentation entries ... OK
* checking for code/documentation mismatches ... OK
* checking Rd \usage sections ... OK
* checking Rd contents ... OK
* checking for unstated dependencies in examples ... OK
* checking line endings in C/C++/Fortran sources/headers ... OK
* checking line endings in Makefiles ... OK
* checking for GNU extensions in Makefiles ... OK
* checking include directives in Makefiles ... OK
* checking compiled code ... NOTE
Note: information on .o files is not available
* checking files in ‘vignettes’ ... OK
* checking examples ... OK
Examples with CPU (user + system) or elapsed time > 5s
user system elapsed
AlignedGenomeIntervals-class 6.834 0.401 5.574
perWindow 7.094 0.044 7.138
negbinomsig 6.886 0.168 7.054
* checking for unstated dependencies in vignettes ... OK
* checking package vignettes in ‘inst/doc’ ... OK
* checking running R code from vignettes ... SKIPPED
* checking re-building of vignette outputs ... SKIPPED
* checking PDF version of manual ... OK
* DONE
Status: 5 NOTEs
See
‘/home/biocbuild/bbs-3.13-bioc/meat/girafe.Rcheck/00check.log’
for details.
girafe.Rcheck/00install.out
############################################################################## ############################################################################## ### ### Running command: ### ### /home/biocbuild/bbs-3.13-bioc/R/bin/R CMD INSTALL girafe ### ############################################################################## ############################################################################## * installing to library ‘/home/biocbuild/bbs-3.13-bioc/R/library’ * installing *source* package ‘girafe’ ... ** using staged installation ** libs g++ -std=gnu++14 -I"/home/biocbuild/bbs-3.13-bioc/R/include" -DNDEBUG -I/usr/local/include -fpic -g -O2 -Wall -c coverage.cpp -o coverage.o gcc -I"/home/biocbuild/bbs-3.13-bioc/R/include" -DNDEBUG -I/usr/local/include -fpic -g -O2 -Wall -c girafe_init.c -o girafe_init.o g++ -std=gnu++14 -shared -L/home/biocbuild/bbs-3.13-bioc/R/lib -L/usr/local/lib -o girafe.so coverage.o girafe_init.o -L/home/biocbuild/bbs-3.13-bioc/R/lib -lR installing to /home/biocbuild/bbs-3.13-bioc/R/library/00LOCK-girafe/00new/girafe/libs ** R ** inst ** byte-compile and prepare package for lazy loading No methods found in package ‘IRanges’ for requests: ‘score’, ‘score<-’, ‘sort’ when loading ‘girafe’ Creating a generic function for ‘sample’ from package ‘base’ in package ‘girafe’ ** help *** installing help indices ** building package indices ** installing vignettes ** testing if installed package can be loaded from temporary location No methods found in package ‘IRanges’ for requests: ‘score’, ‘score<-’, ‘sort’ when loading ‘girafe’ ** checking absolute paths in shared objects and dynamic libraries ** testing if installed package can be loaded from final location No methods found in package ‘IRanges’ for requests: ‘score’, ‘score<-’, ‘sort’ when loading ‘girafe’ ** testing if installed package keeps a record of temporary installation path * DONE (girafe)
girafe.Rcheck/girafe-Ex.timings
| name | user | system | elapsed | |
| AlignedGenomeIntervals-class | 6.834 | 0.401 | 5.574 | |
| agiFromBam | 0.211 | 0.165 | 0.207 | |
| countReadsAnnotated | 0.088 | 0.032 | 0.127 | |
| fracOverlap | 0.177 | 0.086 | 0.201 | |
| intPhred | 0.033 | 0.036 | 0.075 | |
| medianByPosition | 0.324 | 0.502 | 0.495 | |
| negbinomsig | 6.886 | 0.168 | 7.054 | |
| perWindow | 7.094 | 0.044 | 7.138 | |
| plotAligned | 0.016 | 0.000 | 0.016 | |
| trimAdapter | 0.043 | 0.000 | 0.043 | |
| weightedConsensusMatrix | 0.003 | 0.000 | 0.003 | |
| whichNearestMethods | 0.206 | 0.004 | 0.210 | |