Back to Multiple platform build/check report for BioC 3.13 |
|
This page was generated on 2021-10-15 15:05:41 -0400 (Fri, 15 Oct 2021).
To the developers/maintainers of the ggtreeExtra package: - Please allow up to 24 hours (and sometimes 48 hours) for your latest push to git@git.bioconductor.org:packages/ggtreeExtra.git to reflect on this report. See How and When does the builder pull? When will my changes propagate? here for more information. - Make sure to use the following settings in order to reproduce any error or warning you see on this page. |
Package 768/2041 | Hostname | OS / Arch | INSTALL | BUILD | CHECK | BUILD BIN | ||||||||
ggtreeExtra 1.2.3 (landing page) Shuangbin Xu
| nebbiolo1 | Linux (Ubuntu 20.04.2 LTS) / x86_64 | OK | OK | OK | ![]() | ||||||||
tokay2 | Windows Server 2012 R2 Standard / x64 | OK | OK | OK | OK | ![]() | ||||||||
machv2 | macOS 10.14.6 Mojave / x86_64 | OK | OK | OK | OK | ![]() | ||||||||
Package: ggtreeExtra |
Version: 1.2.3 |
Command: /home/biocbuild/bbs-3.13-bioc/R/bin/R CMD build --keep-empty-dirs --no-resave-data ggtreeExtra |
StartedAt: 2021-10-14 07:22:01 -0400 (Thu, 14 Oct 2021) |
EndedAt: 2021-10-14 07:22:23 -0400 (Thu, 14 Oct 2021) |
EllapsedTime: 22.1 seconds |
RetCode: 0 |
Status: OK |
PackageFile: ggtreeExtra_1.2.3.tar.gz |
PackageFileSize: 519.7 KiB |
############################################################################## ############################################################################## ### ### Running command: ### ### /home/biocbuild/bbs-3.13-bioc/R/bin/R CMD build --keep-empty-dirs --no-resave-data ggtreeExtra ### ############################################################################## ############################################################################## * checking for file ‘ggtreeExtra/DESCRIPTION’ ... OK * preparing ‘ggtreeExtra’: * checking DESCRIPTION meta-information ... OK * installing the package to build vignettes * creating vignettes ... OK * checking for LF line-endings in source and make files and shell scripts * checking for empty or unneeded directories * building ‘ggtreeExtra_1.2.3.tar.gz’