Back to Multiple platform build/check report for BioC 3.13 |
|
This page was generated on 2021-10-15 15:06:06 -0400 (Fri, 15 Oct 2021).
To the developers/maintainers of the genotypeeval package: - Please allow up to 24 hours (and sometimes 48 hours) for your latest push to git@git.bioconductor.org:packages/genotypeeval.git to reflect on this report. See How and When does the builder pull? When will my changes propagate? here for more information. - Make sure to use the following settings in order to reproduce any error or warning you see on this page. |
Package 751/2041 | Hostname | OS / Arch | INSTALL | BUILD | CHECK | BUILD BIN | ||||||||
genotypeeval 1.24.0 (landing page) Jennifer Tom
| nebbiolo1 | Linux (Ubuntu 20.04.2 LTS) / x86_64 | OK | OK | WARNINGS | ![]() | ||||||||
tokay2 | Windows Server 2012 R2 Standard / x64 | OK | OK | WARNINGS | OK | ![]() | ||||||||
machv2 | macOS 10.14.6 Mojave / x86_64 | OK | OK | WARNINGS | OK | ![]() | ||||||||
Package: genotypeeval |
Version: 1.24.0 |
Command: C:\cygwin\bin\curl.exe -O http://155.52.207.165/BBS/3.13/bioc/src/contrib/genotypeeval_1.24.0.tar.gz && rm -rf genotypeeval.buildbin-libdir && mkdir genotypeeval.buildbin-libdir && C:\Users\biocbuild\bbs-3.13-bioc\R\bin\R.exe CMD INSTALL --merge-multiarch --build --library=genotypeeval.buildbin-libdir genotypeeval_1.24.0.tar.gz && C:\Users\biocbuild\bbs-3.13-bioc\R\bin\R.exe CMD INSTALL genotypeeval_1.24.0.zip && rm genotypeeval_1.24.0.tar.gz genotypeeval_1.24.0.zip |
StartedAt: 2021-10-14 10:44:41 -0400 (Thu, 14 Oct 2021) |
EndedAt: 2021-10-14 10:45:46 -0400 (Thu, 14 Oct 2021) |
EllapsedTime: 65.0 seconds |
RetCode: 0 |
Status: OK |
############################################################################## ############################################################################## ### ### Running command: ### ### C:\cygwin\bin\curl.exe -O http://155.52.207.165/BBS/3.13/bioc/src/contrib/genotypeeval_1.24.0.tar.gz && rm -rf genotypeeval.buildbin-libdir && mkdir genotypeeval.buildbin-libdir && C:\Users\biocbuild\bbs-3.13-bioc\R\bin\R.exe CMD INSTALL --merge-multiarch --build --library=genotypeeval.buildbin-libdir genotypeeval_1.24.0.tar.gz && C:\Users\biocbuild\bbs-3.13-bioc\R\bin\R.exe CMD INSTALL genotypeeval_1.24.0.zip && rm genotypeeval_1.24.0.tar.gz genotypeeval_1.24.0.zip ### ############################################################################## ############################################################################## % Total % Received % Xferd Average Speed Time Time Time Current Dload Upload Total Spent Left Speed 0 0 0 0 0 0 0 0 --:--:-- --:--:-- --:--:-- 0 100 401k 100 401k 0 0 982k 0 --:--:-- --:--:-- --:--:-- 985k install for i386 * installing *source* package 'genotypeeval' ... ** using staged installation ** R ** inst ** byte-compile and prepare package for lazy loading ** help *** installing help indices converting help for package 'genotypeeval' finding HTML links ... done GoldData-class html GoldDataFromGRanges html GoldDataParam-class html GoldDataParam html ReadGoldData html ReadVCFData html ReadVCFDataChunk html VCFData-class html VCFEvaluate html VCFQAParam-class html VCFQAParam html VCFQAReport-class html XHeterozygosity html admixture html callbyChrPlot html calltypePlot html chunkData html computeTiTv html didSamplePass html didSamplePassOverall html genotypeQualityPlot html getCoefs html getDescriptors html getName html getPlots html getResults html getVR html goldCompare html hetGap html hetsMasked html homrefPlot html meanGQ html myf html numberCalls html numberOfHets html numberOfHomRefs html numberOfHomVars html percentHets html percentInTarget html rareCompare html readDepth html readVcfGold html readdepthPlot html reformatData html titv html ** building package indices ** installing vignettes ** testing if installed package can be loaded from temporary location ** testing if installed package can be loaded from final location ** testing if installed package keeps a record of temporary installation path install for x64 * installing *source* package 'genotypeeval' ... ** testing if installed package can be loaded * MD5 sums packaged installation of 'genotypeeval' as genotypeeval_1.24.0.zip * DONE (genotypeeval) * installing to library 'C:/Users/biocbuild/bbs-3.13-bioc/R/library' package 'genotypeeval' successfully unpacked and MD5 sums checked