Back to Multiple platform build/check report for BioC 3.13 |
|
This page was generated on 2021-10-15 15:06:37 -0400 (Fri, 15 Oct 2021).
To the developers/maintainers of the genomes package: - Please allow up to 24 hours (and sometimes 48 hours) for your latest push to git@git.bioconductor.org:packages/genomes.git to reflect on this report. See How and When does the builder pull? When will my changes propagate? here for more information. - Make sure to use the following settings in order to reproduce any error or warning you see on this page. |
Package 738/2041 | Hostname | OS / Arch | INSTALL | BUILD | CHECK | BUILD BIN | ||||||||
genomes 3.22.0 (landing page) Chris Stubben
| nebbiolo1 | Linux (Ubuntu 20.04.2 LTS) / x86_64 | OK | OK | OK | ![]() | ||||||||
tokay2 | Windows Server 2012 R2 Standard / x64 | OK | OK | OK | OK | ![]() | ||||||||
machv2 | macOS 10.14.6 Mojave / x86_64 | OK | OK | OK | OK | ![]() | ||||||||
Package: genomes |
Version: 3.22.0 |
Command: rm -rf genomes.buildbin-libdir && mkdir genomes.buildbin-libdir && /Users/biocbuild/BBS/utils/build-universal.sh genomes_3.22.0.tar.gz /Library/Frameworks/R.framework/Versions/Current/Resources/bin/R genomes.buildbin-libdir |
StartedAt: 2021-10-15 02:33:01 -0400 (Fri, 15 Oct 2021) |
EndedAt: 2021-10-15 02:34:06 -0400 (Fri, 15 Oct 2021) |
EllapsedTime: 64.7 seconds |
RetCode: 0 |
Status: OK |
PackageFile: genomes_3.22.0.tgz |
PackageFileSize: 60.83 KiB |
############################################################################## ############################################################################## ### ### Running command: ### ### rm -rf genomes.buildbin-libdir && mkdir genomes.buildbin-libdir && /Users/biocbuild/BBS/utils/build-universal.sh genomes_3.22.0.tar.gz /Library/Frameworks/R.framework/Versions/Current/Resources/bin/R genomes.buildbin-libdir ### ############################################################################## ############################################################################## >>>>>>> >>>>>>> INSTALLATION WITH 'R CMD INSTALL --preclean --no-multiarch --library=genomes.buildbin-libdir genomes_3.22.0.tar.gz' >>>>>>> * installing *source* package ‘genomes’ ... ** using staged installation ** R ** inst ** byte-compile and prepare package for lazy loading ** help *** installing help indices ** building package indices ** installing vignettes ** testing if installed package can be loaded from temporary location ** testing if installed package can be loaded from final location ** testing if installed package keeps a record of temporary installation path * DONE (genomes)