| Back to Multiple platform build/check report for BioC 3.13 | 
 | 
This page was generated on 2021-10-15 15:06:06 -0400 (Fri, 15 Oct 2021).
| To the developers/maintainers of the genomeIntervals package: - Please allow up to 24 hours (and sometimes 48 hours) for your latest push to git@git.bioconductor.org:packages/genomeIntervals.git to reflect on this report. See How and When does the builder pull? When will my changes propagate? here for more information. - Make sure to use the following settings in order to reproduce any error or warning you see on this page. | 
| Package 737/2041 | Hostname | OS / Arch | INSTALL | BUILD | CHECK | BUILD BIN | ||||||||
| genomeIntervals 1.48.0  (landing page) Julien Gagneur 
 | nebbiolo1 | Linux (Ubuntu 20.04.2 LTS) / x86_64 | OK | OK | OK |  | ||||||||
| tokay2 | Windows Server 2012 R2 Standard / x64 | OK | OK | OK | OK |  | ||||||||
| machv2 | macOS 10.14.6 Mojave / x86_64 | OK | OK | OK | OK |  | ||||||||
| Package: genomeIntervals | 
| Version: 1.48.0 | 
| Command: rm -rf genomeIntervals.buildbin-libdir && mkdir genomeIntervals.buildbin-libdir && C:\Users\biocbuild\bbs-3.13-bioc\R\bin\R.exe CMD INSTALL --merge-multiarch --build --library=genomeIntervals.buildbin-libdir genomeIntervals_1.48.0.tar.gz | 
| StartedAt: 2021-10-15 09:32:19 -0400 (Fri, 15 Oct 2021) | 
| EndedAt: 2021-10-15 09:33:54 -0400 (Fri, 15 Oct 2021) | 
| EllapsedTime: 95.2 seconds | 
| RetCode: 0 | 
| Status: OK | 
| PackageFile: genomeIntervals_1.48.0.zip | 
| PackageFileSize: 615.1 KiB | 
##############################################################################
##############################################################################
###
### Running command:
###
###   rm -rf genomeIntervals.buildbin-libdir && mkdir genomeIntervals.buildbin-libdir && C:\Users\biocbuild\bbs-3.13-bioc\R\bin\R.exe CMD INSTALL --merge-multiarch --build --library=genomeIntervals.buildbin-libdir genomeIntervals_1.48.0.tar.gz
###
##############################################################################
##############################################################################
install for i386
* installing *source* package 'genomeIntervals' ...
** using staged installation
** R
** data
** inst
** byte-compile and prepare package for lazy loading
** help
*** installing help indices
  converting help for package 'genomeIntervals'
    finding HTML links ... done
    GenomeIntervals-constructor             html  
    Genome_intervals-class                  html  
    finding level-2 HTML links ... done
    Genome_intervals-coercion-methods       html  
    Genome_intervals-deprecated             html  
    Genome_intervals-ordering               html  
    Genome_intervals_stranded-class         html  
    c.Genome_intervals                      html  
    core_annotated                          html  
    distance_to_nearest-methods             html  
    gen_ints                                html  
    genomeIntervals-package                 html  
REDIRECT:topic	 Previous alias or file overwritten by alias: C:/Users/biocbuild/bbs-3.13-bioc/meat/genomeIntervals.buildbin-libdir/00LOCK-genomeIntervals/00new/genomeIntervals/help/genomeIntervals.html
    genomeIntervals-readGff3                html  
    getGffAttribute                         html  
    interval_overlap-methods                html  
    interval_set_operations-methods         html  
    parseGffAttributes                      html  
** building package indices
** installing vignettes
** testing if installed package can be loaded from temporary location
** testing if installed package can be loaded from final location
** testing if installed package keeps a record of temporary installation path
install for x64
* installing *source* package 'genomeIntervals' ...
** testing if installed package can be loaded
* MD5 sums
packaged installation of 'genomeIntervals' as genomeIntervals_1.48.0.zip
* DONE (genomeIntervals)