| Back to Multiple platform build/check report for BioC 3.13 |
|
This page was generated on 2021-10-15 15:06:06 -0400 (Fri, 15 Oct 2021).
|
To the developers/maintainers of the geneplotter package: - Please allow up to 24 hours (and sometimes 48 hours) for your latest push to git@git.bioconductor.org:packages/geneplotter.git to reflect on this report. See How and When does the builder pull? When will my changes propagate? here for more information. - Make sure to use the following settings in order to reproduce any error or warning you see on this page. |
| Package 721/2041 | Hostname | OS / Arch | INSTALL | BUILD | CHECK | BUILD BIN | ||||||||
| geneplotter 1.70.0 (landing page) Bioconductor Package Maintainer
| nebbiolo1 | Linux (Ubuntu 20.04.2 LTS) / x86_64 | OK | OK | OK | |||||||||
| tokay2 | Windows Server 2012 R2 Standard / x64 | OK | OK | OK | OK | |||||||||
| machv2 | macOS 10.14.6 Mojave / x86_64 | OK | OK | OK | OK | |||||||||
| Package: geneplotter |
| Version: 1.70.0 |
| Command: C:\cygwin\bin\curl.exe -O http://155.52.207.165/BBS/3.13/bioc/src/contrib/geneplotter_1.70.0.tar.gz && rm -rf geneplotter.buildbin-libdir && mkdir geneplotter.buildbin-libdir && C:\Users\biocbuild\bbs-3.13-bioc\R\bin\R.exe CMD INSTALL --merge-multiarch --build --library=geneplotter.buildbin-libdir geneplotter_1.70.0.tar.gz && C:\Users\biocbuild\bbs-3.13-bioc\R\bin\R.exe CMD INSTALL geneplotter_1.70.0.zip && rm geneplotter_1.70.0.tar.gz geneplotter_1.70.0.zip |
| StartedAt: 2021-10-14 09:10:14 -0400 (Thu, 14 Oct 2021) |
| EndedAt: 2021-10-14 09:11:02 -0400 (Thu, 14 Oct 2021) |
| EllapsedTime: 47.9 seconds |
| RetCode: 0 |
| Status: OK |
##############################################################################
##############################################################################
###
### Running command:
###
### C:\cygwin\bin\curl.exe -O http://155.52.207.165/BBS/3.13/bioc/src/contrib/geneplotter_1.70.0.tar.gz && rm -rf geneplotter.buildbin-libdir && mkdir geneplotter.buildbin-libdir && C:\Users\biocbuild\bbs-3.13-bioc\R\bin\R.exe CMD INSTALL --merge-multiarch --build --library=geneplotter.buildbin-libdir geneplotter_1.70.0.tar.gz && C:\Users\biocbuild\bbs-3.13-bioc\R\bin\R.exe CMD INSTALL geneplotter_1.70.0.zip && rm geneplotter_1.70.0.tar.gz geneplotter_1.70.0.zip
###
##############################################################################
##############################################################################
% Total % Received % Xferd Average Speed Time Time Time Current
Dload Upload Total Spent Left Speed
0 0 0 0 0 0 0 0 --:--:-- --:--:-- --:--:-- 0
0 0 0 0 0 0 0 0 --:--:-- --:--:-- --:--:-- 0
100 1003k 100 1003k 0 0 1321k 0 --:--:-- --:--:-- --:--:-- 1320k
install for i386
* installing *source* package 'geneplotter' ...
** using staged installation
** R
** data
** inst
** byte-compile and prepare package for lazy loading
** help
*** installing help indices
converting help for package 'geneplotter'
finding HTML links ... done
GetColor html
Makesense html
alongChrom html
amplicon.plot html
cColor html
cPlot html
cScale html
eset133a html
groupedHeatmap html
histStack html
imageMap html
make.chromOrd html
multiecdf html
openHtmlPage html
plotChr html
plotExpressionGraph html
plotMA html
savepng html
** building package indices
** installing vignettes
** testing if installed package can be loaded from temporary location
** testing if installed package can be loaded from final location
** testing if installed package keeps a record of temporary installation path
install for x64
* installing *source* package 'geneplotter' ...
** testing if installed package can be loaded
* MD5 sums
packaged installation of 'geneplotter' as geneplotter_1.70.0.zip
* DONE (geneplotter)
* installing to library 'C:/Users/biocbuild/bbs-3.13-bioc/R/library'
package 'geneplotter' successfully unpacked and MD5 sums checked