Back to Multiple platform build/check report for BioC 3.13 |
|
This page was generated on 2021-10-15 15:06:06 -0400 (Fri, 15 Oct 2021).
To the developers/maintainers of the geneXtendeR package: - Please allow up to 24 hours (and sometimes 48 hours) for your latest push to git@git.bioconductor.org:packages/geneXtendeR.git to reflect on this report. See How and When does the builder pull? When will my changes propagate? here for more information. - Make sure to use the following settings in order to reproduce any error or warning you see on this page. |
Package 731/2041 | Hostname | OS / Arch | INSTALL | BUILD | CHECK | BUILD BIN | ||||||||
geneXtendeR 1.18.0 (landing page) Bohdan Khomtchouk
| nebbiolo1 | Linux (Ubuntu 20.04.2 LTS) / x86_64 | OK | OK | WARNINGS | ![]() | ||||||||
tokay2 | Windows Server 2012 R2 Standard / x64 | OK | OK | ERROR | OK | |||||||||
machv2 | macOS 10.14.6 Mojave / x86_64 | OK | OK | WARNINGS | OK | ![]() | ||||||||
Package: geneXtendeR |
Version: 1.18.0 |
Command: C:\cygwin\bin\curl.exe -O http://155.52.207.165/BBS/3.13/bioc/src/contrib/geneXtendeR_1.18.0.tar.gz && rm -rf geneXtendeR.buildbin-libdir && mkdir geneXtendeR.buildbin-libdir && C:\Users\biocbuild\bbs-3.13-bioc\R\bin\R.exe CMD INSTALL --merge-multiarch --build --library=geneXtendeR.buildbin-libdir geneXtendeR_1.18.0.tar.gz && C:\Users\biocbuild\bbs-3.13-bioc\R\bin\R.exe CMD INSTALL geneXtendeR_1.18.0.zip && rm geneXtendeR_1.18.0.tar.gz geneXtendeR_1.18.0.zip |
StartedAt: 2021-10-14 10:34:38 -0400 (Thu, 14 Oct 2021) |
EndedAt: 2021-10-14 10:36:09 -0400 (Thu, 14 Oct 2021) |
EllapsedTime: 91.7 seconds |
RetCode: 0 |
Status: OK |
############################################################################## ############################################################################## ### ### Running command: ### ### C:\cygwin\bin\curl.exe -O http://155.52.207.165/BBS/3.13/bioc/src/contrib/geneXtendeR_1.18.0.tar.gz && rm -rf geneXtendeR.buildbin-libdir && mkdir geneXtendeR.buildbin-libdir && C:\Users\biocbuild\bbs-3.13-bioc\R\bin\R.exe CMD INSTALL --merge-multiarch --build --library=geneXtendeR.buildbin-libdir geneXtendeR_1.18.0.tar.gz && C:\Users\biocbuild\bbs-3.13-bioc\R\bin\R.exe CMD INSTALL geneXtendeR_1.18.0.zip && rm geneXtendeR_1.18.0.tar.gz geneXtendeR_1.18.0.zip ### ############################################################################## ############################################################################## % Total % Received % Xferd Average Speed Time Time Time Current Dload Upload Total Spent Left Speed 0 0 0 0 0 0 0 0 --:--:-- --:--:-- --:--:-- 0 7 11.7M 7 936k 0 0 1559k 0 0:00:07 --:--:-- 0:00:07 1560k 30 11.7M 30 3679k 0 0 2308k 0 0:00:05 0:00:01 0:00:04 2308k 41 11.7M 41 4971k 0 0 1918k 0 0:00:06 0:00:02 0:00:04 1918k 69 11.7M 69 8420k 0 0 2350k 0 0:00:05 0:00:03 0:00:02 2350k 100 11.7M 100 11.7M 0 0 2752k 0 0:00:04 0:00:04 --:--:-- 2752k install for i386 * installing *source* package 'geneXtendeR' ... ** using staged installation ** libs "C:/rtools40/mingw32/bin/"gcc -I"C:/Users/BIOCBU~1/BBS-3~1.13-/R/include" -DNDEBUG -I"c:/extsoft/include" -O2 -Wall -std=gnu99 -mfpmath=sse -msse2 -mstackrealign -c annotate.c -o annotate.o "C:/rtools40/mingw32/bin/"gcc -I"C:/Users/BIOCBU~1/BBS-3~1.13-/R/include" -DNDEBUG -I"c:/extsoft/include" -O2 -Wall -std=gnu99 -mfpmath=sse -msse2 -mstackrealign -c extract_number.c -o extract_number.o extract_number.c: In function 'extractnumber': extract_number.c:72:10: warning: variable 'n_1' set but not used [-Wunused-but-set-variable] long n_1; ^~~ extract_number.c:66:10: warning: variable 'j_1' set but not used [-Wunused-but-set-variable] long j_1; ^~~ extract_number.c:54:12: warning: variable 'pvcfcol5_5' set but not used [-Wunused-but-set-variable] char * pvcfcol5_5; ^~~~~~~~~~ extract_number.c:53:12: warning: variable 'pvcfcol4_4' set but not used [-Wunused-but-set-variable] char * pvcfcol4_4; ^~~~~~~~~~ extract_number.c:52:12: warning: variable 'pvcfcol3_3' set but not used [-Wunused-but-set-variable] char * pvcfcol3_3; ^~~~~~~~~~ extract_number.c:51:12: warning: variable 'pvcfcol2_2' set but not used [-Wunused-but-set-variable] char * pvcfcol2_2; ^~~~~~~~~~ extract_number.c:50:12: warning: variable 'pvcfcol1_1' set but not used [-Wunused-but-set-variable] char * pvcfcol1_1; ^~~~~~~~~~ "C:/rtools40/mingw32/bin/"gcc -I"C:/Users/BIOCBU~1/BBS-3~1.13-/R/include" -DNDEBUG -I"c:/extsoft/include" -O2 -Wall -std=gnu99 -mfpmath=sse -msse2 -mstackrealign -c extract_peaks.c -o extract_peaks.o C:/rtools40/mingw32/bin/gcc -shared -s -static-libgcc -o geneXtendeR.dll tmp.def annotate.o extract_number.o extract_peaks.o -Lc:/extsoft/lib/i386 -Lc:/extsoft/lib -LC:/Users/BIOCBU~1/BBS-3~1.13-/R/bin/i386 -lR installing to C:/Users/biocbuild/bbs-3.13-bioc/meat/geneXtendeR.buildbin-libdir/00LOCK-geneXtendeR/00new/geneXtendeR/libs/i386 ** R ** data *** moving datasets to lazyload DB ** inst ** byte-compile and prepare package for lazy loading ** help *** installing help indices converting help for package 'geneXtendeR' finding HTML links ... done allPeakLengths html annotate html annotate_n html barChart html cumlinePlot html diffGO html distinct html dot-geneXtender html gene_annotate html gene_lookup html hotspotPlot html linePlot html makeNetwork html makeWordCloud html meanPeakLength html meanPeakLengthPlot html peakLengthBoxplot html peaksInput html peaksMerge html plotWordFreq html rat html samplepeaksinput html ** building package indices ** installing vignettes ** testing if installed package can be loaded from temporary location ** testing if installed package can be loaded from final location ** testing if installed package keeps a record of temporary installation path install for x64 * installing *source* package 'geneXtendeR' ... ** libs "C:/rtools40/mingw64/bin/"gcc -I"C:/Users/BIOCBU~1/BBS-3~1.13-/R/include" -DNDEBUG -I"C:/extsoft/include" -O2 -Wall -std=gnu99 -mfpmath=sse -msse2 -mstackrealign -c annotate.c -o annotate.o "C:/rtools40/mingw64/bin/"gcc -I"C:/Users/BIOCBU~1/BBS-3~1.13-/R/include" -DNDEBUG -I"C:/extsoft/include" -O2 -Wall -std=gnu99 -mfpmath=sse -msse2 -mstackrealign -c extract_number.c -o extract_number.o extract_number.c: In function 'extractnumber': extract_number.c:72:10: warning: variable 'n_1' set but not used [-Wunused-but-set-variable] long n_1; ^~~ extract_number.c:66:10: warning: variable 'j_1' set but not used [-Wunused-but-set-variable] long j_1; ^~~ extract_number.c:54:12: warning: variable 'pvcfcol5_5' set but not used [-Wunused-but-set-variable] char * pvcfcol5_5; ^~~~~~~~~~ extract_number.c:53:12: warning: variable 'pvcfcol4_4' set but not used [-Wunused-but-set-variable] char * pvcfcol4_4; ^~~~~~~~~~ extract_number.c:52:12: warning: variable 'pvcfcol3_3' set but not used [-Wunused-but-set-variable] char * pvcfcol3_3; ^~~~~~~~~~ extract_number.c:51:12: warning: variable 'pvcfcol2_2' set but not used [-Wunused-but-set-variable] char * pvcfcol2_2; ^~~~~~~~~~ extract_number.c:50:12: warning: variable 'pvcfcol1_1' set but not used [-Wunused-but-set-variable] char * pvcfcol1_1; ^~~~~~~~~~ "C:/rtools40/mingw64/bin/"gcc -I"C:/Users/BIOCBU~1/BBS-3~1.13-/R/include" -DNDEBUG -I"C:/extsoft/include" -O2 -Wall -std=gnu99 -mfpmath=sse -msse2 -mstackrealign -c extract_peaks.c -o extract_peaks.o C:/rtools40/mingw64/bin/gcc -shared -s -static-libgcc -o geneXtendeR.dll tmp.def annotate.o extract_number.o extract_peaks.o -LC:/extsoft/lib/x64 -LC:/extsoft/lib -LC:/Users/BIOCBU~1/BBS-3~1.13-/R/bin/x64 -lR installing to C:/Users/biocbuild/bbs-3.13-bioc/meat/geneXtendeR.buildbin-libdir/geneXtendeR/libs/x64 ** testing if installed package can be loaded * MD5 sums packaged installation of 'geneXtendeR' as geneXtendeR_1.18.0.zip * DONE (geneXtendeR) * installing to library 'C:/Users/biocbuild/bbs-3.13-bioc/R/library' package 'geneXtendeR' successfully unpacked and MD5 sums checked