| Back to Multiple platform build/check report for BioC 3.13 |
|
This page was generated on 2021-10-15 15:06:05 -0400 (Fri, 15 Oct 2021).
|
To the developers/maintainers of the genArise package: - Please allow up to 24 hours (and sometimes 48 hours) for your latest push to git@git.bioconductor.org:packages/genArise.git to reflect on this report. See How and When does the builder pull? When will my changes propagate? here for more information. - Make sure to use the following settings in order to reproduce any error or warning you see on this page. |
| Package 705/2041 | Hostname | OS / Arch | INSTALL | BUILD | CHECK | BUILD BIN | ||||||||
| genArise 1.68.0 (landing page) IFC Development Team
| nebbiolo1 | Linux (Ubuntu 20.04.2 LTS) / x86_64 | OK | OK | WARNINGS | |||||||||
| tokay2 | Windows Server 2012 R2 Standard / x64 | OK | OK | WARNINGS | OK | |||||||||
| machv2 | macOS 10.14.6 Mojave / x86_64 | OK | OK | WARNINGS | OK | |||||||||
| Package: genArise |
| Version: 1.68.0 |
| Command: rm -rf genArise.buildbin-libdir && mkdir genArise.buildbin-libdir && C:\Users\biocbuild\bbs-3.13-bioc\R\bin\R.exe CMD INSTALL --merge-multiarch --build --library=genArise.buildbin-libdir genArise_1.68.0.tar.gz |
| StartedAt: 2021-10-15 09:27:57 -0400 (Fri, 15 Oct 2021) |
| EndedAt: 2021-10-15 09:29:14 -0400 (Fri, 15 Oct 2021) |
| EllapsedTime: 76.4 seconds |
| RetCode: 0 |
| Status: OK |
| PackageFile: genArise_1.68.0.zip |
| PackageFileSize: 1.136 MiB |
##############################################################################
##############################################################################
###
### Running command:
###
### rm -rf genArise.buildbin-libdir && mkdir genArise.buildbin-libdir && C:\Users\biocbuild\bbs-3.13-bioc\R\bin\R.exe CMD INSTALL --merge-multiarch --build --library=genArise.buildbin-libdir genArise_1.68.0.tar.gz
###
##############################################################################
##############################################################################
install for i386
* installing *source* package 'genArise' ...
** using staged installation
** R
** data
** inst
** byte-compile and prepare package for lazy loading
Note: possible error in 'pdf(paste(name, ".pdf", ': unused argument (horiz = FALSE)
Note: possible error in 'pdf(paste(name, ".pdf", ': unused argument (horiz = FALSE)
Note: possible error in 'pdf(paste(name, "OriginalCy3vsCy5.pdf", ': unused argument (horiz = F)
Note: possible error in 'pdf(paste(name, "OriginalRvsI.pdf", ': unused argument (horiz = F)
Note: possible error in 'pdf(paste(name, "OriginalMvsA.pdf", ': unused argument (horiz = F)
Note: possible error in 'pdf(paste(name, "CorrectedCy3vsCy5.pdf", ': unused argument (horiz = F)
Note: possible error in 'pdf(paste(name, "CorrectedRvsI.pdf", ': unused argument (horiz = F)
Note: possible error in 'pdf(paste(name, "CorrectedMvsA.pdf", ': unused argument (horiz = F)
Note: possible error in 'pdf(paste(name, "NormalCy3vsCy5.pdf", ': unused argument (horiz = F)
Note: possible error in 'pdf(paste(name, "NormalRvsI.pdf", ': unused argument (horiz = F)
Note: possible error in 'pdf(paste(name, "NormalMvsA.pdf", ': unused argument (horiz = F)
Note: possible error in 'pdf(paste(name, "FilterCy3vsCy5.pdf", ': unused argument (horiz = F)
Note: possible error in 'pdf(paste(name, "FilterRvsI.pdf", ': unused argument (horiz = F)
Note: possible error in 'pdf(paste(name, "FilterMvsA.pdf", ': unused argument (horiz = F)
Note: possible error in 'pdf(paste(name, "NoDuplicatesCy3vsCy5.pdf", ': unused argument (horiz = F)
Note: possible error in 'pdf(paste(name, "NoDuplicatesRvsI.pdf", ': unused argument (horiz = F)
Note: possible error in 'pdf(paste(name, "NoDuplicatesMvsA.pdf", ': unused argument (horiz = F)
Note: possible error in 'pdf(paste(name, "OriginalCy3vsCy5.pdf", ': unused argument (horiz = F)
Note: possible error in 'pdf(paste(name, "OriginalRvsI.pdf", ': unused argument (horiz = F)
Note: possible error in 'pdf(paste(name, "OriginalMvsA.pdf", ': unused argument (horiz = F)
Note: possible error in 'pdf(paste(name, "CorrectedCy3vsCy5.pdf", ': unused argument (horiz = F)
Note: possible error in 'pdf(paste(name, "CorrectedRvsI.pdf", ': unused argument (horiz = F)
Note: possible error in 'pdf(paste(name, "CorrectedMvsA.pdf", ': unused argument (horiz = F)
Note: possible error in 'pdf(paste(name, "NormalCy3vsCy5.pdf", ': unused argument (horiz = F)
Note: possible error in 'pdf(paste(name, "NormalRvsI.pdf", ': unused argument (horiz = F)
Note: possible error in 'pdf(paste(name, "NormalMvsA.pdf", ': unused argument (horiz = F)
Note: possible error in 'pdf(paste(name, "FilterCy3vsCy5.pdf", ': unused argument (horiz = F)
Note: possible error in 'pdf(paste(name, "FilterRvsI.pdf", ': unused argument (horiz = F)
Note: possible error in 'pdf(paste(name, "FilterMvsA.pdf", ': unused argument (horiz = F)
Note: possible error in 'pdf(paste(name, "NoDuplicatesCy3vsCy5.pdf", ': unused argument (horiz = F)
Note: possible error in 'pdf(paste(name, "NoDuplicatesRvsI.pdf", ': unused argument (horiz = F)
Note: possible error in 'pdf(paste(name, "NoDuplicatesMvsA.pdf", ': unused argument (horiz = F)
Note: possible error in 'pdf(name, horiz = F, ': unused argument (horiz = F)
Note: possible error in 'pdf(paste(name, ".pdf", ': unused argument (horiz = FALSE)
Note: possible error in 'pdf(paste(name, "R&G.pdf", ': unused argument (horiz = F)
Note: possible error in 'pdf(paste(name, "BgCy5.pdf", ': unused argument (horiz = F)
Note: possible error in 'pdf(paste(name, "BgCy3.pdf", ': unused argument (horiz = F)
Note: possible error in 'pdf(paste(name, "Swap.pdf", ': unused argument (horiz = F)
** help
*** installing help indices
converting help for package 'genArise'
finding HTML links ... done
DataSet-class html
Simon html
Spot-class html
WT.dataset html
Zscore html
Zscore.plot html
Zscore.points html
a.arise html
alter.unique html
analysis.window html
annotations html
back.gui html
bg.correct html
classes html
create.project html
cys.plot html
filter.spot html
genArise html
genArise.init html
genMerge html
get.Zscore html
get.values html
global.norm html
graphic.choose html
grid.norm html
help html
i.arise html
imageLimma html
m.arise html
ma.plot html
make.swap html
meanUnique html
note html
old.project html
post.analysis html
principal html
projects.select html
r.arise html
read.dataset html
read.spot html
reset.history html
ri.plot html
set.grid.properties html
set.history.project html
set.path.project html
set.project.properties html
single.norm html
spotUnique html
swap.select html
trim html
write.dataSet html
write.spot html
write.zscore html
** building package indices
** installing vignettes
** testing if installed package can be loaded from temporary location
** testing if installed package can be loaded from final location
** testing if installed package keeps a record of temporary installation path
install for x64
* installing *source* package 'genArise' ...
** testing if installed package can be loaded
* MD5 sums
packaged installation of 'genArise' as genArise_1.68.0.zip
* DONE (genArise)