| Back to Multiple platform build/check report for BioC 3.13 |
|
This page was generated on 2021-10-15 15:06:05 -0400 (Fri, 15 Oct 2021).
|
To the developers/maintainers of the funtooNorm package: - Please allow up to 24 hours (and sometimes 48 hours) for your latest push to git@git.bioconductor.org:packages/funtooNorm.git to reflect on this report. See How and When does the builder pull? When will my changes propagate? here for more information. - Make sure to use the following settings in order to reproduce any error or warning you see on this page. |
| Package 681/2041 | Hostname | OS / Arch | INSTALL | BUILD | CHECK | BUILD BIN | ||||||||
| funtooNorm 1.16.0 (landing page) Kathleen Klein
| nebbiolo1 | Linux (Ubuntu 20.04.2 LTS) / x86_64 | OK | OK | WARNINGS | |||||||||
| tokay2 | Windows Server 2012 R2 Standard / x64 | OK | OK | WARNINGS | OK | |||||||||
| machv2 | macOS 10.14.6 Mojave / x86_64 | OK | OK | WARNINGS | OK | |||||||||
| Package: funtooNorm |
| Version: 1.16.0 |
| Command: C:\cygwin\bin\curl.exe -O http://155.52.207.165/BBS/3.13/bioc/src/contrib/funtooNorm_1.16.0.tar.gz && rm -rf funtooNorm.buildbin-libdir && mkdir funtooNorm.buildbin-libdir && C:\Users\biocbuild\bbs-3.13-bioc\R\bin\R.exe CMD INSTALL --merge-multiarch --build --library=funtooNorm.buildbin-libdir funtooNorm_1.16.0.tar.gz && C:\Users\biocbuild\bbs-3.13-bioc\R\bin\R.exe CMD INSTALL funtooNorm_1.16.0.zip && rm funtooNorm_1.16.0.tar.gz funtooNorm_1.16.0.zip |
| StartedAt: 2021-10-14 10:59:26 -0400 (Thu, 14 Oct 2021) |
| EndedAt: 2021-10-14 11:00:34 -0400 (Thu, 14 Oct 2021) |
| EllapsedTime: 67.2 seconds |
| RetCode: 0 |
| Status: OK |
##############################################################################
##############################################################################
###
### Running command:
###
### C:\cygwin\bin\curl.exe -O http://155.52.207.165/BBS/3.13/bioc/src/contrib/funtooNorm_1.16.0.tar.gz && rm -rf funtooNorm.buildbin-libdir && mkdir funtooNorm.buildbin-libdir && C:\Users\biocbuild\bbs-3.13-bioc\R\bin\R.exe CMD INSTALL --merge-multiarch --build --library=funtooNorm.buildbin-libdir funtooNorm_1.16.0.tar.gz && C:\Users\biocbuild\bbs-3.13-bioc\R\bin\R.exe CMD INSTALL funtooNorm_1.16.0.zip && rm funtooNorm_1.16.0.tar.gz funtooNorm_1.16.0.zip
###
##############################################################################
##############################################################################
% Total % Received % Xferd Average Speed Time Time Time Current
Dload Upload Total Spent Left Speed
0 0 0 0 0 0 0 0 --:--:-- --:--:-- --:--:-- 0
7 2508k 7 180k 0 0 607k 0 0:00:04 --:--:-- 0:00:04 608k
100 2508k 100 2508k 0 0 2650k 0 --:--:-- --:--:-- --:--:-- 2651k
install for i386
* installing *source* package 'funtooNorm' ...
** using staged installation
** R
** inst
** byte-compile and prepare package for lazy loading
** help
*** installing help indices
converting help for package 'funtooNorm'
finding HTML links ... done
SampleSet-class html
agreement html
fromGenStudFiles html
fromRGChannelSet html
funtooNorm-package html
funtooNorm html
getGRanges html
getNormBeta html
getNormM html
getRawBeta html
getSnpM html
plotValidationGraph html
show-SampleSet-method html
** building package indices
** installing vignettes
** testing if installed package can be loaded from temporary location
** testing if installed package can be loaded from final location
** testing if installed package keeps a record of temporary installation path
install for x64
* installing *source* package 'funtooNorm' ...
** testing if installed package can be loaded
* MD5 sums
packaged installation of 'funtooNorm' as funtooNorm_1.16.0.zip
* DONE (funtooNorm)
* installing to library 'C:/Users/biocbuild/bbs-3.13-bioc/R/library'
package 'funtooNorm' successfully unpacked and MD5 sums checked