| Back to Multiple platform build/check report for BioC 3.13 | 
 | 
This page was generated on 2021-10-15 15:06:05 -0400 (Fri, 15 Oct 2021).
| To the developers/maintainers of the flowViz package: - Please allow up to 24 hours (and sometimes 48 hours) for your latest push to git@git.bioconductor.org:packages/flowViz.git to reflect on this report. See How and When does the builder pull? When will my changes propagate? here for more information. - Make sure to use the following settings in order to reproduce any error or warning you see on this page. | 
| Package 667/2041 | Hostname | OS / Arch | INSTALL | BUILD | CHECK | BUILD BIN | ||||||||
| flowViz 1.56.0  (landing page) Mike Jiang 
 | nebbiolo1 | Linux (Ubuntu 20.04.2 LTS) / x86_64 | OK | OK | OK |  | ||||||||
| tokay2 | Windows Server 2012 R2 Standard / x64 | OK | OK | OK | OK |  | ||||||||
| machv2 | macOS 10.14.6 Mojave / x86_64 | OK | OK | OK | OK |  | ||||||||
| Package: flowViz | 
| Version: 1.56.0 | 
| Command: chmod a+r flowViz -R && C:\Users\biocbuild\bbs-3.13-bioc\R\bin\R.exe CMD build --keep-empty-dirs --no-resave-data flowViz | 
| StartedAt: 2021-10-14 14:15:27 -0400 (Thu, 14 Oct 2021) | 
| EndedAt: 2021-10-14 14:20:29 -0400 (Thu, 14 Oct 2021) | 
| EllapsedTime: 301.4 seconds | 
| RetCode: 0 | 
| Status: OK | 
| PackageFile: flowViz_1.56.0.tar.gz | 
| PackageFileSize: 643.4 KiB | 
##############################################################################
##############################################################################
###
### Running command:
###
###   chmod a+r flowViz -R && C:\Users\biocbuild\bbs-3.13-bioc\R\bin\R.exe CMD build --keep-empty-dirs --no-resave-data flowViz
###
##############################################################################
##############################################################################
* checking for file 'flowViz/DESCRIPTION' ... OK
* preparing 'flowViz':
* checking DESCRIPTION meta-information ... OK
* installing the package to build vignettes
* creating vignettes ... OK
Warning: 'inst/doc' file
    'filters.html'
  ignored as vignettes have been rebuilt.
  Run R CMD build with --no-build-vignettes to prevent rebuilding.
* checking for LF line-endings in source and make files and shell scripts
* checking for empty or unneeded directories
* building 'flowViz_1.56.0.tar.gz'