| Back to Multiple platform build/check report for BioC 3.13 |
|
This page was generated on 2021-10-15 15:06:05 -0400 (Fri, 15 Oct 2021).
|
To the developers/maintainers of the flowTime package: - Please allow up to 24 hours (and sometimes 48 hours) for your latest push to git@git.bioconductor.org:packages/flowTime.git to reflect on this report. See How and When does the builder pull? When will my changes propagate? here for more information. - Make sure to use the following settings in order to reproduce any error or warning you see on this page. |
| Package 664/2041 | Hostname | OS / Arch | INSTALL | BUILD | CHECK | BUILD BIN | ||||||||
| flowTime 1.16.1 (landing page) R. Clay Wright
| nebbiolo1 | Linux (Ubuntu 20.04.2 LTS) / x86_64 | OK | OK | OK | |||||||||
| tokay2 | Windows Server 2012 R2 Standard / x64 | OK | OK | OK | OK | |||||||||
| machv2 | macOS 10.14.6 Mojave / x86_64 | OK | OK | OK | OK | |||||||||
| Package: flowTime |
| Version: 1.16.1 |
| Command: C:\cygwin\bin\curl.exe -O http://155.52.207.165/BBS/3.13/bioc/src/contrib/flowTime_1.16.1.tar.gz && rm -rf flowTime.buildbin-libdir && mkdir flowTime.buildbin-libdir && C:\Users\biocbuild\bbs-3.13-bioc\R\bin\R.exe CMD INSTALL --merge-multiarch --build --library=flowTime.buildbin-libdir flowTime_1.16.1.tar.gz && C:\Users\biocbuild\bbs-3.13-bioc\R\bin\R.exe CMD INSTALL flowTime_1.16.1.zip && rm flowTime_1.16.1.tar.gz flowTime_1.16.1.zip |
| StartedAt: 2021-10-14 08:10:08 -0400 (Thu, 14 Oct 2021) |
| EndedAt: 2021-10-14 08:11:05 -0400 (Thu, 14 Oct 2021) |
| EllapsedTime: 57.1 seconds |
| RetCode: 0 |
| Status: OK |
##############################################################################
##############################################################################
###
### Running command:
###
### C:\cygwin\bin\curl.exe -O http://155.52.207.165/BBS/3.13/bioc/src/contrib/flowTime_1.16.1.tar.gz && rm -rf flowTime.buildbin-libdir && mkdir flowTime.buildbin-libdir && C:\Users\biocbuild\bbs-3.13-bioc\R\bin\R.exe CMD INSTALL --merge-multiarch --build --library=flowTime.buildbin-libdir flowTime_1.16.1.tar.gz && C:\Users\biocbuild\bbs-3.13-bioc\R\bin\R.exe CMD INSTALL flowTime_1.16.1.zip && rm flowTime_1.16.1.tar.gz flowTime_1.16.1.zip
###
##############################################################################
##############################################################################
% Total % Received % Xferd Average Speed Time Time Time Current
Dload Upload Total Spent Left Speed
0 0 0 0 0 0 0 0 --:--:-- --:--:-- --:--:-- 0
36 2156k 36 777k 0 0 1309k 0 0:00:01 --:--:-- 0:00:01 1309k
100 2156k 100 2156k 0 0 1588k 0 0:00:01 0:00:01 --:--:-- 1590k
install for i386
* installing *source* package 'flowTime' ...
** using staged installation
** R
** data
*** moving datasets to lazyload DB
** inst
** byte-compile and prepare package for lazy loading
** help
*** installing help indices
converting help for package 'flowTime'
finding HTML links ... done
addbs html
addnorm html
annotateFlowSet html
createAnnotation html
dipdoubletGate html
dipsingletGate html
flsummary html
getTime html
hapdoubletGate html
hapsingletGate html
loadGates html
meanMedianSD html
ploidy html
polygate html
qaGating html
read.plateSet html
saveGates html
steadyState html
summarizeFlow html
tidyFlow html
yeastGate html
** building package indices
** installing vignettes
** testing if installed package can be loaded from temporary location
** testing if installed package can be loaded from final location
** testing if installed package keeps a record of temporary installation path
install for x64
* installing *source* package 'flowTime' ...
** testing if installed package can be loaded
* MD5 sums
packaged installation of 'flowTime' as flowTime_1.16.1.zip
* DONE (flowTime)
* installing to library 'C:/Users/biocbuild/bbs-3.13-bioc/R/library'
package 'flowTime' successfully unpacked and MD5 sums checked