| Back to Multiple platform build/check report for BioC 3.13 |
|
This page was generated on 2021-10-15 15:06:05 -0400 (Fri, 15 Oct 2021).
|
To the developers/maintainers of the flowMerge package: - Please allow up to 24 hours (and sometimes 48 hours) for your latest push to git@git.bioconductor.org:packages/flowMerge.git to reflect on this report. See How and When does the builder pull? When will my changes propagate? here for more information. - Make sure to use the following settings in order to reproduce any error or warning you see on this page. |
| Package 656/2041 | Hostname | OS / Arch | INSTALL | BUILD | CHECK | BUILD BIN | ||||||||
| flowMerge 2.40.0 (landing page) Greg Finak
| nebbiolo1 | Linux (Ubuntu 20.04.2 LTS) / x86_64 | OK | OK | OK | |||||||||
| tokay2 | Windows Server 2012 R2 Standard / x64 | OK | OK | OK | OK | |||||||||
| machv2 | macOS 10.14.6 Mojave / x86_64 | OK | OK | OK | OK | |||||||||
| Package: flowMerge |
| Version: 2.40.0 |
| Command: C:\cygwin\bin\curl.exe -O http://155.52.207.165/BBS/3.13/bioc/src/contrib/flowMerge_2.40.0.tar.gz && rm -rf flowMerge.buildbin-libdir && mkdir flowMerge.buildbin-libdir && C:\Users\biocbuild\bbs-3.13-bioc\R\bin\R.exe CMD INSTALL --merge-multiarch --build --library=flowMerge.buildbin-libdir flowMerge_2.40.0.tar.gz && C:\Users\biocbuild\bbs-3.13-bioc\R\bin\R.exe CMD INSTALL flowMerge_2.40.0.zip && rm flowMerge_2.40.0.tar.gz flowMerge_2.40.0.zip |
| StartedAt: 2021-10-14 11:10:48 -0400 (Thu, 14 Oct 2021) |
| EndedAt: 2021-10-14 11:14:45 -0400 (Thu, 14 Oct 2021) |
| EllapsedTime: 237.5 seconds |
| RetCode: 0 |
| Status: OK |
##############################################################################
##############################################################################
###
### Running command:
###
### C:\cygwin\bin\curl.exe -O http://155.52.207.165/BBS/3.13/bioc/src/contrib/flowMerge_2.40.0.tar.gz && rm -rf flowMerge.buildbin-libdir && mkdir flowMerge.buildbin-libdir && C:\Users\biocbuild\bbs-3.13-bioc\R\bin\R.exe CMD INSTALL --merge-multiarch --build --library=flowMerge.buildbin-libdir flowMerge_2.40.0.tar.gz && C:\Users\biocbuild\bbs-3.13-bioc\R\bin\R.exe CMD INSTALL flowMerge_2.40.0.zip && rm flowMerge_2.40.0.tar.gz flowMerge_2.40.0.zip
###
##############################################################################
##############################################################################
% Total % Received % Xferd Average Speed Time Time Time Current
Dload Upload Total Spent Left Speed
0 0 0 0 0 0 0 0 --:--:-- --:--:-- --:--:-- 0
100 399k 100 399k 0 0 1310k 0 --:--:-- --:--:-- --:--:-- 1313k
install for i386
* installing *source* package 'flowMerge' ...
** using staged installation
** R
** data
** byte-compile and prepare package for lazy loading
** help
*** installing help indices
converting help for package 'flowMerge'
finding HTML links ... done
NENT html
checkForRemoteErrors html
fitPiecewiseLinreg-methods html
fitPiecewiseLinreg html
flagOutliers-methods html
flagOutliers html
flowClust.res html
flowMerge-class html
finding level-2 HTML links ... done
flowMerge-internal html
flowMerge-package html
flowObj-class html
flowObj html
initPFlowMerge html
map html
merge-methods html
merge html
mergeClusters html
mergeClusters2 html
pFlowClust html
pFlowMerge html
plot-methods html
ptree html
show-methods html
split-methods html
summary-methods html
updateU html
** building package indices
** installing vignettes
** testing if installed package can be loaded from temporary location
** testing if installed package can be loaded from final location
** testing if installed package keeps a record of temporary installation path
install for x64
* installing *source* package 'flowMerge' ...
** testing if installed package can be loaded
* MD5 sums
packaged installation of 'flowMerge' as flowMerge_2.40.0.zip
* DONE (flowMerge)
* installing to library 'C:/Users/biocbuild/bbs-3.13-bioc/R/library'
package 'flowMerge' successfully unpacked and MD5 sums checked