| Back to Multiple platform build/check report for BioC 3.13 |
|
This page was generated on 2021-10-15 15:06:05 -0400 (Fri, 15 Oct 2021).
|
To the developers/maintainers of the flowDensity package: - Please allow up to 24 hours (and sometimes 48 hours) for your latest push to git@git.bioconductor.org:packages/flowDensity.git to reflect on this report. See How and When does the builder pull? When will my changes propagate? here for more information. - Make sure to use the following settings in order to reproduce any error or warning you see on this page. |
| Package 650/2041 | Hostname | OS / Arch | INSTALL | BUILD | CHECK | BUILD BIN | ||||||||
| flowDensity 1.26.0 (landing page) Mehrnoush Malek
| nebbiolo1 | Linux (Ubuntu 20.04.2 LTS) / x86_64 | OK | OK | WARNINGS | |||||||||
| tokay2 | Windows Server 2012 R2 Standard / x64 | OK | OK | WARNINGS | OK | |||||||||
| machv2 | macOS 10.14.6 Mojave / x86_64 | OK | OK | WARNINGS | OK | |||||||||
| Package: flowDensity |
| Version: 1.26.0 |
| Command: C:\cygwin\bin\curl.exe -O http://155.52.207.165/BBS/3.13/bioc/src/contrib/flowDensity_1.26.0.tar.gz && rm -rf flowDensity.buildbin-libdir && mkdir flowDensity.buildbin-libdir && C:\Users\biocbuild\bbs-3.13-bioc\R\bin\R.exe CMD INSTALL --merge-multiarch --build --library=flowDensity.buildbin-libdir flowDensity_1.26.0.tar.gz && C:\Users\biocbuild\bbs-3.13-bioc\R\bin\R.exe CMD INSTALL flowDensity_1.26.0.zip && rm flowDensity_1.26.0.tar.gz flowDensity_1.26.0.zip |
| StartedAt: 2021-10-14 09:51:30 -0400 (Thu, 14 Oct 2021) |
| EndedAt: 2021-10-14 09:52:54 -0400 (Thu, 14 Oct 2021) |
| EllapsedTime: 83.9 seconds |
| RetCode: 0 |
| Status: OK |
##############################################################################
##############################################################################
###
### Running command:
###
### C:\cygwin\bin\curl.exe -O http://155.52.207.165/BBS/3.13/bioc/src/contrib/flowDensity_1.26.0.tar.gz && rm -rf flowDensity.buildbin-libdir && mkdir flowDensity.buildbin-libdir && C:\Users\biocbuild\bbs-3.13-bioc\R\bin\R.exe CMD INSTALL --merge-multiarch --build --library=flowDensity.buildbin-libdir flowDensity_1.26.0.tar.gz && C:\Users\biocbuild\bbs-3.13-bioc\R\bin\R.exe CMD INSTALL flowDensity_1.26.0.zip && rm flowDensity_1.26.0.tar.gz flowDensity_1.26.0.zip
###
##############################################################################
##############################################################################
% Total % Received % Xferd Average Speed Time Time Time Current
Dload Upload Total Spent Left Speed
0 0 0 0 0 0 0 0 --:--:-- --:--:-- --:--:-- 0
15 4396k 15 701k 0 0 1871k 0 0:00:02 --:--:-- 0:00:02 1870k
100 4396k 100 4396k 0 0 3727k 0 0:00:01 0:00:01 --:--:-- 3728k
install for i386
* installing *source* package 'flowDensity' ...
** using staged installation
** R
** inst
** byte-compile and prepare package for lazy loading
Warning: replacing previous import 'flowCore::plot' by 'graphics::plot' when loading 'flowDensity'
** help
Warning: bad markup (extra space?) at plotDens.Rd:62:19
*** installing help indices
converting help for package 'flowDensity'
finding HTML links ... done
CellPopulation-class html
deGate html
flowDensity-methods html
flowDensity html
REDIRECT:topic Previous alias or file overwritten by alias: C:/Users/biocbuild/bbs-3.13-bioc/meat/flowDensity.buildbin-libdir/00LOCK-flowDensity/00new/flowDensity/help/flowDensity.html
getPeaks html
getflowFrame html
nmRemove html
notSubFrame html
plotDens html
** building package indices
** installing vignettes
'flowDensity.Rmd'
** testing if installed package can be loaded from temporary location
Warning: replacing previous import 'flowCore::plot' by 'graphics::plot' when loading 'flowDensity'
** testing if installed package can be loaded from final location
Warning: replacing previous import 'flowCore::plot' by 'graphics::plot' when loading 'flowDensity'
** testing if installed package keeps a record of temporary installation path
install for x64
* installing *source* package 'flowDensity' ...
** testing if installed package can be loaded
Warning: replacing previous import 'flowCore::plot' by 'graphics::plot' when loading 'flowDensity'
* MD5 sums
packaged installation of 'flowDensity' as flowDensity_1.26.0.zip
* DONE (flowDensity)
* installing to library 'C:/Users/biocbuild/bbs-3.13-bioc/R/library'
package 'flowDensity' successfully unpacked and MD5 sums checked