| Back to Multiple platform build/check report for BioC 3.13 |
|
This page was generated on 2021-10-15 15:06:04 -0400 (Fri, 15 Oct 2021).
|
To the developers/maintainers of the fedup package: - Please allow up to 24 hours (and sometimes 48 hours) for your latest push to git@git.bioconductor.org:packages/fedup.git to reflect on this report. See How and When does the builder pull? When will my changes propagate? here for more information. - Make sure to use the following settings in order to reproduce any error or warning you see on this page. |
| Package 627/2041 | Hostname | OS / Arch | INSTALL | BUILD | CHECK | BUILD BIN | ||||||||
| fedup 1.0.0 (landing page) Catherine Ross
| nebbiolo1 | Linux (Ubuntu 20.04.2 LTS) / x86_64 | OK | OK | OK | |||||||||
| tokay2 | Windows Server 2012 R2 Standard / x64 | OK | OK | OK | OK | |||||||||
| machv2 | macOS 10.14.6 Mojave / x86_64 | OK | OK | OK | OK | |||||||||
| Package: fedup |
| Version: 1.0.0 |
| Command: rm -rf fedup.buildbin-libdir && mkdir fedup.buildbin-libdir && C:\Users\biocbuild\bbs-3.13-bioc\R\bin\R.exe CMD INSTALL --merge-multiarch --build --library=fedup.buildbin-libdir fedup_1.0.0.tar.gz |
| StartedAt: 2021-10-15 09:17:11 -0400 (Fri, 15 Oct 2021) |
| EndedAt: 2021-10-15 09:18:43 -0400 (Fri, 15 Oct 2021) |
| EllapsedTime: 91.3 seconds |
| RetCode: 0 |
| Status: OK |
| PackageFile: fedup_1.0.0.zip |
| PackageFileSize: 3.228 MiB |
##############################################################################
##############################################################################
###
### Running command:
###
### rm -rf fedup.buildbin-libdir && mkdir fedup.buildbin-libdir && C:\Users\biocbuild\bbs-3.13-bioc\R\bin\R.exe CMD INSTALL --merge-multiarch --build --library=fedup.buildbin-libdir fedup_1.0.0.tar.gz
###
##############################################################################
##############################################################################
install for i386
* installing *source* package 'fedup' ...
** using staged installation
** R
** data
** inst
** byte-compile and prepare package for lazy loading
** help
*** installing help indices
converting help for package 'fedup'
finding HTML links ... done
geneDouble html
geneMulti html
geneSingle html
pathwaysGMT html
pathwaysTXT html
pathwaysXLSX html
plotDotPlot html
plotFemap html
prepInput html
readPathways html
runFedup html
writeFemap html
writePathways html
** building package indices
** installing vignettes
** testing if installed package can be loaded from temporary location
** testing if installed package can be loaded from final location
** testing if installed package keeps a record of temporary installation path
install for x64
* installing *source* package 'fedup' ...
** testing if installed package can be loaded
* MD5 sums
packaged installation of 'fedup' as fedup_1.0.0.zip
* DONE (fedup)