Back to Multiple platform build/check report for BioC 3.13 |
|
This page was generated on 2021-10-15 15:06:04 -0400 (Fri, 15 Oct 2021).
To the developers/maintainers of the famat package: - Please allow up to 24 hours (and sometimes 48 hours) for your latest push to git@git.bioconductor.org:packages/famat.git to reflect on this report. See How and When does the builder pull? When will my changes propagate? here for more information. - Make sure to use the following settings in order to reproduce any error or warning you see on this page. |
Package 615/2041 | Hostname | OS / Arch | INSTALL | BUILD | CHECK | BUILD BIN | ||||||||
famat 1.2.1 (landing page) Mathieu Charles
| nebbiolo1 | Linux (Ubuntu 20.04.2 LTS) / x86_64 | OK | OK | OK | |||||||||
tokay2 | Windows Server 2012 R2 Standard / x64 | OK | OK | OK | OK | |||||||||
machv2 | macOS 10.14.6 Mojave / x86_64 | OK | OK | OK | OK | |||||||||
Package: famat |
Version: 1.2.1 |
Command: C:\cygwin\bin\curl.exe -O http://155.52.207.165/BBS/3.13/bioc/src/contrib/famat_1.2.1.tar.gz && rm -rf famat.buildbin-libdir && mkdir famat.buildbin-libdir && C:\Users\biocbuild\bbs-3.13-bioc\R\bin\R.exe CMD INSTALL --merge-multiarch --build --library=famat.buildbin-libdir famat_1.2.1.tar.gz && C:\Users\biocbuild\bbs-3.13-bioc\R\bin\R.exe CMD INSTALL famat_1.2.1.zip && rm famat_1.2.1.tar.gz famat_1.2.1.zip |
StartedAt: 2021-10-14 11:20:28 -0400 (Thu, 14 Oct 2021) |
EndedAt: 2021-10-14 11:21:52 -0400 (Thu, 14 Oct 2021) |
EllapsedTime: 83.9 seconds |
RetCode: 0 |
Status: OK |
############################################################################## ############################################################################## ### ### Running command: ### ### C:\cygwin\bin\curl.exe -O http://155.52.207.165/BBS/3.13/bioc/src/contrib/famat_1.2.1.tar.gz && rm -rf famat.buildbin-libdir && mkdir famat.buildbin-libdir && C:\Users\biocbuild\bbs-3.13-bioc\R\bin\R.exe CMD INSTALL --merge-multiarch --build --library=famat.buildbin-libdir famat_1.2.1.tar.gz && C:\Users\biocbuild\bbs-3.13-bioc\R\bin\R.exe CMD INSTALL famat_1.2.1.zip && rm famat_1.2.1.tar.gz famat_1.2.1.zip ### ############################################################################## ############################################################################## % Total % Received % Xferd Average Speed Time Time Time Current Dload Upload Total Spent Left Speed 0 0 0 0 0 0 0 0 --:--:-- --:--:-- --:--:-- 0 6 3629k 6 226k 0 0 741k 0 0:00:04 --:--:-- 0:00:04 742k 60 3629k 60 2188k 0 0 1684k 0 0:00:02 0:00:01 0:00:01 1684k 100 3629k 100 3629k 0 0 2014k 0 0:00:01 0:00:01 --:--:-- 2013k install for i386 * installing *source* package 'famat' ... ** using staged installation ** R ** data ** byte-compile and prepare package for lazy loading ** help *** installing help indices converting help for package 'famat' finding HTML links ... done compl_data html compl_data_result html genes html interactions html interactions_result html listk html listr html listw html meta html path_enrich html rshiny html ** building package indices ** installing vignettes ** testing if installed package can be loaded from temporary location ** testing if installed package can be loaded from final location ** testing if installed package keeps a record of temporary installation path install for x64 * installing *source* package 'famat' ... ** testing if installed package can be loaded * MD5 sums packaged installation of 'famat' as famat_1.2.1.zip * DONE (famat) * installing to library 'C:/Users/biocbuild/bbs-3.13-bioc/R/library' package 'famat' successfully unpacked and MD5 sums checked