| Back to Multiple platform build/check report for BioC 3.13 |
|
This page was generated on 2021-10-15 15:05:40 -0400 (Fri, 15 Oct 2021).
|
To the developers/maintainers of the fCI package: - Please allow up to 24 hours (and sometimes 48 hours) for your latest push to git@git.bioconductor.org:packages/fCI.git to reflect on this report. See How and When does the builder pull? When will my changes propagate? here for more information. - Make sure to use the following settings in order to reproduce any error or warning you see on this page. |
| Package 622/2041 | Hostname | OS / Arch | INSTALL | BUILD | CHECK | BUILD BIN | ||||||||
| fCI 1.22.0 (landing page) Shaojun Tang
| nebbiolo1 | Linux (Ubuntu 20.04.2 LTS) / x86_64 | OK | OK | OK | |||||||||
| tokay2 | Windows Server 2012 R2 Standard / x64 | OK | OK | OK | OK | |||||||||
| machv2 | macOS 10.14.6 Mojave / x86_64 | OK | OK | OK | OK | |||||||||
| Package: fCI |
| Version: 1.22.0 |
| Command: /home/biocbuild/bbs-3.13-bioc/R/bin/R CMD check --install=check:fCI.install-out.txt --library=/home/biocbuild/bbs-3.13-bioc/R/library --no-vignettes --timings fCI_1.22.0.tar.gz |
| StartedAt: 2021-10-14 09:49:32 -0400 (Thu, 14 Oct 2021) |
| EndedAt: 2021-10-14 09:50:05 -0400 (Thu, 14 Oct 2021) |
| EllapsedTime: 32.9 seconds |
| RetCode: 0 |
| Status: OK |
| CheckDir: fCI.Rcheck |
| Warnings: 0 |
##############################################################################
##############################################################################
###
### Running command:
###
### /home/biocbuild/bbs-3.13-bioc/R/bin/R CMD check --install=check:fCI.install-out.txt --library=/home/biocbuild/bbs-3.13-bioc/R/library --no-vignettes --timings fCI_1.22.0.tar.gz
###
##############################################################################
##############################################################################
* using log directory ‘/home/biocbuild/bbs-3.13-bioc/meat/fCI.Rcheck’
* using R version 4.1.1 (2021-08-10)
* using platform: x86_64-pc-linux-gnu (64-bit)
* using session charset: UTF-8
* using option ‘--no-vignettes’
* checking for file ‘fCI/DESCRIPTION’ ... OK
* checking extension type ... Package
* this is package ‘fCI’ version ‘1.22.0’
* checking package namespace information ... OK
* checking package dependencies ... NOTE
Depends: includes the non-default packages:
'FNN', 'psych', 'gtools', 'zoo', 'rgl', 'grid', 'VennDiagram'
Adding so many packages to the search path is excessive and importing
selectively is preferable.
* checking if this is a source package ... OK
* checking if there is a namespace ... OK
* checking for hidden files and directories ... OK
* checking for portable file names ... OK
* checking for sufficient/correct file permissions ... OK
* checking whether package ‘fCI’ can be installed ... OK
* checking installed package size ... OK
* checking package directory ... OK
* checking ‘build’ directory ... OK
* checking DESCRIPTION meta-information ... OK
* checking top-level files ... OK
* checking for left-over files ... OK
* checking index information ... OK
* checking package subdirectories ... OK
* checking R files for non-ASCII characters ... OK
* checking R files for syntax errors ... OK
* checking whether the package can be loaded ... OK
* checking whether the package can be loaded with stated dependencies ... OK
* checking whether the package can be unloaded cleanly ... OK
* checking whether the namespace can be loaded with stated dependencies ... OK
* checking whether the namespace can be unloaded cleanly ... OK
* checking dependencies in R code ... NOTE
package 'methods' is used but not declared
* checking S3 generic/method consistency ... OK
* checking replacement functions ... OK
* checking foreign function calls ... OK
* checking R code for possible problems ... NOTE
fCI.call.by.index: no visible global function definition for ‘new’
fCI.call.by.index: no visible global function definition for
‘initialize’
find.fci.targets,NPCI: no visible global function definition for
‘initialize’
populate,NPCI: no visible global function definition for ‘.hasSlot’
populate,NPCI: no visible global function definition for ‘slot’
Undefined global functions or variables:
.hasSlot initialize new slot
Consider adding
importFrom("methods", ".hasSlot", "initialize", "new", "slot")
to your NAMESPACE file (and ensure that your DESCRIPTION Imports field
contains 'methods').
* checking Rd files ... OK
* checking Rd metadata ... OK
* checking Rd cross-references ... OK
* checking for missing documentation entries ... OK
* checking for code/documentation mismatches ... OK
* checking Rd \usage sections ... OK
* checking Rd contents ... OK
* checking for unstated dependencies in examples ... OK
* checking contents of ‘data’ directory ... OK
* checking data for non-ASCII characters ... OK
* checking data for ASCII and uncompressed saves ... OK
* checking installed files from ‘inst/doc’ ... OK
* checking files in ‘vignettes’ ... OK
* checking examples ... OK
* checking for unstated dependencies in vignettes ... OK
* checking package vignettes in ‘inst/doc’ ... OK
* checking running R code from vignettes ... SKIPPED
* checking re-building of vignette outputs ... SKIPPED
* checking PDF version of manual ... OK
* DONE
Status: 3 NOTEs
See
‘/home/biocbuild/bbs-3.13-bioc/meat/fCI.Rcheck/00check.log’
for details.
fCI.Rcheck/00install.out
############################################################################## ############################################################################## ### ### Running command: ### ### /home/biocbuild/bbs-3.13-bioc/R/bin/R CMD INSTALL fCI ### ############################################################################## ############################################################################## * installing to library ‘/home/biocbuild/bbs-3.13-bioc/R/library’ * installing *source* package ‘fCI’ ... ** using staged installation ** R ** data ** inst ** byte-compile and prepare package for lazy loading in method for ‘initialize’ with signature ‘"NPCI"’: no definition for class “NPCI” in method for ‘normalization’ with signature ‘"NPCI"’: no definition for class “NPCI” in method for ‘setfCI’ with signature ‘"NPCI"’: no definition for class “NPCI” in method for ‘populate’ with signature ‘"NPCI"’: no definition for class “NPCI” in method for ‘find.fci.targets’ with signature ‘"NPCI"’: no definition for class “NPCI” in method for ‘show.targets’ with signature ‘"NPCI"’: no definition for class “NPCI” in method for ‘call.npci’ with signature ‘"NPCI"’: no definition for class “NPCI” in method for ‘compute’ with signature ‘"NPCI"’: no definition for class “NPCI” ** help *** installing help indices ** building package indices ** installing vignettes ‘fCI.Rmd’ ** testing if installed package can be loaded from temporary location ** testing if installed package can be loaded from final location ** testing if installed package keeps a record of temporary installation path * DONE (fCI)
fCI.Rcheck/fCI-Ex.timings
| name | user | system | elapsed | |
| NPCI-class | 0.003 | 0.001 | 0.002 | |
| call.npci | 0 | 0 | 0 | |
| compute | 0.001 | 0.000 | 0.000 | |
| deg.pairwise.fold.change | 0.001 | 0.000 | 0.000 | |
| deg.up.down.info | 0 | 0 | 0 | |
| deseq.median.ratio.normalization | 0.005 | 0.000 | 0.006 | |
| divergence.multivariate.distributions | 0.005 | 0.000 | 0.006 | |
| fCI-class | 0.001 | 0.000 | 0.002 | |
| fCI.call.by.index | 1.325 | 0.155 | 1.482 | |
| figures | 0 | 0 | 0 | |
| find.fci.targets | 3.132 | 0.054 | 3.186 | |
| find.mid.point | 0.221 | 0.000 | 0.222 | |
| get.fold.large.step | 0.000 | 0.000 | 0.001 | |
| get.npci.data | 0.003 | 0.000 | 0.003 | |
| get.npci.distance.matrix | 0.015 | 0.004 | 0.018 | |
| get.outline.index | 0.004 | 0.000 | 0.004 | |
| get.protein.fold.step | 0.001 | 0.000 | 0.000 | |
| get.rank.combinations | 0.000 | 0.001 | 0.001 | |
| get.rna.fold.step | 0 | 0 | 0 | |
| intersect.of.lists | 0 | 0 | 0 | |
| is.installed | 0.029 | 0.000 | 0.029 | |
| normalization | 0 | 0 | 0 | |
| npci.gene.by.pvalues | 0.003 | 0.000 | 0.004 | |
| npci.index.reconsidered | 0.106 | 0.000 | 0.105 | |
| npci.index.to.be.removed | 0.001 | 0.000 | 0.000 | |
| npci.venn.diagram | 0.166 | 0.004 | 0.169 | |
| pairwise.change.occupancy | 0.000 | 0.000 | 0.001 | |
| populate | 0 | 0 | 0 | |
| report.target.summary | 0 | 0 | 0 | |
| setfCI | 0.000 | 0.000 | 0.001 | |
| show.targets | 0 | 0 | 0 | |
| summarize | 0.005 | 0.001 | 0.007 | |
| total.library.size.normalization | 0.002 | 0.004 | 0.006 | |
| trim.size.normalization | 0.003 | 0.004 | 0.007 | |
| two.sample.log.ratio | 0.001 | 0.000 | 0.001 | |
| two.sample.permutation.test | 0.022 | 0.004 | 0.026 | |
| venndiagram | 0 | 0 | 0 | |