| Back to Multiple platform build/check report for BioC 3.13 |
|
This page was generated on 2021-10-15 15:06:04 -0400 (Fri, 15 Oct 2021).
|
To the developers/maintainers of the fCCAC package: - Please allow up to 24 hours (and sometimes 48 hours) for your latest push to git@git.bioconductor.org:packages/fCCAC.git to reflect on this report. See How and When does the builder pull? When will my changes propagate? here for more information. - Make sure to use the following settings in order to reproduce any error or warning you see on this page. |
| Package 621/2041 | Hostname | OS / Arch | INSTALL | BUILD | CHECK | BUILD BIN | ||||||||
| fCCAC 1.18.0 (landing page) Pedro Madrigal
| nebbiolo1 | Linux (Ubuntu 20.04.2 LTS) / x86_64 | OK | OK | OK | |||||||||
| tokay2 | Windows Server 2012 R2 Standard / x64 | OK | OK | OK | OK | |||||||||
| machv2 | macOS 10.14.6 Mojave / x86_64 | OK | OK | OK | OK | |||||||||
| Package: fCCAC |
| Version: 1.18.0 |
| Command: rm -rf fCCAC.buildbin-libdir && mkdir fCCAC.buildbin-libdir && C:\Users\biocbuild\bbs-3.13-bioc\R\bin\R.exe CMD INSTALL --merge-multiarch --build --library=fCCAC.buildbin-libdir fCCAC_1.18.0.tar.gz |
| StartedAt: 2021-10-15 09:16:22 -0400 (Fri, 15 Oct 2021) |
| EndedAt: 2021-10-15 09:17:53 -0400 (Fri, 15 Oct 2021) |
| EllapsedTime: 90.1 seconds |
| RetCode: 0 |
| Status: OK |
| PackageFile: fCCAC_1.18.0.zip |
| PackageFileSize: 3.527 MiB |
##############################################################################
##############################################################################
###
### Running command:
###
### rm -rf fCCAC.buildbin-libdir && mkdir fCCAC.buildbin-libdir && C:\Users\biocbuild\bbs-3.13-bioc\R\bin\R.exe CMD INSTALL --merge-multiarch --build --library=fCCAC.buildbin-libdir fCCAC_1.18.0.tar.gz
###
##############################################################################
##############################################################################
install for i386
* installing *source* package 'fCCAC' ...
** using staged installation
** R
** inst
** byte-compile and prepare package for lazy loading
Warning: replacing previous import 'Biostrings::pattern' by 'grid::pattern' when loading 'genomation'
** help
*** installing help indices
converting help for package 'fCCAC'
finding HTML links ... done
fCCAC-internal html
fCCAC-package html
fccac html
REDIRECT:topic Previous alias or file overwritten by alias: C:/Users/biocbuild/bbs-3.13-bioc/meat/fCCAC.buildbin-libdir/00LOCK-fCCAC/00new/fCCAC/help/fccac.html
heatmapfCCAC html
** building package indices
** installing vignettes
** testing if installed package can be loaded from temporary location
Warning: replacing previous import 'Biostrings::pattern' by 'grid::pattern' when loading 'genomation'
** testing if installed package can be loaded from final location
Warning: replacing previous import 'Biostrings::pattern' by 'grid::pattern' when loading 'genomation'
** testing if installed package keeps a record of temporary installation path
install for x64
* installing *source* package 'fCCAC' ...
** testing if installed package can be loaded
Warning: replacing previous import 'Biostrings::pattern' by 'grid::pattern' when loading 'genomation'
* MD5 sums
packaged installation of 'fCCAC' as fCCAC_1.18.0.zip
* DONE (fCCAC)