| Back to Multiple platform build/check report for BioC 3.13 |
|
This page was generated on 2021-10-15 15:06:04 -0400 (Fri, 15 Oct 2021).
|
To the developers/maintainers of the evaluomeR package: - Please allow up to 24 hours (and sometimes 48 hours) for your latest push to git@git.bioconductor.org:packages/evaluomeR.git to reflect on this report. See How and When does the builder pull? When will my changes propagate? here for more information. - Make sure to use the following settings in order to reproduce any error or warning you see on this page. |
| Package 599/2041 | Hostname | OS / Arch | INSTALL | BUILD | CHECK | BUILD BIN | ||||||||
| evaluomeR 1.8.0 (landing page) José Antonio Bernabé-Díaz
| nebbiolo1 | Linux (Ubuntu 20.04.2 LTS) / x86_64 | OK | OK | OK | |||||||||
| tokay2 | Windows Server 2012 R2 Standard / x64 | OK | OK | OK | OK | |||||||||
| machv2 | macOS 10.14.6 Mojave / x86_64 | OK | OK | OK | OK | |||||||||
| Package: evaluomeR |
| Version: 1.8.0 |
| Command: C:\cygwin\bin\curl.exe -O http://155.52.207.165/BBS/3.13/bioc/src/contrib/evaluomeR_1.8.0.tar.gz && rm -rf evaluomeR.buildbin-libdir && mkdir evaluomeR.buildbin-libdir && C:\Users\biocbuild\bbs-3.13-bioc\R\bin\R.exe CMD INSTALL --merge-multiarch --build --library=evaluomeR.buildbin-libdir evaluomeR_1.8.0.tar.gz && C:\Users\biocbuild\bbs-3.13-bioc\R\bin\R.exe CMD INSTALL evaluomeR_1.8.0.zip && rm evaluomeR_1.8.0.tar.gz evaluomeR_1.8.0.zip |
| StartedAt: 2021-10-14 11:15:09 -0400 (Thu, 14 Oct 2021) |
| EndedAt: 2021-10-14 11:16:08 -0400 (Thu, 14 Oct 2021) |
| EllapsedTime: 59.9 seconds |
| RetCode: 0 |
| Status: OK |
##############################################################################
##############################################################################
###
### Running command:
###
### C:\cygwin\bin\curl.exe -O http://155.52.207.165/BBS/3.13/bioc/src/contrib/evaluomeR_1.8.0.tar.gz && rm -rf evaluomeR.buildbin-libdir && mkdir evaluomeR.buildbin-libdir && C:\Users\biocbuild\bbs-3.13-bioc\R\bin\R.exe CMD INSTALL --merge-multiarch --build --library=evaluomeR.buildbin-libdir evaluomeR_1.8.0.tar.gz && C:\Users\biocbuild\bbs-3.13-bioc\R\bin\R.exe CMD INSTALL evaluomeR_1.8.0.zip && rm evaluomeR_1.8.0.tar.gz evaluomeR_1.8.0.zip
###
##############################################################################
##############################################################################
% Total % Received % Xferd Average Speed Time Time Time Current
Dload Upload Total Spent Left Speed
0 0 0 0 0 0 0 0 --:--:-- --:--:-- --:--:-- 0
100 108k 100 108k 0 0 560k 0 --:--:-- --:--:-- --:--:-- 565k
install for i386
* installing *source* package 'evaluomeR' ...
** using staged installation
** R
** data
*** moving datasets to lazyload DB
** inst
** byte-compile and prepare package for lazy loading
** help
Loading required namespace: evaluomeR
*** installing help indices
converting help for package 'evaluomeR'
finding HTML links ... done
bioMetrics html
evaluomeRSupportedCBI html
getDataQualityRange html
finding level-2 HTML links ... done
getOptimalKValue html
globalMetric html
metricsCorrelations html
ontMetrics html
plotMetricsBoxplot html
plotMetricsCluster html
plotMetricsClusterComparison html
plotMetricsMinMax html
plotMetricsViolin html
quality html
qualityRange html
qualitySet html
rnaMetrics html
stability html
stabilityRange html
stabilitySet html
** building package indices
** installing vignettes
** testing if installed package can be loaded from temporary location
** testing if installed package can be loaded from final location
** testing if installed package keeps a record of temporary installation path
install for x64
* installing *source* package 'evaluomeR' ...
** testing if installed package can be loaded
* MD5 sums
packaged installation of 'evaluomeR' as evaluomeR_1.8.0.zip
* DONE (evaluomeR)
* installing to library 'C:/Users/biocbuild/bbs-3.13-bioc/R/library'
package 'evaluomeR' successfully unpacked and MD5 sums checked