| Back to Multiple platform build/check report for BioC 3.13 |
|
This page was generated on 2021-10-15 15:06:35 -0400 (Fri, 15 Oct 2021).
|
To the developers/maintainers of the esetVis package: - Please allow up to 24 hours (and sometimes 48 hours) for your latest push to git@git.bioconductor.org:packages/esetVis.git to reflect on this report. See How and When does the builder pull? When will my changes propagate? here for more information. - Make sure to use the following settings in order to reproduce any error or warning you see on this page. |
| Package 597/2041 | Hostname | OS / Arch | INSTALL | BUILD | CHECK | BUILD BIN | ||||||||
| esetVis 1.18.0 (landing page) Laure Cougnaud
| nebbiolo1 | Linux (Ubuntu 20.04.2 LTS) / x86_64 | OK | OK | OK | |||||||||
| tokay2 | Windows Server 2012 R2 Standard / x64 | OK | OK | OK | OK | |||||||||
| machv2 | macOS 10.14.6 Mojave / x86_64 | OK | OK | OK | OK | |||||||||
| Package: esetVis |
| Version: 1.18.0 |
| Command: /Library/Frameworks/R.framework/Versions/Current/Resources/bin/R CMD check --install=check:esetVis.install-out.txt --library=/Library/Frameworks/R.framework/Versions/Current/Resources/library --no-vignettes --timings esetVis_1.18.0.tar.gz |
| StartedAt: 2021-10-14 18:52:34 -0400 (Thu, 14 Oct 2021) |
| EndedAt: 2021-10-14 18:56:15 -0400 (Thu, 14 Oct 2021) |
| EllapsedTime: 221.6 seconds |
| RetCode: 0 |
| Status: OK |
| CheckDir: esetVis.Rcheck |
| Warnings: 0 |
##############################################################################
##############################################################################
###
### Running command:
###
### /Library/Frameworks/R.framework/Versions/Current/Resources/bin/R CMD check --install=check:esetVis.install-out.txt --library=/Library/Frameworks/R.framework/Versions/Current/Resources/library --no-vignettes --timings esetVis_1.18.0.tar.gz
###
##############################################################################
##############################################################################
* using log directory ‘/Users/biocbuild/bbs-3.13-bioc/meat/esetVis.Rcheck’
* using R version 4.1.1 (2021-08-10)
* using platform: x86_64-apple-darwin17.0 (64-bit)
* using session charset: UTF-8
* using option ‘--no-vignettes’
* checking for file ‘esetVis/DESCRIPTION’ ... OK
* checking extension type ... Package
* this is package ‘esetVis’ version ‘1.18.0’
* checking package namespace information ... OK
* checking package dependencies ... OK
* checking if this is a source package ... OK
* checking if there is a namespace ... OK
* checking for hidden files and directories ... NOTE
Found the following hidden files and directories:
.git_fetch_output.txt
.git_merge_output.txt
These were most likely included in error. See section ‘Package
structure’ in the ‘Writing R Extensions’ manual.
* checking for portable file names ... OK
* checking for sufficient/correct file permissions ... OK
* checking whether package ‘esetVis’ can be installed ... OK
* checking installed package size ... OK
* checking package directory ... OK
* checking ‘build’ directory ... OK
* checking DESCRIPTION meta-information ... OK
* checking top-level files ... OK
* checking for left-over files ... OK
* checking index information ... OK
* checking package subdirectories ... OK
* checking R files for non-ASCII characters ... OK
* checking R files for syntax errors ... OK
* checking whether the package can be loaded ... OK
* checking whether the package can be loaded with stated dependencies ... OK
* checking whether the package can be unloaded cleanly ... OK
* checking whether the namespace can be loaded with stated dependencies ... OK
* checking whether the namespace can be unloaded cleanly ... OK
* checking dependencies in R code ... OK
* checking S3 generic/method consistency ... OK
* checking replacement functions ... OK
* checking foreign function calls ... OK
* checking R code for possible problems ... NOTE
getMethodsInputObjectEsetVis: no visible binding for global variable
‘rowData’
getMethodsInputObjectEsetVis: no visible binding for global variable
‘colData’
getMethodsInputObjectEsetVis: no visible binding for global variable
‘assay’
getMethodsInputObjectEsetVis : <anonymous>: no visible global function
definition for ‘colData’
getMethodsInputObjectEsetVis : <anonymous>: no visible global function
definition for ‘rowData’
ggvisPlotEset: no visible global function definition for ‘:=’
ggvisPlotEset: no visible binding for global variable ‘fill’
ggvisPlotEset: no visible binding for global variable ‘shape’
ggvisPlotEset: no visible binding for global variable ‘size’
ggvisPlotEset: no visible binding for global variable ‘opacity’
ggvisPlotEset: no visible global function definition for ‘%>%’
ggvisPlotEset: no visible global function definition for
‘scale_ordinal’
ggvisPlotEset: no visible global function definition for ‘set_options’
Undefined global functions or variables:
%>% := assay colData fill opacity rowData scale_ordinal set_options
shape size
* checking Rd files ... OK
* checking Rd metadata ... OK
* checking Rd cross-references ... OK
* checking for missing documentation entries ... OK
* checking for code/documentation mismatches ... OK
* checking Rd \usage sections ... OK
* checking Rd contents ... OK
* checking for unstated dependencies in examples ... OK
* checking files in ‘vignettes’ ... OK
* checking examples ... OK
Examples with CPU (user + system) or elapsed time > 5s
user system elapsed
getGeneSetsForPlot 67.792 5.856 73.695
esetLda 6.454 0.203 6.687
esetPlotWrapper 5.984 0.260 6.251
* checking for unstated dependencies in vignettes ... OK
* checking package vignettes in ‘inst/doc’ ... OK
* checking running R code from vignettes ... SKIPPED
* checking re-building of vignette outputs ... SKIPPED
* checking PDF version of manual ... OK
* DONE
Status: 2 NOTEs
See
‘/Users/biocbuild/bbs-3.13-bioc/meat/esetVis.Rcheck/00check.log’
for details.
esetVis.Rcheck/00install.out
############################################################################## ############################################################################## ### ### Running command: ### ### /Library/Frameworks/R.framework/Versions/Current/Resources/bin/R CMD INSTALL esetVis ### ############################################################################## ############################################################################## * installing to library ‘/Library/Frameworks/R.framework/Versions/4.1/Resources/library’ * installing *source* package ‘esetVis’ ... ** using staged installation ** R ** inst ** byte-compile and prepare package for lazy loading ** help *** installing help indices ** building package indices ** installing vignettes ** testing if installed package can be loaded from temporary location ** testing if installed package can be loaded from final location ** testing if installed package keeps a record of temporary installation path * DONE (esetVis)
esetVis.Rcheck/esetVis-Ex.timings
| name | user | system | elapsed | |
| esetLda | 6.454 | 0.203 | 6.687 | |
| esetPlotWrapper | 5.984 | 0.260 | 6.251 | |
| esetSpectralMap | 4.429 | 0.205 | 4.636 | |
| esetTsne | 4.097 | 0.045 | 4.144 | |
| getGeneSetsForPlot | 67.792 | 5.856 | 73.695 | |