| Back to Multiple platform build/check report for BioC 3.13 |
|
This page was generated on 2021-10-15 15:05:40 -0400 (Fri, 15 Oct 2021).
|
To the developers/maintainers of the epigraHMM package: - Please allow up to 24 hours (and sometimes 48 hours) for your latest push to git@git.bioconductor.org:packages/epigraHMM.git to reflect on this report. See How and When does the builder pull? When will my changes propagate? here for more information. - Make sure to use the following settings in order to reproduce any error or warning you see on this page. |
| Package 583/2041 | Hostname | OS / Arch | INSTALL | BUILD | CHECK | BUILD BIN | ||||||||
| epigraHMM 1.0.8 (landing page) Pedro Baldoni
| nebbiolo1 | Linux (Ubuntu 20.04.2 LTS) / x86_64 | OK | OK | OK | |||||||||
| tokay2 | Windows Server 2012 R2 Standard / x64 | OK | OK | OK | OK | |||||||||
| machv2 | macOS 10.14.6 Mojave / x86_64 | OK | OK | OK | OK | |||||||||
| Package: epigraHMM |
| Version: 1.0.8 |
| Command: /home/biocbuild/bbs-3.13-bioc/R/bin/R CMD build --keep-empty-dirs --no-resave-data epigraHMM |
| StartedAt: 2021-10-14 07:12:35 -0400 (Thu, 14 Oct 2021) |
| EndedAt: 2021-10-14 07:21:43 -0400 (Thu, 14 Oct 2021) |
| EllapsedTime: 548.1 seconds |
| RetCode: 0 |
| Status: OK |
| PackageFile: epigraHMM_1.0.8.tar.gz |
| PackageFileSize: 677.3 KiB |
##############################################################################
##############################################################################
###
### Running command:
###
### /home/biocbuild/bbs-3.13-bioc/R/bin/R CMD build --keep-empty-dirs --no-resave-data epigraHMM
###
##############################################################################
##############################################################################
* checking for file ‘epigraHMM/DESCRIPTION’ ... OK
* preparing ‘epigraHMM’:
* checking DESCRIPTION meta-information ... OK
* cleaning src
* installing the package to build vignettes
* creating vignettes ... OK
* cleaning src
* checking for LF line-endings in source and make files and shell scripts
* checking for empty or unneeded directories
NB: this package now depends on R (>= 3.5.0)
WARNING: Added dependency on R >= 3.5.0 because serialized objects in
serialize/load version 3 cannot be read in older versions of R.
File(s) containing such objects:
‘epigraHMM/data/helas3.rda’
* building ‘epigraHMM_1.0.8.tar.gz’