| Back to Multiple platform build/check report for BioC 3.13 | 
  | 
This page was generated on 2021-10-15 15:06:04 -0400 (Fri, 15 Oct 2021).
| 
To the developers/maintainers of the epiNEM package: - Please allow up to 24 hours (and sometimes 48 hours) for your latest push to git@git.bioconductor.org:packages/epiNEM.git to reflect on this report. See How and When does the builder pull? When will my changes propagate? here for more information. - Make sure to use the following settings in order to reproduce any error or warning you see on this page.  | 
| Package 585/2041 | Hostname | OS / Arch | INSTALL | BUILD | CHECK | BUILD BIN | ||||||||
| epiNEM 1.16.0  (landing page) Martin Pirkl 
  | nebbiolo1 | Linux (Ubuntu 20.04.2 LTS) / x86_64 | OK | OK | OK | |||||||||
| tokay2 | Windows Server 2012 R2 Standard / x64 | OK | OK | OK | OK | |||||||||
| machv2 | macOS 10.14.6 Mojave / x86_64 | OK | OK | OK | OK | |||||||||
| Package: epiNEM | 
| Version: 1.16.0 | 
| Command: rm -rf epiNEM.buildbin-libdir && mkdir epiNEM.buildbin-libdir && C:\Users\biocbuild\bbs-3.13-bioc\R\bin\R.exe CMD INSTALL --merge-multiarch --build --library=epiNEM.buildbin-libdir epiNEM_1.16.0.tar.gz | 
| StartedAt: 2021-10-15 09:10:52 -0400 (Fri, 15 Oct 2021) | 
| EndedAt: 2021-10-15 09:12:06 -0400 (Fri, 15 Oct 2021) | 
| EllapsedTime: 74.4 seconds | 
| RetCode: 0 | 
| Status: OK | 
| PackageFile: epiNEM_1.16.0.zip | 
| PackageFileSize: 1.061 MiB | 
##############################################################################
##############################################################################
###
### Running command:
###
###   rm -rf epiNEM.buildbin-libdir && mkdir epiNEM.buildbin-libdir && C:\Users\biocbuild\bbs-3.13-bioc\R\bin\R.exe CMD INSTALL --merge-multiarch --build --library=epiNEM.buildbin-libdir epiNEM_1.16.0.tar.gz
###
##############################################################################
##############################################################################
install for i386
* installing *source* package 'epiNEM' ...
** using staged installation
** R
** data
*** moving datasets to lazyload DB
** inst
** byte-compile and prepare package for lazy loading
** help
*** installing help indices
  converting help for package 'epiNEM'
    finding HTML links ... done
    AddLogicGates                           html  
    CreateExtendedAdjacency                 html  
    CreateRandomGraph                       html  
    CreateTopology                          html  
    ExtendTopology                          html  
    GenerateData                            html  
    HeatmapOP                               html  
    Mll                                     html  
    SimEpiNEM                               html  
    epiAnno                                 html  
    epiNEM                                  html  
    epiScreen                               html  
    perm.rank.test                          html  
    plot.epiNEM                             html  
    plot.epiScreen                          html  
    plot.epiSim                             html  
    rank.enrichment                         html  
    sameith_GO                              html  
    sameith_string                          html  
    samscreen                               html  
    sim                                     html  
    wageningen_GO                           html  
    wageningen_string                       html  
    wagscreen                               html  
** building package indices
** installing vignettes
** testing if installed package can be loaded from temporary location
** testing if installed package can be loaded from final location
** testing if installed package keeps a record of temporary installation path
install for x64
* installing *source* package 'epiNEM' ...
** testing if installed package can be loaded
* MD5 sums
packaged installation of 'epiNEM' as epiNEM_1.16.0.zip
* DONE (epiNEM)