| Back to Multiple platform build/check report for BioC 3.13 |
|
This page was generated on 2021-10-15 15:05:40 -0400 (Fri, 15 Oct 2021).
|
To the developers/maintainers of the enrichTF package: - Please allow up to 24 hours (and sometimes 48 hours) for your latest push to git@git.bioconductor.org:packages/enrichTF.git to reflect on this report. See How and When does the builder pull? When will my changes propagate? here for more information. - Make sure to use the following settings in order to reproduce any error or warning you see on this page. |
| Package 575/2041 | Hostname | OS / Arch | INSTALL | BUILD | CHECK | BUILD BIN | ||||||||
| enrichTF 1.8.0 (landing page) Zheng Wei
| nebbiolo1 | Linux (Ubuntu 20.04.2 LTS) / x86_64 | OK | OK | OK | |||||||||
| tokay2 | Windows Server 2012 R2 Standard / x64 | OK | OK | OK | OK | |||||||||
| machv2 | macOS 10.14.6 Mojave / x86_64 | OK | OK | OK | OK | |||||||||
| Package: enrichTF |
| Version: 1.8.0 |
| Command: /home/biocbuild/bbs-3.13-bioc/R/bin/R CMD check --install=check:enrichTF.install-out.txt --library=/home/biocbuild/bbs-3.13-bioc/R/library --no-vignettes --timings enrichTF_1.8.0.tar.gz |
| StartedAt: 2021-10-14 09:43:36 -0400 (Thu, 14 Oct 2021) |
| EndedAt: 2021-10-14 09:49:10 -0400 (Thu, 14 Oct 2021) |
| EllapsedTime: 333.3 seconds |
| RetCode: 0 |
| Status: OK |
| CheckDir: enrichTF.Rcheck |
| Warnings: 0 |
##############################################################################
##############################################################################
###
### Running command:
###
### /home/biocbuild/bbs-3.13-bioc/R/bin/R CMD check --install=check:enrichTF.install-out.txt --library=/home/biocbuild/bbs-3.13-bioc/R/library --no-vignettes --timings enrichTF_1.8.0.tar.gz
###
##############################################################################
##############################################################################
* using log directory ‘/home/biocbuild/bbs-3.13-bioc/meat/enrichTF.Rcheck’
* using R version 4.1.1 (2021-08-10)
* using platform: x86_64-pc-linux-gnu (64-bit)
* using session charset: UTF-8
* using option ‘--no-vignettes’
* checking for file ‘enrichTF/DESCRIPTION’ ... OK
* checking extension type ... Package
* this is package ‘enrichTF’ version ‘1.8.0’
* package encoding: UTF-8
* checking package namespace information ... OK
* checking package dependencies ... OK
* checking if this is a source package ... OK
* checking if there is a namespace ... OK
* checking for hidden files and directories ... OK
* checking for portable file names ... OK
* checking for sufficient/correct file permissions ... OK
* checking whether package ‘enrichTF’ can be installed ... OK
* checking installed package size ... OK
* checking package directory ... OK
* checking ‘build’ directory ... OK
* checking DESCRIPTION meta-information ... OK
* checking top-level files ... OK
* checking for left-over files ... OK
* checking index information ... OK
* checking package subdirectories ... OK
* checking R files for non-ASCII characters ... OK
* checking R files for syntax errors ... OK
* checking whether the package can be loaded ... OK
* checking whether the package can be loaded with stated dependencies ... OK
* checking whether the package can be unloaded cleanly ... OK
* checking whether the namespace can be loaded with stated dependencies ... NOTE
Warning in options(stringsAsFactors = TRUE) :
'options(stringsAsFactors = TRUE)' is deprecated and will be disabled
A namespace must be able to be loaded with just the base namespace
loaded: otherwise if the namespace gets loaded by a saved object, the
session will be unable to start.
Probably some imports need to be declared in the NAMESPACE file.
* checking whether the namespace can be unloaded cleanly ... OK
* checking dependencies in R code ... OK
* checking S3 generic/method consistency ... OK
* checking replacement functions ... OK
* checking foreign function calls ... OK
* checking R code for possible problems ... NOTE
processing,TissueOpennessConserve: no visible binding for global
variable ‘X2’
Undefined global functions or variables:
X2
* checking Rd files ... OK
* checking Rd metadata ... OK
* checking Rd cross-references ... OK
* checking for missing documentation entries ... OK
* checking for code/documentation mismatches ... OK
* checking Rd \usage sections ... OK
* checking Rd contents ... OK
* checking for unstated dependencies in examples ... OK
* checking files in ‘vignettes’ ... OK
* checking examples ... OK
Examples with CPU (user + system) or elapsed time > 5s
user system elapsed
TissueOpennessSpecificity 17.361 0.052 17.416
GeneOntology 13.662 0.920 14.595
GenBackground 4.479 1.228 5.915
Pipelines 1.393 0.113 15.151
* checking for unstated dependencies in ‘tests’ ... OK
* checking tests ...
Running ‘testthat.R’
OK
* checking for unstated dependencies in vignettes ... OK
* checking package vignettes in ‘inst/doc’ ... OK
* checking running R code from vignettes ... SKIPPED
* checking re-building of vignette outputs ... SKIPPED
* checking PDF version of manual ... OK
* DONE
Status: 2 NOTEs
See
‘/home/biocbuild/bbs-3.13-bioc/meat/enrichTF.Rcheck/00check.log’
for details.
enrichTF.Rcheck/00install.out
############################################################################## ############################################################################## ### ### Running command: ### ### /home/biocbuild/bbs-3.13-bioc/R/bin/R CMD INSTALL enrichTF ### ############################################################################## ############################################################################## * installing to library ‘/home/biocbuild/bbs-3.13-bioc/R/library’ * installing *source* package ‘enrichTF’ ... ** using staged installation ** R ** inst ** byte-compile and prepare package for lazy loading ** help *** installing help indices ** building package indices ** installing vignettes ** testing if installed package can be loaded from temporary location Warning in options(stringsAsFactors = TRUE) : 'options(stringsAsFactors = TRUE)' is deprecated and will be disabled ** testing if installed package can be loaded from final location Warning in options(stringsAsFactors = TRUE) : 'options(stringsAsFactors = TRUE)' is deprecated and will be disabled ** testing if installed package keeps a record of temporary installation path * DONE (enrichTF)
enrichTF.Rcheck/tests/testthat.Rout
R version 4.1.1 (2021-08-10) -- "Kick Things"
Copyright (C) 2021 The R Foundation for Statistical Computing
Platform: x86_64-pc-linux-gnu (64-bit)
R is free software and comes with ABSOLUTELY NO WARRANTY.
You are welcome to redistribute it under certain conditions.
Type 'license()' or 'licence()' for distribution details.
R is a collaborative project with many contributors.
Type 'contributors()' for more information and
'citation()' on how to cite R or R packages in publications.
Type 'demo()' for some demos, 'help()' for on-line help, or
'help.start()' for an HTML browser interface to help.
Type 'q()' to quit R.
> library(testthat)
> library(enrichTF)
Loading required package: pipeFrame
Warning message:
In options(stringsAsFactors = TRUE) :
'options(stringsAsFactors = TRUE)' is deprecated and will be disabled
>
> test_check("enrichTF")
[1] "2021-10-14 09:49:04 EDT"
[1] "2021-10-14 09:49:04 EDT"
[1] "2021-10-14 09:49:04 EDT"
[1] "2021-10-14 09:49:04 EDT"
[1] "2021-10-14 09:49:04 EDT"
[1] "2021-10-14 09:49:04 EDT"
[1] "2021-10-14 09:49:06 EDT"
[1] "2021-10-14 09:49:06 EDT"
[1] "2021-10-14 09:49:06 EDT"
[1] "2021-10-14 09:49:06 EDT"
[1] "2021-10-14 09:49:06 EDT"
[1] "2021-10-14 09:49:06 EDT"
[1] "2021-10-14 09:49:07 EDT"
[1] "2021-10-14 09:49:07 EDT"
[1] "2021-10-14 09:49:07 EDT"
[1] "2021-10-14 09:49:07 EDT"
[1] "2021-10-14 09:49:07 EDT"
[1] "2021-10-14 09:49:07 EDT"
[ FAIL 0 | WARN 0 | SKIP 0 | PASS 9 ]
>
> proc.time()
user system elapsed
20.117 1.427 21.286
enrichTF.Rcheck/enrichTF-Ex.timings
| name | user | system | elapsed | |
| GenBackground | 4.479 | 1.228 | 5.915 | |
| GeneOntology | 13.662 | 0.920 | 14.595 | |
| MotifsInRegions | 1.822 | 0.459 | 1.750 | |
| Pipelines | 1.393 | 0.113 | 15.151 | |
| RegionConnectTargetGene | 0.465 | 0.012 | 0.477 | |
| TFsEnrichInRegions | 0.435 | 0.028 | 0.462 | |
| TissueOpennessConserve | 0.122 | 0.004 | 0.125 | |
| TissueOpennessSpecificity | 17.361 | 0.052 | 17.416 | |
| UnzipAndMergeBed | 0.085 | 0.000 | 0.084 | |