| Back to Multiple platform build/check report for BioC 3.13 |
|
This page was generated on 2021-10-15 15:06:03 -0400 (Fri, 15 Oct 2021).
|
To the developers/maintainers of the eisa package: - Please allow up to 24 hours (and sometimes 48 hours) for your latest push to git@git.bioconductor.org:packages/eisa.git to reflect on this report. See How and When does the builder pull? When will my changes propagate? here for more information. - Make sure to use the following settings in order to reproduce any error or warning you see on this page. |
| Package 562/2041 | Hostname | OS / Arch | INSTALL | BUILD | CHECK | BUILD BIN | ||||||||
Gabor Csardi
| nebbiolo1 | Linux (Ubuntu 20.04.2 LTS) / x86_64 | OK | OK | ERROR | |||||||||
| tokay2 | Windows Server 2012 R2 Standard / x64 | OK | OK | ERROR | OK | |||||||||
| machv2 | macOS 10.14.6 Mojave / x86_64 | OK | OK | ERROR | OK | |||||||||
| Package: eisa |
| Version: 1.44.0 |
| Command: rm -rf eisa.buildbin-libdir && mkdir eisa.buildbin-libdir && C:\Users\biocbuild\bbs-3.13-bioc\R\bin\R.exe CMD INSTALL --merge-multiarch --build --library=eisa.buildbin-libdir eisa_1.44.0.tar.gz |
| StartedAt: 2021-10-15 09:07:36 -0400 (Fri, 15 Oct 2021) |
| EndedAt: 2021-10-15 09:09:10 -0400 (Fri, 15 Oct 2021) |
| EllapsedTime: 94.1 seconds |
| RetCode: 0 |
| Status: OK |
| PackageFile: eisa_1.44.0.zip |
| PackageFileSize: 1.473 MiB |
##############################################################################
##############################################################################
###
### Running command:
###
### rm -rf eisa.buildbin-libdir && mkdir eisa.buildbin-libdir && C:\Users\biocbuild\bbs-3.13-bioc\R\bin\R.exe CMD INSTALL --merge-multiarch --build --library=eisa.buildbin-libdir eisa_1.44.0.tar.gz
###
##############################################################################
##############################################################################
install for i386
* installing *source* package 'eisa' ...
** using staged installation
** R
** data
** inst
** byte-compile and prepare package for lazy loading
in method for 'coerce' with signature '"Biclust","ISAModules"': no definition for class "Biclust"
in method for 'coerce' with signature '"ISAModules","Biclust"': no definition for class "Biclust"
** help
*** installing help indices
converting help for package 'eisa'
finding HTML links ... done
ALLModules html
ISA.CHR html
ISA.GO html
ISA.KEGG html
ISA html
ISA.html html
ISA.iterate html
ISA.miRNA html
ISA.normalize html
ISA.sweep html
ISA.unique html
ISA2heatmap html
ISAExpressionSet html
ISAModules-class html
ListHyperGParams-class html
ListHyperGResult-class html
cond.plot html
eisa.biclust html
enrichment html
exp.plot html
gograph html
mnplot html
overlap html
profilePlot html
robustness html
** building package indices
** installing vignettes
** testing if installed package can be loaded from temporary location
Warning: Package 'eisa' is deprecated and will be removed from Bioconductor
version 3.14
** testing if installed package can be loaded from final location
Warning: Package 'eisa' is deprecated and will be removed from Bioconductor
version 3.14
** testing if installed package keeps a record of temporary installation path
install for x64
* installing *source* package 'eisa' ...
** testing if installed package can be loaded
Warning: Package 'eisa' is deprecated and will be removed from Bioconductor
version 3.14
* MD5 sums
packaged installation of 'eisa' as eisa_1.44.0.zip
* DONE (eisa)