| Back to Multiple platform build/check report for BioC 3.13 | 
 | 
This page was generated on 2021-10-15 15:06:03 -0400 (Fri, 15 Oct 2021).
| To the developers/maintainers of the eegc package: - Please allow up to 24 hours (and sometimes 48 hours) for your latest push to git@git.bioconductor.org:packages/eegc.git to reflect on this report. See How and When does the builder pull? When will my changes propagate? here for more information. - Make sure to use the following settings in order to reproduce any error or warning you see on this page. | 
| Package 558/2041 | Hostname | OS / Arch | INSTALL | BUILD | CHECK | BUILD BIN | ||||||||
| eegc 1.18.0  (landing page) Xiaoyuan Zhou 
 | nebbiolo1 | Linux (Ubuntu 20.04.2 LTS) / x86_64 | OK | OK | WARNINGS |  | ||||||||
| tokay2 | Windows Server 2012 R2 Standard / x64 | OK | OK | WARNINGS | OK |  | ||||||||
| machv2 | macOS 10.14.6 Mojave / x86_64 | OK | OK | WARNINGS | OK |  | ||||||||
| Package: eegc | 
| Version: 1.18.0 | 
| Command: rm -rf eegc.buildbin-libdir && mkdir eegc.buildbin-libdir && C:\Users\biocbuild\bbs-3.13-bioc\R\bin\R.exe CMD INSTALL --merge-multiarch --build --library=eegc.buildbin-libdir eegc_1.18.0.tar.gz | 
| StartedAt: 2021-10-15 09:07:01 -0400 (Fri, 15 Oct 2021) | 
| EndedAt: 2021-10-15 09:08:25 -0400 (Fri, 15 Oct 2021) | 
| EllapsedTime: 83.4 seconds | 
| RetCode: 0 | 
| Status: OK | 
| PackageFile: eegc_1.18.0.zip | 
| PackageFileSize: 11.27 MiB | 
##############################################################################
##############################################################################
###
### Running command:
###
###   rm -rf eegc.buildbin-libdir && mkdir eegc.buildbin-libdir && C:\Users\biocbuild\bbs-3.13-bioc\R\bin\R.exe CMD INSTALL --merge-multiarch --build --library=eegc.buildbin-libdir eegc_1.18.0.tar.gz
###
##############################################################################
##############################################################################
install for i386
* installing *source* package 'eegc' ...
** using staged installation
** R
** data
*** moving datasets to lazyload DB
** inst
** byte-compile and prepare package for lazy loading
** help
*** installing help indices
  converting help for package 'eegc'
    finding HTML links ... done
    SandlerFPKM                             html  
    barplotEnrich                           html  
    cate.gene                               html  
    cate.ratio                              html  
    categorizeGene                          html  
    densityPlot                             html  
    diffGene                                html  
    diffgene.genes                          html  
    dotPercentage                           html  
    eegc                                    html  
    enrichment                              html  
    expr.filter                             html  
    functionEnrich                          html  
    goenrich                                html  
    grnPlot                                 html  
    heatmapPlot                             html  
    human.gene                              html  
    human.grn                               html  
    human.tf                                html  
    markerScatter                           html  
    markers                                 html  
    mouse.gene                              html  
    mouse.grn                               html  
    mouse.tf                                html  
    networkAnalyze                          html  
    tissueGenes                             html  
    tissueGroup                             html  
** building package indices
** installing vignettes
** testing if installed package can be loaded from temporary location
** testing if installed package can be loaded from final location
** testing if installed package keeps a record of temporary installation path
install for x64
* installing *source* package 'eegc' ...
** testing if installed package can be loaded
* MD5 sums
packaged installation of 'eegc' as eegc_1.18.0.zip
* DONE (eegc)