Back to Multiple platform build/check report for BioC 3.13 |
|
This page was generated on 2021-10-15 15:06:34 -0400 (Fri, 15 Oct 2021).
To the developers/maintainers of the ecolitk package: - Please allow up to 24 hours (and sometimes 48 hours) for your latest push to git@git.bioconductor.org:packages/ecolitk.git to reflect on this report. See How and When does the builder pull? When will my changes propagate? here for more information. - Make sure to use the following settings in order to reproduce any error or warning you see on this page. |
Package 553/2041 | Hostname | OS / Arch | INSTALL | BUILD | CHECK | BUILD BIN | ||||||||
ecolitk 1.64.0 (landing page) Laurent Gautier
| nebbiolo1 | Linux (Ubuntu 20.04.2 LTS) / x86_64 | OK | OK | WARNINGS | ![]() | ||||||||
tokay2 | Windows Server 2012 R2 Standard / x64 | OK | OK | WARNINGS | OK | ![]() | ||||||||
machv2 | macOS 10.14.6 Mojave / x86_64 | OK | OK | WARNINGS | OK | ![]() | ||||||||
Package: ecolitk |
Version: 1.64.0 |
Command: rm -rf ecolitk.buildbin-libdir && mkdir ecolitk.buildbin-libdir && /Users/biocbuild/BBS/utils/build-universal.sh ecolitk_1.64.0.tar.gz /Library/Frameworks/R.framework/Versions/Current/Resources/bin/R ecolitk.buildbin-libdir |
StartedAt: 2021-10-15 02:17:01 -0400 (Fri, 15 Oct 2021) |
EndedAt: 2021-10-15 02:18:12 -0400 (Fri, 15 Oct 2021) |
EllapsedTime: 70.6 seconds |
RetCode: 0 |
Status: OK |
PackageFile: ecolitk_1.64.0.tgz |
PackageFileSize: 1.768 MiB |
############################################################################## ############################################################################## ### ### Running command: ### ### rm -rf ecolitk.buildbin-libdir && mkdir ecolitk.buildbin-libdir && /Users/biocbuild/BBS/utils/build-universal.sh ecolitk_1.64.0.tar.gz /Library/Frameworks/R.framework/Versions/Current/Resources/bin/R ecolitk.buildbin-libdir ### ############################################################################## ############################################################################## >>>>>>> >>>>>>> INSTALLATION WITH 'R CMD INSTALL --preclean --no-multiarch --library=ecolitk.buildbin-libdir ecolitk_1.64.0.tar.gz' >>>>>>> * installing *source* package ‘ecolitk’ ... ** using staged installation ** R ** data ** inst ** byte-compile and prepare package for lazy loading Note: possible error in 'strsplit(line, "\t", ': unused argument (extended = TRUE) ** help *** installing help indices ** building package indices ** installing vignettes ** testing if installed package can be loaded from temporary location ** testing if installed package can be loaded from final location ** testing if installed package keeps a record of temporary installation path * DONE (ecolitk)