| Back to Multiple platform build/check report for BioC 3.13 |
|
This page was generated on 2021-10-15 15:06:03 -0400 (Fri, 15 Oct 2021).
|
To the developers/maintainers of the easyRNASeq package: - Please allow up to 24 hours (and sometimes 48 hours) for your latest push to git@git.bioconductor.org:packages/easyRNASeq.git to reflect on this report. See How and When does the builder pull? When will my changes propagate? here for more information. - Make sure to use the following settings in order to reproduce any error or warning you see on this page. |
| Package 546/2041 | Hostname | OS / Arch | INSTALL | BUILD | CHECK | BUILD BIN | ||||||||
| easyRNASeq 2.28.0 (landing page) Nicolas Delhomme
| nebbiolo1 | Linux (Ubuntu 20.04.2 LTS) / x86_64 | OK | OK | OK | |||||||||
| tokay2 | Windows Server 2012 R2 Standard / x64 | OK | OK | OK | OK | |||||||||
| machv2 | macOS 10.14.6 Mojave / x86_64 | OK | OK | OK | OK | |||||||||
| Package: easyRNASeq |
| Version: 2.28.0 |
| Command: rm -rf easyRNASeq.buildbin-libdir && mkdir easyRNASeq.buildbin-libdir && C:\Users\biocbuild\bbs-3.13-bioc\R\bin\R.exe CMD INSTALL --merge-multiarch --build --library=easyRNASeq.buildbin-libdir easyRNASeq_2.28.0.tar.gz |
| StartedAt: 2021-10-15 09:05:23 -0400 (Fri, 15 Oct 2021) |
| EndedAt: 2021-10-15 09:06:50 -0400 (Fri, 15 Oct 2021) |
| EllapsedTime: 86.9 seconds |
| RetCode: 0 |
| Status: OK |
| PackageFile: easyRNASeq_2.28.0.zip |
| PackageFileSize: 24.14 MiB |
##############################################################################
##############################################################################
###
### Running command:
###
### rm -rf easyRNASeq.buildbin-libdir && mkdir easyRNASeq.buildbin-libdir && C:\Users\biocbuild\bbs-3.13-bioc\R\bin\R.exe CMD INSTALL --merge-multiarch --build --library=easyRNASeq.buildbin-libdir easyRNASeq_2.28.0.tar.gz
###
##############################################################################
##############################################################################
install for i386
* installing *source* package 'easyRNASeq' ...
** using staged installation
** R
** data
** inst
** byte-compile and prepare package for lazy loading
Creating a generic function for 'basename' from package 'base' in package 'easyRNASeq'
Creating a generic function for 'file.exists' from package 'base' in package 'easyRNASeq'
** help
*** installing help indices
converting help for package 'easyRNASeq'
finding HTML links ... done
BiocFileCache-methods html
finding level-2 HTML links ... done
GenomicRanges-methods html
IRanges-methods html
Rsamtools-methods html
ShortRead-methods html
basename-methods html
easyRNASeq-AnnotParam-accessors html
easyRNASeq-AnnotParam-class html
easyRNASeq-AnnotParam html
easyRNASeq-BamFileList html
easyRNASeq-BamParam-accessors html
easyRNASeq-BamParam-class html
easyRNASeq-BamParam html
easyRNASeq-RnaSeqParam-accessors html
REDIRECT:topic Previous alias or file overwritten by alias: C:/Users/biocbuild/bbs-3.13-bioc/meat/easyRNASeq.buildbin-libdir/00LOCK-easyRNASeq/00new/easyRNASeq/help/bamParam.html
REDIRECT:topic Previous alias or file overwritten by alias: C:/Users/biocbuild/bbs-3.13-bioc/meat/easyRNASeq.buildbin-libdir/00LOCK-easyRNASeq/00new/easyRNASeq/help/annotParam.html
easyRNASeq-RnaSeqParam-class html
easyRNASeq-RnaSeqParam html
easyRNASeq-accessors html
easyRNASeq-annotation-internal-methods
html
easyRNASeq-annotation-methods html
easyRNASeq-class html
easyRNASeq-correction-methods html
easyRNASeq-coverage-methods html
easyRNASeq-datasets html
easyRNASeq-defunct-annotation-methods html
easyRNASeq-defunct html
easyRNASeq-easyRNASeq html
REDIRECT:topic Previous alias or file overwritten by alias: C:/Users/biocbuild/bbs-3.13-bioc/meat/easyRNASeq.buildbin-libdir/00LOCK-easyRNASeq/00new/easyRNASeq/help/easyRNASeq-defunct.html
easyRNASeq-global-variables html
easyRNASeq-internal-AnnotParam-methods
html
easyRNASeq-internal-methods html
easyRNASeq-island-methods html
easyRNASeq-package html
easyRNASeq-simpleRNASeq html
easyRNASeq-summarization-internal-methods
html
easyRNASeq-summarization-methods html
easyRNASeq-synthetic-transcripts html
edgeR-methods html
file.exists-methods html
genomeIntervals-methods html
parallel-methods html
print-methods html
show-methods html
** building package indices
** installing vignettes
** testing if installed package can be loaded from temporary location
** testing if installed package can be loaded from final location
** testing if installed package keeps a record of temporary installation path
install for x64
* installing *source* package 'easyRNASeq' ...
** testing if installed package can be loaded
* MD5 sums
packaged installation of 'easyRNASeq' as easyRNASeq_2.28.0.zip
* DONE (easyRNASeq)