| Back to Multiple platform build/check report for BioC 3.13 |
|
This page was generated on 2021-10-15 15:06:03 -0400 (Fri, 15 Oct 2021).
|
To the developers/maintainers of the dmrseq package: - Please allow up to 24 hours (and sometimes 48 hours) for your latest push to git@git.bioconductor.org:packages/dmrseq.git to reflect on this report. See How and When does the builder pull? When will my changes propagate? here for more information. - Make sure to use the following settings in order to reproduce any error or warning you see on this page. |
| Package 520/2041 | Hostname | OS / Arch | INSTALL | BUILD | CHECK | BUILD BIN | ||||||||
| dmrseq 1.12.0 (landing page) Keegan Korthauer
| nebbiolo1 | Linux (Ubuntu 20.04.2 LTS) / x86_64 | OK | OK | WARNINGS | |||||||||
| tokay2 | Windows Server 2012 R2 Standard / x64 | OK | OK | WARNINGS | OK | |||||||||
| machv2 | macOS 10.14.6 Mojave / x86_64 | OK | OK | WARNINGS | OK | |||||||||
| Package: dmrseq |
| Version: 1.12.0 |
| Command: rm -rf dmrseq.buildbin-libdir && mkdir dmrseq.buildbin-libdir && C:\Users\biocbuild\bbs-3.13-bioc\R\bin\R.exe CMD INSTALL --merge-multiarch --build --library=dmrseq.buildbin-libdir dmrseq_1.12.0.tar.gz |
| StartedAt: 2021-10-15 09:01:56 -0400 (Fri, 15 Oct 2021) |
| EndedAt: 2021-10-15 09:03:24 -0400 (Fri, 15 Oct 2021) |
| EllapsedTime: 87.5 seconds |
| RetCode: 0 |
| Status: OK |
| PackageFile: dmrseq_1.12.0.zip |
| PackageFileSize: 7.871 MiB |
##############################################################################
##############################################################################
###
### Running command:
###
### rm -rf dmrseq.buildbin-libdir && mkdir dmrseq.buildbin-libdir && C:\Users\biocbuild\bbs-3.13-bioc\R\bin\R.exe CMD INSTALL --merge-multiarch --build --library=dmrseq.buildbin-libdir dmrseq_1.12.0.tar.gz
###
##############################################################################
##############################################################################
install for i386
* installing *source* package 'dmrseq' ...
** using staged installation
** R
** data
*** moving datasets to lazyload DB
** inst
** byte-compile and prepare package for lazy loading
Warning: replacing previous import 'AnnotationHub::hubUrl' by 'rtracklayer::hubUrl' when loading 'annotatr'
** help
*** installing help indices
converting help for package 'dmrseq'
finding HTML links ... done
BS.chr21 html
annot.chr21 html
dmrPlotAnnotations html
dmrs.ex html
dmrseq html
getAnnot html
meanDiff html
plotDMRs html
plotEmpiricalDistribution html
simDMRs html
** building package indices
** installing vignettes
** testing if installed package can be loaded from temporary location
Warning: replacing previous import 'AnnotationHub::hubUrl' by 'rtracklayer::hubUrl' when loading 'annotatr'
** testing if installed package can be loaded from final location
Warning: replacing previous import 'AnnotationHub::hubUrl' by 'rtracklayer::hubUrl' when loading 'annotatr'
** testing if installed package keeps a record of temporary installation path
install for x64
* installing *source* package 'dmrseq' ...
** testing if installed package can be loaded
Warning: replacing previous import 'AnnotationHub::hubUrl' by 'rtracklayer::hubUrl' when loading 'annotatr'
* MD5 sums
packaged installation of 'dmrseq' as dmrseq_1.12.0.zip
* DONE (dmrseq)