| Back to Multiple platform build/check report for BioC 3.13 |
|
This page was generated on 2021-10-15 15:06:03 -0400 (Fri, 15 Oct 2021).
|
To the developers/maintainers of the dks package: - Please allow up to 24 hours (and sometimes 48 hours) for your latest push to git@git.bioconductor.org:packages/dks.git to reflect on this report. See How and When does the builder pull? When will my changes propagate? here for more information. - Make sure to use the following settings in order to reproduce any error or warning you see on this page. |
| Package 513/2041 | Hostname | OS / Arch | INSTALL | BUILD | CHECK | BUILD BIN | ||||||||
| dks 1.38.0 (landing page) Jeffrey T. Leek
| nebbiolo1 | Linux (Ubuntu 20.04.2 LTS) / x86_64 | OK | OK | OK | |||||||||
| tokay2 | Windows Server 2012 R2 Standard / x64 | OK | OK | OK | OK | |||||||||
| machv2 | macOS 10.14.6 Mojave / x86_64 | OK | OK | OK | OK | |||||||||
| Package: dks |
| Version: 1.38.0 |
| Command: rm -rf dks.buildbin-libdir && mkdir dks.buildbin-libdir && C:\Users\biocbuild\bbs-3.13-bioc\R\bin\R.exe CMD INSTALL --merge-multiarch --build --library=dks.buildbin-libdir dks_1.38.0.tar.gz |
| StartedAt: 2021-10-15 09:00:58 -0400 (Fri, 15 Oct 2021) |
| EndedAt: 2021-10-15 09:02:05 -0400 (Fri, 15 Oct 2021) |
| EllapsedTime: 66.9 seconds |
| RetCode: 0 |
| Status: OK |
| PackageFile: dks_1.38.0.zip |
| PackageFileSize: 497.6 KiB |
##############################################################################
##############################################################################
###
### Running command:
###
### rm -rf dks.buildbin-libdir && mkdir dks.buildbin-libdir && C:\Users\biocbuild\bbs-3.13-bioc\R\bin\R.exe CMD INSTALL --merge-multiarch --build --library=dks.buildbin-libdir dks_1.38.0.tar.gz
###
##############################################################################
##############################################################################
install for i386
* installing *source* package 'dks' ...
** using staged installation
** R
** data
** inst
** byte-compile and prepare package for lazy loading
** help
*** installing help indices
converting help for package 'dks'
finding HTML links ... done
P html
cred.set html
dks html
dks.pvalue html
dksdata html
pprob.dist html
pprob.uniform html
** building package indices
** installing vignettes
** testing if installed package can be loaded from temporary location
** testing if installed package can be loaded from final location
** testing if installed package keeps a record of temporary installation path
install for x64
* installing *source* package 'dks' ...
** testing if installed package can be loaded
* MD5 sums
packaged installation of 'dks' as dks_1.38.0.zip
* DONE (dks)