| Back to Multiple platform build/check report for BioC 3.13 |
|
This page was generated on 2021-10-15 15:06:33 -0400 (Fri, 15 Oct 2021).
|
To the developers/maintainers of the dexus package: - Please allow up to 24 hours (and sometimes 48 hours) for your latest push to git@git.bioconductor.org:packages/dexus.git to reflect on this report. See How and When does the builder pull? When will my changes propagate? here for more information. - Make sure to use the following settings in order to reproduce any error or warning you see on this page. |
| Package 492/2041 | Hostname | OS / Arch | INSTALL | BUILD | CHECK | BUILD BIN | ||||||||
Guenter Klambauer
| nebbiolo1 | Linux (Ubuntu 20.04.2 LTS) / x86_64 | OK | OK | ERROR | |||||||||
| tokay2 | Windows Server 2012 R2 Standard / x64 | OK | OK | ERROR | OK | |||||||||
| machv2 | macOS 10.14.6 Mojave / x86_64 | OK | OK | ERROR | OK | |||||||||
| Package: dexus |
| Version: 1.32.0 |
| Command: rm -rf dexus.buildbin-libdir && mkdir dexus.buildbin-libdir && /Users/biocbuild/BBS/utils/build-universal.sh dexus_1.32.0.tar.gz /Library/Frameworks/R.framework/Versions/Current/Resources/bin/R dexus.buildbin-libdir |
| StartedAt: 2021-10-15 02:11:42 -0400 (Fri, 15 Oct 2021) |
| EndedAt: 2021-10-15 02:12:52 -0400 (Fri, 15 Oct 2021) |
| EllapsedTime: 69.9 seconds |
| RetCode: 0 |
| Status: OK |
| PackageFile: dexus_1.32.0.tgz |
| PackageFileSize: 3.374 MiB |
##############################################################################
##############################################################################
###
### Running command:
###
### rm -rf dexus.buildbin-libdir && mkdir dexus.buildbin-libdir && /Users/biocbuild/BBS/utils/build-universal.sh dexus_1.32.0.tar.gz /Library/Frameworks/R.framework/Versions/Current/Resources/bin/R dexus.buildbin-libdir
###
##############################################################################
##############################################################################
>>>>>>>
>>>>>>> INSTALLATION WITH 'R CMD INSTALL --preclean --no-multiarch --library=dexus.buildbin-libdir dexus_1.32.0.tar.gz'
>>>>>>>
* installing *source* package ‘dexus’ ...
** using staged installation
** libs
clang++ -mmacosx-version-min=10.13 -std=gnu++14 -I"/Library/Frameworks/R.framework/Resources/include" -DNDEBUG -I/usr/local/include -fPIC -Wall -g -O2 -c dexus.cpp -o dexus.o
dexus.cpp:136:15: warning: equality comparison with extraneous parentheses [-Wparentheses-equality]
if ((innerCyc==maxInnerCyc))
~~~~~~~~^~~~~~~~~~~~~
dexus.cpp:136:15: note: remove extraneous parentheses around the comparison to silence this warning
if ((innerCyc==maxInnerCyc))
~ ^ ~
dexus.cpp:136:15: note: use '=' to turn this equality comparison into an assignment
if ((innerCyc==maxInnerCyc))
^~
=
dexus.cpp:193:15: warning: unused variable 'DEFAULT_R' [-Wunused-variable]
const double DEFAULT_R = 20; // R value used when re-setting clusters
^
dexus.cpp:575:15: warning: unused variable 'DEFAULT_R' [-Wunused-variable]
const double DEFAULT_R = 20; // R value used when re-setting clusters
^
3 warnings generated.
clang++ -mmacosx-version-min=10.13 -std=gnu++14 -dynamiclib -Wl,-headerpad_max_install_names -undefined dynamic_lookup -single_module -multiply_defined suppress -L/Library/Frameworks/R.framework/Resources/lib -L/usr/local/lib -o dexus.so dexus.o -F/Library/Frameworks/R.framework/.. -framework R -Wl,-framework -Wl,CoreFoundation
installing to /Users/biocbuild/bbs-3.13-bioc/meat/dexus.buildbin-libdir/00LOCK-dexus/00new/dexus/libs
** R
** data
** inst
** byte-compile and prepare package for lazy loading
** help
*** installing help indices
** building package indices
** installing vignettes
** testing if installed package can be loaded from temporary location
Warning: Package 'dexus' is deprecated and will be removed from Bioconductor
version 3.14
** checking absolute paths in shared objects and dynamic libraries
** testing if installed package can be loaded from final location
Warning: Package 'dexus' is deprecated and will be removed from Bioconductor
version 3.14
** testing if installed package keeps a record of temporary installation path
* DONE (dexus)
>>>>>>>
>>>>>>> FIXING LINKS FOR dexus.buildbin-libdir/dexus/libs/dexus.so
>>>>>>>
install_name_tool -change "/usr/local/lib/libgcc_s.1.dylib" "/Library/Frameworks/R.framework/Versions/4.1/Resources/lib/libgcc_s.1.dylib" "dexus.buildbin-libdir/dexus/libs/dexus.so"
install_name_tool -change "/usr/local/lib/libgfortran.5.dylib" "/Library/Frameworks/R.framework/Versions/4.1/Resources/lib/libgfortran.5.dylib" "dexus.buildbin-libdir/dexus/libs/dexus.so"
install_name_tool -change "/usr/local/lib/libquadmath.0.dylib" "/Library/Frameworks/R.framework/Versions/4.1/Resources/lib/libquadmath.0.dylib" "dexus.buildbin-libdir/dexus/libs/dexus.so"