| Back to Multiple platform build/check report for BioC 3.13 | 
 | 
This page was generated on 2021-10-15 15:06:02 -0400 (Fri, 15 Oct 2021).
| To the developers/maintainers of the derfinderHelper package: - Please allow up to 24 hours (and sometimes 48 hours) for your latest push to git@git.bioconductor.org:packages/derfinderHelper.git to reflect on this report. See How and When does the builder pull? When will my changes propagate? here for more information. - Make sure to use the following settings in order to reproduce any error or warning you see on this page. | 
| Package 482/2041 | Hostname | OS / Arch | INSTALL | BUILD | CHECK | BUILD BIN | ||||||||
| derfinderHelper 1.26.0  (landing page) Leonardo Collado-Torres 
 | nebbiolo1 | Linux (Ubuntu 20.04.2 LTS) / x86_64 | OK | OK | OK |  | ||||||||
| tokay2 | Windows Server 2012 R2 Standard / x64 | OK | OK | OK | OK |  | ||||||||
| machv2 | macOS 10.14.6 Mojave / x86_64 | OK | OK | OK | OK |  | ||||||||
| Package: derfinderHelper | 
| Version: 1.26.0 | 
| Command: C:\cygwin\bin\curl.exe -O http://155.52.207.165/BBS/3.13/bioc/src/contrib/derfinderHelper_1.26.0.tar.gz && rm -rf derfinderHelper.buildbin-libdir && mkdir derfinderHelper.buildbin-libdir && C:\Users\biocbuild\bbs-3.13-bioc\R\bin\R.exe CMD INSTALL --merge-multiarch --build --library=derfinderHelper.buildbin-libdir derfinderHelper_1.26.0.tar.gz && C:\Users\biocbuild\bbs-3.13-bioc\R\bin\R.exe CMD INSTALL derfinderHelper_1.26.0.zip && rm derfinderHelper_1.26.0.tar.gz derfinderHelper_1.26.0.zip | 
| StartedAt: 2021-10-14 07:43:13 -0400 (Thu, 14 Oct 2021) | 
| EndedAt: 2021-10-14 07:44:25 -0400 (Thu, 14 Oct 2021) | 
| EllapsedTime: 71.4 seconds | 
| RetCode: 0 | 
| Status: OK | 
##############################################################################
##############################################################################
###
### Running command:
###
###   C:\cygwin\bin\curl.exe -O http://155.52.207.165/BBS/3.13/bioc/src/contrib/derfinderHelper_1.26.0.tar.gz && rm -rf derfinderHelper.buildbin-libdir && mkdir derfinderHelper.buildbin-libdir && C:\Users\biocbuild\bbs-3.13-bioc\R\bin\R.exe CMD INSTALL --merge-multiarch --build --library=derfinderHelper.buildbin-libdir derfinderHelper_1.26.0.tar.gz && C:\Users\biocbuild\bbs-3.13-bioc\R\bin\R.exe CMD INSTALL derfinderHelper_1.26.0.zip && rm derfinderHelper_1.26.0.tar.gz derfinderHelper_1.26.0.zip
###
##############################################################################
##############################################################################
  % Total    % Received % Xferd  Average Speed   Time    Time     Time  Current
                                 Dload  Upload   Total   Spent    Left  Speed
  0     0    0     0    0     0      0      0 --:--:-- --:--:-- --:--:--     0
100 17952  100 17952    0     0   150k      0 --:--:-- --:--:-- --:--:--  152k
install for i386
* installing *source* package 'derfinderHelper' ...
** using staged installation
** R
** inst
** byte-compile and prepare package for lazy loading
** help
*** installing help indices
  converting help for package 'derfinderHelper'
    finding HTML links ... done
    derfinderHelper-package                 html  
    fstats.apply                            html  
** building package indices
** installing vignettes
** testing if installed package can be loaded from temporary location
** testing if installed package can be loaded from final location
** testing if installed package keeps a record of temporary installation path
install for x64
* installing *source* package 'derfinderHelper' ...
** testing if installed package can be loaded
* MD5 sums
packaged installation of 'derfinderHelper' as derfinderHelper_1.26.0.zip
* DONE (derfinderHelper)
* installing to library 'C:/Users/biocbuild/bbs-3.13-bioc/R/library'
package 'derfinderHelper' successfully unpacked and MD5 sums checked